Workbook
Name _20_SMI__11: [1]Tab_aux!$J$22
Name _Ant1: [2]Tab_aux!$D$32:$E$39
Name abs: [3]PARÀMETRES!$F$25
Name Adquisicion: [4]Rentings!$A$1:$A$3
Name amortización: [5]Tipos!$C$1
Name amr: [3]PARÀMETRES!$F$13
Name Ant: [1]Tab_aux!$D$21:$E$36
Name BASE_MAX: [1]Tab_aux!$G$4:$J$15
Name BI: '[6]preu anual'!$H$37
Name CC: [3]PARÀMETRES!$F$17
Name Combustible: [7]datos!$B$36:$C$38
Name cost_directe_nv_lot1: '[3]Cost Directe_nv proposta LOT 1'!$C$8:$V$39
Name cost_directe_rec_lot1: '[3]C. Directe rec_proposta LOT 1'!$G$4:$Z$49
Name cost_directe_rec_lot2: '[3]C. Directe rec_proposta LOT 2'!$G$10:$Z$64
Name DG: '[6]preu anual'!$H$35
Name dgif: [7]datos!$H$22
Name dies_conveni_lot2: '[3]Dies_Lot 2'!$K$21
Name dies248: [7]datos!$H$17
Name dies298: [7]datos!$H$16
Name dies365: [7]datos!$H$14
Name Envasos: [7]datos!$O$7
Name FORM: [7]datos!$O$6
Name fuentes: '[8]Distribución días SERVICIOS'!#REF!
Name fuentes: '[8]Distribución días SERVICIOS'!#REF!
Name gas: #REF!
Name gas: #REF!
Name gasoil: [5]Tipos!$C$41
Name gasolina: [5]Tipos!$C$42
Name GG: '[5]TABLA RESUMEN'!$R$4
Name Habitants: [3]PARÀMETRES!$F$7
Name Habitatges: [3]PARÀMETRES!$F$8
Name Header: #REF!
Name Header: #REF!
Name horas1: [4]Bmanual!$N$4:$P$24
Name horas10: '[4]Transporte cajas LV'!$N$4:$P$24
Name horas11: [4]SDF!$N$4:$P$24
Name horas12: #REF!
Name horas12: #REF!
Name horas13: #REF!
Name horas13: #REF!
Name hores_dia: [3]PARÀMETRES!$F$31
Name hores_dia_lot2: '[3]Conveni LOT 2'!$K$8
Name hores_dia2: [3]PARÀMETRES!$F$32
Name IPC: [1]Tab_aux!$I$24
Name iva: '[5]TABLA RESUMEN'!$S$4
Name IVA_2: [3]PARÀMETRES!$F$20
Name jardineria: '[9]Distribución días SERVICIOS'!$B$12:$I$16
Name jm: '[2]UNITARIOS PERSONAL DIA'!$N$6
Name K: '[10]Tabla Diario'!$A$3:$J$7
Name l: '[10]Tabla Diario'!$A$3:$J$7
Name limpieza_brigadas: '[4]Distribución días SERVICIOS'!$B$92:$I$96
Name limpieza_papeleras: '[8]Distribución días SERVICIOS'!#REF!
Name limpieza_papeleras: '[8]Distribución días SERVICIOS'!#REF!
Name limpieza_sumideros: '[8]Distribución días SERVICIOS'!#REF!
Name limpieza_sumideros: '[8]Distribución días SERVICIOS'!#REF!
Name mantenimiento_contenedores: '[9]Distribución días SERVICIOS'!#REF!
Name mantenimiento_contenedores: '[9]Distribución días SERVICIOS'!#REF!
Name mantenimiento_soterrados: '[8]Distribución días SERVICIOS'!#REF!
Name mantenimiento_soterrados: '[8]Distribución días SERVICIOS'!#REF!
Name Maq: '[4]BD Maq'!$B$2:$Z$216

Sheet PREUS UNITARIS PERSONAL
C10: FITXA 1. PREUS UNITARIS PERSONAL
C14: Categoria | D14: Sou brut anual (€) | E14: % antiguitat | F14: Cost antiguitat (€) | G14: % Seguretat Social | H14: Seguretat social (€) | I14: Cost empresa (€/any) | J14: % absentisme | K14: Absentisme (€) | L14: Cost jornada (€/jornada) | M14: Cost hora (€/hora)
C15: Peó dissabte
C16: Peó diumenge
C17: Peó festiu
C18: Tutor dissabte
C19: Tutor diumenge
C20: Tutor festiu
C21: Encarregat
C27: * Cada fila correspon a una categoria de personal que realitzi servei.
C29: **A més, per a totes les categories caldrà també presentar el cost amb nocturnitat encara que no sigui d'aplicació als serveis descrits al PCT.
C31: *** Les jornades han de ser de 7 hores

Sheet PREUS UNITARIS MAQ
C10: FITXA 2. PREUS UNITARIS MAQUINÀRIA
C14: Descripció | D14: Cost unitari | E14: Cost explotació (€/jornada) | F14: Cost hora (€/hora)
C27: * Cada fila correspon a una categoria de maquinària i/o estri.
C28: ** Les jornades han de ser de 7 hores

Sheet PREUS UNITARIS SERVEI
C6: FITXA 3. PREUS UNITARIS SERVEI
C9: Preu unitari escombrada manual dissabte | H9: Preu unitari escombrada manual diumenge | M9: Preu unitari escombrada manual festius
C11: Categoria | E11: Preu unitari jornada | H11: Categoria | J11: Preu unitari jornada | M11: Categoria | O11: Preu unitari jornada
C12: Peó dissabte | E12: =+'PREUS UNITARIS PERSONAL'!L15 -> 0 | H12: Peó diumenge | J12: =+'PREUS UNITARIS PERSONAL'!L16 -> 0 | M12: Peó festiu | O12: =+'PREUS UNITARIS PERSONAL'!L17 -> 0
C13: Estris i materials | H13: Estris i materials | M13: Estris i materials
C15: Cost jornada | H15: Cost jornada | M15: Cost jornada
C17: Despeses Generals | D17: % | H17: Despeses Generals | I17: % | M17: Despeses Generals | N17: %
C19: Benefici Industrial | D19: % | H19: Benefici Industrial | I19: % | M19: Benefici Industrial | N19: %
C21: TOTAL | E21: =+SUM(F15:F19) -> 0 | H21: TOTAL | J21: =+SUM(K15:K19) -> 0 | M21: TOTAL | O21: =+SUM(P15:P19) -> 0
C23: I.V.A. | D23: 0.1 | E23: =+E21*D23 -> 0 | H23: I.V.A. | I23: 0.1 | J23: =+J21*I23 -> 0 | M23: I.V.A. | N23: 0.1 | O23: =+O21*N23 -> 0
C25: TOTAL jornada IVA inclòs | E25: =+SUM(E21:E23) -> 0 | H25: TOTAL jornada IVA inclòs | J25: =+SUM(J21:J23) -> 0 | M25: TOTAL jornada IVA inclòs | O25: =+SUM(O21:O23) -> 0
C27: €/hora IVA inclòs | E27: =+SUM(E23:E25) -> 0 | H27: €/hora IVA inclòs | J27: =+SUM(J23:J25) -> 0 | M27: €/hora IVA inclòs | O27: =+SUM(O23:O25) -> 0
C30: Preu unitari tutor dissabte | H30: Preu unitari tutor diumenge | M30: Preu unitari tutor festiu
C32: Categoria | E32: Preu unitari jornada | H32: Categoria | J32: Preu unitari jornada | M32: Categoria | O32: Preu unitari jornada
C33: Tutor dissabte | E33: =+'PREUS UNITARIS PERSONAL'!L18 -> 0 | H33: Tutor diumenge | J33: =+'PREUS UNITARIS PERSONAL'!L19 -> 0 | M33: Tutor festiu | O33: =+'PREUS UNITARIS PERSONAL'!L20 -> 0
C35: Cost jornada | H35: Cost jornada | M35: Cost jornada
C37: Despeses Generals | D37: % | H37: Despeses Generals | I37: % | M37: Despeses Generals | N37: %
C39: Benefici Industrial | D39: % | H39: Benefici Industrial | I39: % | M39: Benefici Industrial | N39: %
C41: TOTAL | E41: =+SUM(F35:F39) -> 0 | H41: TOTAL | J41: =+SUM(K35:K39) -> 0 | M41: TOTAL | O41: =+SUM(P35:P39) -> 0
C43: I.V.A. | D43: 0.1 | E43: =+E41*D43 -> 0 | H43: I.V.A. | I43: 0.1 | J43: =+J41*I43 -> 0 | M43: I.V.A. | N43: 0.1 | O43: =+O41*N43 -> 0
C45: TOTAL jornada IVA inclòs | E45: =+SUM(E41:E43) -> 0 | H45: TOTAL jornada IVA inclòs | J45: =+SUM(J41:J43) -> 0 | M45: TOTAL jornada IVA inclòs | O45: =+SUM(O41:O43) -> 0
C47: €/hora IVA inclòs | E47: =+SUM(E43:E45) -> 0 | H47: €/hora IVA inclòs | J47: =+SUM(J43:J45) -> 0 | M47: €/hora IVA inclòs | O47: =+SUM(O43:O45) -> 0
C51: Preu unitari encarregat
C53: Categoria | E53: Preu unitari jornada
C54: Encarregat | E54: =+'PREUS UNITARIS PERSONAL'!L21 -> 0
C56: Cost jornada
C58: Despeses Generals | D58: %
C60: Benefici Industrial | D60: %
C62: TOTAL | E62: =+SUM(F56:F60) -> 0
C64: I.V.A. | D64: 0.1 | E64: =+E62*D64 -> 0
C66: TOTAL jornada IVA inclòs | E66: =+SUM(E62:E64) -> 0
C68: €/hora IVA inclòs | E68: =+SUM(E64:E66) -> 0
C72: NOTES.
C73: * Les jornades seran de 7 hores
C74: ** S'inclouen les taules mínimes a presentar. Els licitadors podran afegir les taules que considerin per a la seva oferta
C75: ***S'inclou a cada taula les despeses mínimes a tenir en compte. Els licitadors podran afegir les files que considerin necessàries per a la seva oferta

Sheet PRESSU contracte
B6: FITXA 4. PRESSUPOST DEL CONTRACTE
B12: Uts. | C12: Categoria | D12: Jornades | E12: Preu unitari (€/jornada) | F12: Import | G12: Total (€)
B13: COST VARIABLE
B14: Personal
B15: Personal Servei ordinari
B16: 49 | C16: Peó dissabte
B17: 49 | C17: Peó diumenge
B18: 49 | C18: Peó festiu
B19: 5 | C19: Tutor dissabte
B20: 5 | C20: Tutor diumenge
B21: 5 | C21: Tutor festiu
B22: Personal Servei no ordinari
B23: 1 | C23: Peó | D23: 470
B24: 1 | C24: Tutor | D24: 74
B25: Cost d'explotació
B26: Cost d'explotació Servei ordinari
B27: 49 | C27: Estris i materials | D27: 119
B28: 2 | C28: Vehicles | D28: 119
B29: Cost d'explotació Servei no ordinari
B30: 1 | C30: Estris i materials | D30: 470
B31: 1 | C31: Vehicles | D31: 74
B33: COST FIXE
B34: Personal
B35: 1 | C35: Encarregat | D35: 129
B36: 1 | C36: Vehicles | D36: 129
B37: Cost d'explotació
C38: Despeses instal·lacions fixes
C39: Vestuari
C40: Pla de millora | G40: 15000
E42: TOTAL COST SERVEI
E44: Despeses Generals | F44: %
E46: Benefici Industrial | F46: %
E48: TOTAL ANUAL
E50: I.V.A. | F50: 0.1
E52: TOTAL PRESSUPOST ANUAL
D54: PREU TOTAL PER 2 ANYS SENSE IVA*:
D55: IVA PELS 2 ANYS
D56: PREU TOTAL PER 2 ANYS AMB IVA*:
B59: NOTA: es poden afegir files per les categories que es considerin necessàries
B61: Les dades d'imports o jornades que apareixen a les fitxes no podran ser modificades a les ofertes dels licitadors.
