Workbook

Sheet INTRODUIR PREUS
A1: PROJECTE EXECUTIU DEL SISTEMA DE GENERACIÓ D'OMBRA ESTACIONAL SINGULAR AL | B1: PROJECTE EXECUTIU DEL SISTEMA DE GENERACIÓ D'OMBRA ESTACIONAL SINGULAR AL | C1: PROJECTE EXECUTIU DEL SISTEMA DE GENERACIÓ D'OMBRA ESTACIONAL SINGULAR AL | D1: PROJECTE EXECUTIU DEL SISTEMA DE GENERACIÓ D'OMBRA ESTACIONAL SINGULAR AL
A2: PASSEIG MARÍTIM, AL DISTRICTE DE SANT MARTÍ DE BARCELONA | B2: PASSEIG MARÍTIM, AL DISTRICTE DE SANT MARTÍ DE BARCELONA | C2: PASSEIG MARÍTIM, AL DISTRICTE DE SANT MARTÍ DE BARCELONA | D2: PASSEIG MARÍTIM, AL DISTRICTE DE SANT MARTÍ DE BARCELONA
A3: SETEMBRE 2026 | B3: SETEMBRE 2026 | C3: SETEMBRE 2026 | D3: SETEMBRE 2026
A6: Justificació d'elements | B6: Justificació d'elements | C6: Justificació d'elements | D6: Justificació d'elements
A8: Codi | B8: U.A. | C8: Descripció | D8: Preu
A10: Mà d'obra
A11: A01-FEOZ | B11: h | C11: Ajudant encofrador | D11: 0 | I11: INSTRUCCIONS
A12: A01-FEP0 | B12: h | C12: Ajudant ferrallista | D12: 0
A13: A01-FEP1 | B13: h | C13: Ajudant soldador | D13: 0 | I13: INTRODUIR ELS PREUS UNITARIS OFERTATS
A14: A01-FEP3 | B14: h | C14: Ajudant col·locador | D14: 0 | I14: EN LES CEL·LES AMB FONS GROC
A15: A01-FEP9 | B15: h | C15: Ajudant pintor | D15: 0
A16: A01-FEPD | B16: h | C16: Ajudant electricista | D16: 0
A17: A01-FEPJ | B17: h | C17: Ajudant jardiner | D17: 0 | I17: ATENCIÓ
A18: A0D-0007 | B18: h | C18: Manobre | D18: 0
A19: A0E-000A | B19: h | C19: Manobre especialista | D19: 0 | I19: EL PRESSUPOST D'EXECUCIÓ MATERIAL OFERTAT
A20: A0F-000D | B20: h | C20: Oficial 1a col·locador | D20: 0 | I20: NO POT SER SUPERIOR A 610.258,63 €
A21: A0F-000E | B21: h | C21: Oficial 1a electricista | D21: 0
A22: A0F-000F | B22: h | C22: Oficial 1a encofrador | D22: 0
A23: A0F-000I | B23: h | C23: Oficial 1a ferrallista | D23: 0
A24: A0F-000M | B24: h | C24: Oficial 1a jardiner | D24: 0
A25: A0F-000R | B25: h | C25: Oficial 1a muntador | D25: 0
A26: A0F-000S | B26: h | C26: Oficial 1a d'obra pública | D26: 0
A27: A0F-000T | B27: h | C27: Oficial 1a paleta | D27: 0 | I27: ATENCIÓ
A28: A0F-000V | B28: h | C28: Oficial 1a pintor | D28: 0
A29: A0F-000Y | B29: h | C29: Oficial 1a soldador | D29: 0 | I29: EL PRESSUPOST TOTAL OFERTAT SUPERA ELS 610.258,63 €
A30: A0G-0022 | B30: h | C30: Oficial 2a jardiner | D30: 0 | I30: OFERTA NO VÀLIDA
A31: B125-HR3S | B31: u | C31: Jornada de treball d'equip de topografia consistent en la presa de dades en camp, posterior tractament de les dades en gabinet i bolcat dels resultats en format paper o digital, inclosos totes les eines i materials necesaris | D31: 0
A32: Maquinària
A33: C111-0056 | B33: h | C33: Compressor amb dos martells pneumàtics | D33: 0
A34: C131-005G | B34: h | C34: Corró vibratori autopropulsat, de 12 a 14 t | D34: 0
A35: C135-00LX | B35: h | C35: Miniexcavadora de gasoil, de 34 kW, sobre cadenes de 2 a 5,9 t | D35: 0
A36: C136-00F4 | B36: h | C36: Motoanivelladora petita | D36: 0
A37: C13A-00FQ | B37: h | C37: Safata vibrant combustible amb placa de 60 cm | D37: 0
A38: C13C-00LP | B38: h | C38: Retroexcavadora sobre pneumàtics de 8 a 10 t | D38: 0
A39: C151-002Z | B39: h | C39: Camió cisterna de 8 m3 | D39: 0
A40: C154-003N | B40: h | C40: Camió per a transport de 7 t | D40: 0 | I40: ATENCIÓ
A41: C172-003J | B41: h | C41: Camió amb bomba de formigonar | D41: 0
A42: C176-00FX | B42: h | C42: Formigonera de 165 l | D42: 0 | I42: EL PRESSUPOST TOTAL OFERTAT SUPERA ELS 610.258,63 €
A43: C206-00DW | B43: h | C43: Equip i elements auxiliars per a soldadura elèctrica | D43: 0 | I43: OFERTA NO VÀLIDA
A44: CL40AAAA | B44: h | C44: Plataforma elevadora telescòpica articulada, autopropulsada amb motor de gasoil de 20 m d'alçària màxima de treball i 9,8 en horitzontal, de 227 kg de càrrega útil, de dimensions 700x245x245 cm en repós i 10886 kg de pes buida, amb cistella de dimensions 150x75 cm | D44: 0
A45: CRE0-00C0 | B45: h | C45: Motoserra | D45: 0
A46: Material
A47: B011-05ME | B47: m3 | C47: Aigua | D47: 0
A48: B03C-05NM | B48: m3 | C48: Sauló sense garbellar | D48: 0
A49: B067-2A9U | B49: m3 | C49: Formigó de neteja, amb una dosificació de 150 kg/m3 de ciment, consistència tova i grandària màxima del granulat 10 mm, HL-150 kg/m3/B/10 | D49: 0
A50: B069-2A9P | B50: m3 | C50: Formigó d'ús no estructural HNE-15/P/40 de resistència a compressió 15 N/mm2, consistència plàstica i grandària màxima del granulat 40 mm | D50: 0
A51: B06F2-AB01 | B51: M3 | C51: Formigó per armar HA - 30 / F / 10 / xC2+XA1 amb una quantitat de ciment de 300 kg/m3 i relació aigua ciment =< 0.6 | D51: 0
A52: B077-12V5 | B52: kg | C52: Morter expansiu | D52: 0
A53: B07L-1PY6 | B53: t | C53: Morter per a ram de paleta, classe M 5 (5 N/mm2), en sacs, de designació (G) segons norma UNE-EN 998-2 | D53: 0
A54: B0AJ-06WD | B54: u | C54: Tensor intermedi per a roscar d'acer de 20 mm | D54: 0 | I54: ATENCIÓ
A55: B0AK-07AS | B55: kg | C55: Clau acer | D55: 0
A56: B0AM-078F | B56: kg | C56: Filferro recuit d'1,3 mm | D56: 0 | I56: EL PRESSUPOST TOTAL OFERTAT SUPERA ELS 610.258,63 €
A57: B0AM-078G | B57: kg | C57: Filferro recuit de 3 mm | D57: 0 | I57: OFERTA NO VÀLIDA
A58: B0B6-1071 | B58: kg | C58: Acer b/corrug. Obra man. Taller B500SD | D58: =(D12*0.005)*1.01+(D23*0.005)*1.01+(D56*0.0102)+(D59*1.05) -> 0
A59: B0B7-106S | B59: kg | C59: Acer en barres corrugades B500SD de límit elàstic >= 500 N/mm2 | D59: 0
A60: B0D21-07OY | B60: m | C60: Tauló de fusta de pi per a 10 usos | D60: 0
A61: B0D31-07P4 | B61: m3 | C61: Llata de fusta de pi | D61: 0
A62: B0DZ1-0ZLZ | B62: l | C62: Desencofrant | D62: 0
A63: B147-AB01 | B63: m | C63: Cable d'acer inoxidable 316, de 12 mm de diàmetre i composició 7x19+0 | D63: 0
A64: B2RA-28U1 | B64: t | C64: Disposició controlada de residus no perillosos de vegetals bruts barrejats amb terra o altres residus no vegetals amb una densitat 0,75 t/m3 procedents de poda o sega (LER codi 20 02 01), en planta de compostage | D64: 0
A65: B2RA-28US | B65: t | C65: Disposició controlada de residus inerts de barrejats amb una densitat 1,0 t/m3 procedents de construcció o demolició (LER codi 17 01 07), en dipòsit autoritzat, inclòs el cànon sobre la disposició controlada dels residus de la construcció, segons la Llei 8/2008 | D65: 0
A66: B2RA-28V6 | B66: m3 | C66: Disposició controlada en dipòsit autoritzat de residus de terra inerts amb una densitat 1,6 t/m3, procedents d'excavació, amb codi 17 05 04 segons la Llista Europea de Residus | D66: 0
A67: B44Z-AB2Z | B67: kg | C67: Acer S355JR segons UNE-EN 10025-2, format per peça simple, en perfils laminats en calent sèrie L, LD, T, rodó, quadrats, rectangular i planxa, tallat a mida i galvanitzat | D67: 0
A68: B891-AB01 | B68: kg | C68: recobriment termoplastic de copolimer de polietilè tipus PPA 525, aplicat a fàbrica per immersió en llit fluidificat o bé per projecció rotacional, amb acabat texturat color gris antracita o color a escollir per la df, amb un gruix nominal de pel.lícula seca de 300 µm. S'inclou la preparació del parament amb granallat fins assolir un grau de neteja Sa 2½ segons norma UNE-EN ISO 8501-1, i l'aplicació d'una imprimació líquida d'adherència especial metall-poliamida | D68: 0 | I68: ATENCIÓ
A69: B898-2MHX | B69: l | C69: Pintura epoxi bicomponent, per a sistemes de protecció de l'acer | D69: 0
A70: B898-2MHY | B70: l | C70: Pintura de poliuretà bicomponent, per a sistemes de protecció de l'acer | D70: 0 | I70: EL PRESSUPOST TOTAL OFERTAT SUPERA ELS 610.258,63 €
A71: B962-0GQU | B71: m | C71: Peça recta de formigó per a vorades, monocapa, amb secció normalitzada per a vianants A4 20x8 cm, segons UNE 127340, de classe climàtica B, classe resistent a l'abrasió H i classe resistent a flexió S (R-3,5 MPa) segons UNE-EN 1340 | D71: 0 | I71: OFERTA NO VÀLIDA
A72: BAVM-AB01 | B72: m2 | C72: Protecció solar de membrana tèxtil microperforada, fabricada amb fil de polièster d'alta tenacitat recobert de PVC i preestirat, amb un factor d'obertura aproximat del 4%, pes nominal entre 400 i 450 g/m² i gruix de 0,45 mm. Amb una resistència a tracció mínima de 220/220 daN/5 cm (urdimbre/trama), elevada estabilitat dimensional, resistència als raigs UV, als agents atmosfèrics i al desenvolupament de floridures, amb tractament superficial antiembrutiment. Classificació de reacció al foc Euroclasse B-s2,d0 segons EN 13501-1. La membrana serà patronada amb butxaca perimetral i plaques d'ancoratge a les cantonades. Color a definir per la Direcció Facultativa. La instal·lació inclou totes les soldadures d'alta freqüència, reforços perimetrals, peces de fixació, cablejat de perímetre d10 d'acer inox AISI316 i accessoris necessaris per garantir la correcta tensió i funcionament de la membrana. | D72: 0
A73: BD1A-AB01 | B73: m | C73: Tub de PVC-U de paret massissa, àrea d'aplicació B segons norma UNE-EN 1329-1, de DN 100 mm i de llargària 1 m, classe de reacció al foc B-s1, d0 segons norma UNE-EN 13501-1, per a encolar | D73: 0
A74: BHGW-H5YX | B74: u | C74: Petit material auxiliar de connexió i muntatge per a armaris de protecció i control d'enllumenat públic | D74: 0
A75: BJS1-VKLQ | B75: u | C75: Accessoris i petit material per a reg | D75: 0
A76: BOAJ-AB2D | B76: u | C76: Terminal toggle d'acer inoxidable per a cable de d12 | D76: 0
A77: BR32-21DG | B77: m3 | C77: Compost de classe I, d'origen vegetal, segons NTJ 05C, subministrat en sacs de 0,8 m3 | D77: 0
A78: BR4F8-2612 | B78: u | C78: Myoporum laetum en test 14 cm | D78: 0 | I78: ATENCIÓ
A79: BR4GI-2671 | B79: u | C79: Pittosporum tobira d'alçària de 40 a 60 cm, en contenidor de 3 l | D79: 0
A80: Partides d'obra i conjunts | I80: EL PRESSUPOST TOTAL OFERTAT SUPERA ELS 610.258,63 €
A81: PAVL-ABMU | B81: u | C81: Elaboració de mock-up a l'emplaçament definitiu | D81: 0 | I81: OFERTA NO VÀLIDA
A82: PAVL-ABRG | B82: m2 | C82: Protecció solar de membrana textil microperforada, , fabricada amb fil de polièster d'alta tenacitat | D82: =((D14*0.094)*1.025+(D20*0.094)*1.025+(D72*1)+(D44*0.188))*1.1045 -> 0

Sheet OFERTA RESULTANT
E1: PROJECTE EXECUTIU DEL SISTEMA DE GENERACIÓ D'OMBRA ESTACIONAL SINGULAR AL | F1: PROJECTE EXECUTIU DEL SISTEMA DE GENERACIÓ D'OMBRA ESTACIONAL SINGULAR AL | G1: PROJECTE EXECUTIU DEL SISTEMA DE GENERACIÓ D'OMBRA ESTACIONAL SINGULAR AL | H1: PROJECTE EXECUTIU DEL SISTEMA DE GENERACIÓ D'OMBRA ESTACIONAL SINGULAR AL
E2: PASSEIG MARÍTIM, AL DISTRICTE DE SANT MARTÍ DE BARCELONA | F2: PASSEIG MARÍTIM, AL DISTRICTE DE SANT MARTÍ DE BARCELONA | G2: PASSEIG MARÍTIM, AL DISTRICTE DE SANT MARTÍ DE BARCELONA | H2: PASSEIG MARÍTIM, AL DISTRICTE DE SANT MARTÍ DE BARCELONA
E3: SETEMBRE 2026 | F3: SETEMBRE 2026 | G3: SETEMBRE 2026 | H3: SETEMBRE 2026
E6: PRESSUPOST
F8: Preu | G8: Amidament | H8: Import
C10: Obra | D10: 01 | E10: PressupostB2521_04
C11: Capítol | D11: 10 | E11: TREBALLS PRINCIPALS
C12: Titol 3 | D12: 01 | E12: Treballs previs i enderrocs
A14: 01.10.01 | B14: 1 | C14: P2148-49L5 | D14: m | E14: Demolició de vorada, inclòs la base, col·locada sobre formigó, amb compressor i càrrega manual i mecànica de runa sobre camió o contenidor | F14: =(('INTRODUIR PREUS'!D19*0.1)*1.015+('INTRODUIR PREUS'!D33*0.05)+('INTRODUIR PREUS'!D38*0.024))*1.1045 -> 0 | G14: 58.05 | H14: =ROUND(ROUND(F14,2)*ROUND(G14,3),2) -> 0
A15: 01.10.01 | B15: 2 | C15: P21R0-ABGE | D15: u | E15: Retirada d'arbusts de petit port amb mitjans manuals i càrrega sobre camió | F15: =(('INTRODUIR PREUS'!D17*0.5)*1.015+('INTRODUIR PREUS'!D24*0.5)*1.015+('INTRODUIR PREUS'!D45*0.5))*1.1045 -> 0 | G15: 36 | H15: =ROUND(ROUND(F15,2)*ROUND(G15,3),2) -> 0 | M15: ATENCIÓ
A16: 01.10.01 | B16: 3 | C16: PHQE-AB01 | D16: u | E16: Modificacions en la instal.lació d'enllumenat existent per a l'adaptació a la geometria de la nova estructura. Inclou el petit material necessari per a la correcta execució de les feines | F16: =(('INTRODUIR PREUS'!D16*16)+('INTRODUIR PREUS'!D21*16)+('INTRODUIR PREUS'!D74*3))*1.1045 -> 0 | G16: 1 | H16: =ROUND(ROUND(F16,2)*ROUND(G16,3),2) -> 0
A17: 01.10.01 | B17: 4 | C17: P21GL-AB01 | D17: u | E17: Retirada d'instal.lació de reg existent, amb degoters, afectada per la nova fonamentació, i posterior reposició al finalitzar l'obra. La partida inclou el petit material necessari per a fer la intervenció necessària. | F17: =(('INTRODUIR PREUS'!D17*16)+('INTRODUIR PREUS'!D24*16)+('INTRODUIR PREUS'!D75*300))*1.1045 -> 0 | G17: 1 | H17: =ROUND(ROUND(F17,2)*ROUND(G17,3),2) -> 0 | M17: EL PRESSUPOST TOTAL OFERTAT SUPERA ELS 610.258,63 €
A18: 01.10.01 | B18: 5 | C18: P21Q2-ABXU | D18: u | E18: Retirada d'aparcabicis d'acer, per a posterior reaprofitament, enderroc de daus de formigó, i càrrega manual i mecànica de l'equipament i transport a magatzem municipal | F18: =(('INTRODUIR PREUS'!D19*1.015)+('INTRODUIR PREUS'!D33*0.125))*1.1045 -> 0 | G18: 5 | H18: =ROUND(ROUND(F18,2)*ROUND(G18,3),2) -> 0 | M18: OFERTA NO VÀLIDA
E19: TOTAL | H19: =SUM(H14:H18) -> 0
C21: Obra | D21: 01 | E21: PressupostB2521_04
C22: Capítol | D22: 10 | E22: TREBALLS PRINCIPALS
C23: Titol 3 | D23: 02 | E23: Moviment de terres
A25: 01.10.02 | B25: 1 | C25: P221K-TG43 | D25: m3 | E25: Excavació de cala, per a localització de serveis, amb mitjans manuals i reblert i compactació de terres seleccionades de la pròpia excavació, sense pedres | F25: =(('INTRODUIR PREUS'!D18*4)*1.015+('INTRODUIR PREUS'!D37*0.5))*1.1045 -> 0 | G25: 2.16 | H25: =ROUND(ROUND(F25,2)*ROUND(G25,3),2) -> 0
A26: 01.10.02 | B26: 2 | C26: P221B-EL7O | D26: m3 | E26: Excavació de rasa i pou de fins a 4 m de fondària, en terreny compacte (SPT 20-50), realitzada amb miniexcavadora de combustible | F26: =('INTRODUIR PREUS'!D35*0.211)*1.1045 -> 0 | G26: 264.36 | H26: =ROUND(ROUND(F26,2)*ROUND(G26,3),2) -> 0
A27: 01.10.02 | B27: 3 | C27: P221B-I1WO | D27: m3 | E27: Excavació de rasa i pou de fins a 2 m de fondària, en terreny compacte (SPT 20-50), realitzada amb mitjans manuals i amb les terres deixades a la vora, en entorn urbà sense dificultat de mobilitat, en voreres > 5 m d'amplària o calçada/plataforma única > 12 m d'amplària, amb afectació per serveis o elements de mobiliari urbà, en actuacions de 0.2 a 2 m3 | F27: ='INTRODUIR PREUS'!D18*7.08754*1.015*1.1045 -> 0 | G27: 10 | H27: =ROUND(ROUND(F27,2)*ROUND(G27,3),2) -> 0
E28: TOTAL | H28: =SUM(H25:H27) -> 0
C30: Obra | D30: 01 | E30: PressupostB2521_04
C31: Capítol | D31: 10 | E31: TREBALLS PRINCIPALS
C32: Titol 3 | D32: 03 | E32: Fonamentació
A34: 01.10.03 | B34: 1 | C34: P3Z3-D53K | D34: m2 | E34: Capa de neteja i anivellament 10 cm de gruix amb Formigó de neteja, amb una dosificació de 150 kg/m3 de ciment, consistència tova i grandària màxima del granulat 10 mm, HL-150 kg/m3/B/10, abocat des de camió | F34: =(('INTRODUIR PREUS'!D18*0.2)*1.015+('INTRODUIR PREUS'!D27*0.1)*1.015+('INTRODUIR PREUS'!D49*0.1075))*1.1045 -> 0 | G34: 264.36 | H34: =ROUND(ROUND(F34,2)*ROUND(G34,3),2) -> 0
A35: 01.10.03 | B35: 2 | C35: P310-AB1P | D35: kg | E35: Armadura de rases i pous AP500 SD d'Acer en barres corrugades B500SD de límit elàstic >= 500 N/mm2, prefabricat a taller | F35: =(('INTRODUIR PREUS'!D12*0.008)*1.015+('INTRODUIR PREUS'!D23*0.006)*1.015+('INTRODUIR PREUS'!D56*0.005)+('INTRODUIR PREUS'!D58*1))*1.1045 -> 0 | G35: 14053.16 | H35: =ROUND(ROUND(F35,2)*ROUND(G35,3),2) -> 0
A36: 01.10.03 | B36: 3 | C36: PY30-AB5B | D36: m | E36: Formació de passamurs amb tub de PVC de 90 mm i d'1 m de llargària, com a màxim | F36: =(('INTRODUIR PREUS'!D27*0.1)*1.015+('INTRODUIR PREUS'!D73))*1.1045 -> 0 | G36: 100 | H36: =ROUND(ROUND(F36,2)*ROUND(G36,3),2) -> 0
A37: 01.10.03 | B37: 4 | C37: P311-DQ6S | D37: m2 | E37: Encofrat amb taulons de fusta per a rases i pous de fonaments | F37: =(('INTRODUIR PREUS'!D11*0.35)*1.015+('INTRODUIR PREUS'!D22*0.35)*1.015+('INTRODUIR PREUS'!D55*0.1501)+('INTRODUIR PREUS'!D57*0.102)+('INTRODUIR PREUS'!D60*6.6)+('INTRODUIR PREUS'!D61*0.00437)+('INTRODUIR PREUS'!D62*0.03))*1.1045 -> 0 | G37: 528.72 | H37: =ROUND(ROUND(F37,2)*ROUND(G37,3),2) -> 0
A38: 01.10.03 | B38: 5 | C38: P312-ABVP | D38: m3 | E38: Formigonament de rases i pous, amb formigó per armar HA - 30 / F / 10 / xC2+xA1 amb una quantitat de ciment de 300 kg/m3 i relació aigua ciment =< 0.6, abocat amb bomba | F38: =(('INTRODUIR PREUS'!D18*0.3)*1.015+('INTRODUIR PREUS'!D27*0.075)*1.015+('INTRODUIR PREUS'!D51*1.1)+('INTRODUIR PREUS'!D41*0.1))*1.1045 -> 0 | G38: 158.616 | H38: =ROUND(ROUND(F38,2)*ROUND(G38,3),2) -> 0
E39: TOTAL | H39: =SUM(H34:H38) -> 0
C41: Obra | D41: 01 | E41: PressupostB2521_04
C42: Capítol | D42: 10 | E42: TREBALLS PRINCIPALS
C43: Titol 3 | D43: 04 | E43: Estructura
A45: 01.10.04 | B45: 1 | C45: P44C-AB3R | D45: u | E45: Pilar de 6.67m fins a 7m d'alçada d'acer S355JR segons UNE-EN 10025-2, galvanitzat en calent, format per placa base de 550x550x22 ancorada amb 12 barres roscades Ø25, amb enrigidors de 130x200x10, doble plantilla de 550x550x10, pilar de Ø273.16 (o equivalent de Ø300mm), i tapa superior del pilar de 10mm, i amb orelletes al cap per fixar el cablejat; treballat a taller, col·locat a l'obra amb cargols | F45: =(('INTRODUIR PREUS'!D13*9.5)*1.025+('INTRODUIR PREUS'!D29*9.5)*1.025+('INTRODUIR PREUS'!D67*911.8)+('INTRODUIR PREUS'!D43*9.5))*1.1045 -> 0 | G45: 26 | H45: =ROUND(ROUND(F45,2)*ROUND(G45,3),2) -> 0 | M45: ATENCIÓ
A46: 01.10.04 | B46: 2 | C46: P44C-AB4R | D46: u | E46: Pilar de 5.8m fins a 6m d'alçada d'acer S355JR segons UNE-EN 10025-2, galvanitzat en calent, format per placa base de 550x550x22 ancorada amb 12 barres roscades Ø25, amb enrigidors de 130x200x10, doble plantilla de 550x550x10, pilar de Ø273.16 (o equivalent de Ø300mm), tapa superior del pilar de 10mm, i amb orelletes al cap per fixar el cablejat; treballat a taller i col·locat a l'obra amb soldadura i cargols | F46: =(('INTRODUIR PREUS'!D13*9.5)*1.025+('INTRODUIR PREUS'!D29*9.5)*1.025+('INTRODUIR PREUS'!D67*805.73)+('INTRODUIR PREUS'!D43*9.5))*1.1045 -> 0 | G46: 22 | H46: =ROUND(ROUND(F46,2)*ROUND(G46,3),2) -> 0
A47: 01.10.04 | B47: 3 | C47: P44C-AB4S | D47: u | E47: Pilar de 5.74m fins a 6m d'alçada d'acer S355JR segons UNE-EN 10025-2, galvanitzat en calent, format per placa base de 550x550x22 ancorada amb 12 barres roscades Ø25, amb enrigidors de 130x200x10, doble plantilla de 550x550x10, pilar de Ø273.16 (o equivalent de Ø300mm), tapa superior del pilar de 10mm, i amb orelletes al cap per fixar el cablejat; treballat a taller i col·locat a l'obra amb soldadura i cargols | F47: =(('INTRODUIR PREUS'!D13*9.5)*1.025+('INTRODUIR PREUS'!D29*9.5)*1.025+('INTRODUIR PREUS'!D67*805)+('INTRODUIR PREUS'!D43*9.5))*1.1045 -> 0 | G47: 4 | H47: =ROUND(ROUND(F47,2)*ROUND(G47,3),2) -> 0 | M47: EL PRESSUPOST TOTAL OFERTAT SUPERA ELS 610.258,63 €
A48: 01.10.04 | B48: 4 | C48: P44C-AB5R | D48: u | E48: Màstil flotant de 3.11m fins a 3.5m d'alçada d'acer S355JR segons UNE-EN 10025-2, galvanitzat en calent, de Ø76.5, amb orelletes als extrems per fixar el cablejat; treballat a taller i col·locat a l'obra flotant tensat pel cablejat. | F48: =(('INTRODUIR PREUS'!D13*0.35)*1.025+('INTRODUIR PREUS'!D29*0.35)*1.025+('INTRODUIR PREUS'!D67*28.7)+('INTRODUIR PREUS'!D43*0.35)+('INTRODUIR PREUS'!D44*0.35))*1.1045 -> 0 | G48: 22 | H48: =ROUND(ROUND(F48,2)*ROUND(G48,3),2) -> 0 | M48: OFERTA NO VÀLIDA
A49: 01.10.04 | B49: 5 | C49: P4Z5-HAM1 | D49: dm3 | E49: Reblert de recolzaments estructurals, amb morter sense retracció de ciment i sorra | F49: =(('INTRODUIR PREUS'!D18*0.005)*1.015+('INTRODUIR PREUS'!D27*0.005)*1.015+('INTRODUIR PREUS'!D52*2.02))*1.1045 -> 0 | G49: 786.5 | H49: =ROUND(ROUND(F49,2)*ROUND(G49,3),2) -> 0
A50: 01.10.04 | B50: 6 | C50: P8B2-G2F5 | D50: m2 | E50: Pintat d'estructures d'acer amb sistemes de protecció amb grau de durabilitat H, per a classe d'exposició C5-I/M, segons UNE-EN ISO 12944-1, format per 3 capes, capa d'imprimació de 125 µm, capa intermèdia de 125 µm, i capa d'acabat de 70 µm, amb un gruix total de protecció de 320 µm, aplicat de forma manual | F50: =(('INTRODUIR PREUS'!D15*0.0741)*1.015+('INTRODUIR PREUS'!D28*0.741)*1.015+('INTRODUIR PREUS'!D69*0.32)+('INTRODUIR PREUS'!D70*0.154))*1.1045 -> 0 | G50: 377.75 | H50: =ROUND(ROUND(F50,2)*ROUND(G50,3),2) -> 0
A51: 01.10.04 | B51: 7 | C51: P89C-AB5P | D51: m2 | E51: Protecció d'elements metàl.lics a un ambient d'alta agressivitat mitjançant recobriment termoplastic de copolimer de polietilè tipus PPA 525, aplicat a fàbrica per immersió en llit fluidificat o bé per projecció rotacional, amb acabat texturat color gris antracita o color a escollir per la df, amb un gruix nominal de pel.lícula seca de 300 µm. S'inclou la preparació del parament amb granallat fins assolir un grau de neteja Sa 2½ segons norma UNE-EN ISO 8501-1, i l'aplicació d'una imprimació líquida d'adherència especial metall-poliamida | F51: =(('INTRODUIR PREUS'!D15*0.2)*1.015+('INTRODUIR PREUS'!D28*0.6)*1.015+('INTRODUIR PREUS'!D68*0.38))*1.1045 -> 0 | G51: 44.564 | H51: =ROUND(ROUND(F51,2)*ROUND(G51,3),2) -> 0
E52: TOTAL | H52: =SUM(H45:H51) -> 0
C54: Obra | D54: 01 | E54: PressupostB2521_04
C55: Capítol | D55: 10 | E55: TREBALLS PRINCIPALS
C56: Titol 3 | D56: 05 | E56: Tensoestructura
A58: 01.10.05 | B58: 1 | C58: PAVL-ABRG | D58: m2 | E58: Protecció solar de membrana tèxtil microperforada, fabricada amb fil de polièster d'alta tenacitat recobert de PVC i preestirat, amb un factor d'obertura aproximat del 4%, pes nominal entre 400 i 450 g/m² i gruix de 0,45 mm. Amb una resistència a tracció mínima de 220/220 daN/5 cm (urdimbre/trama), elevada estabilitat dimensional, resistència als raigs UV, als agents atmosfèrics i al desenvolupament de floridures, amb tractament superficial antiembrutiment. Classificació de reacció al foc Euroclasse B-s2,d0 segons EN 13501-1. La membrana serà patronada amb butxaca perimetral i plaques d'ancoratge a les cantonades. Color a definir per la Direcció Facultativa. La instal·lació inclou totes les soldadures d'alta freqüència, reforços perimetrals, peces de fixació, cablejat de perímetre d10 d'acer inox AISI316 i accessoris necessaris per garantir la correcta tensió i funcionament de la membrana. | F58: =(('INTRODUIR PREUS'!D14*0.094)*1.025+('INTRODUIR PREUS'!D20*0.094)*1.025+('INTRODUIR PREUS'!D72*1)+('INTRODUIR PREUS'!D44*0.188))*1.1045 -> 0 | G58: 1024.8 | H58: =ROUND(ROUND(F58,2)*ROUND(G58,3),2) -> 0
A59: 01.10.05 | B59: 2 | C59: PB70-AB70 | D59: m | E59: Cable d'acer inoxidable AISI 316, de 12 mm de diàmetre classe 1570, amb terminals d'acer inoxidable AISI316 tipus toggle a un extrem i toggle + tensor a l'altre extrem. Inclou el retesat dels cables 15 dies després de la seva instal.lació | F59: =(('INTRODUIR PREUS'!D25*0.2)*1.035+('INTRODUIR PREUS'!D54*0.156)+('INTRODUIR PREUS'!D63*1.05)+('INTRODUIR PREUS'!D76*0.313)+('INTRODUIR PREUS'!D44*0.2))*1.1045 -> 0 | G59: 1144 | H59: =ROUND(ROUND(F59,2)*ROUND(G59,3),2) -> 0
E60: TOTAL | H60: =SUM(H58:H59) -> 0
C62: Obra | D62: 01 | E62: PressupostB2521_04
C63: Capítol | D63: 10 | E63: TREBALLS PRINCIPALS
C64: Titol 3 | D64: 06 | E64: Paviments
A66: 01.10.06 | B66: 1 | C66: P9A2-DN4X | D66: m3 | E66: Paviment de sauló, amb estesa i piconatge del material al 95 % del PM | F66: =(('INTRODUIR PREUS'!D18*0.05)*1.015+('INTRODUIR PREUS'!D47*0.05)+('INTRODUIR PREUS'!D48*1.15)+('INTRODUIR PREUS'!D34*0.04)+('INTRODUIR PREUS'!D36*0.035)+('INTRODUIR PREUS'!D39*0.025))*1.1045 -> 0 | G66: 90.372 | H66: =ROUND(ROUND(F66,2)*ROUND(G66,3),2) -> 0
A67: 01.10.06 | B67: 2 | C67: P967-160O7 | D67: m | E67: Vorada feta amb peça recta de formigó per a vorades, monocapa, amb secció normalitzada per a vianants A4 20x8 cm, segons UNE 127340, de classe climàtica B, classe resistent a l'abrasió H i classe resistent a flexió S (R-3,5 MPa) segons UNE-EN 1340, col·locada sobre base de formigó d'ús no estructural HNE-15/P/40 de 10 a 20 cm d'alçària, i rejuntat amb morter per a ram de paleta | F67: =(('INTRODUIR PREUS'!D18*0.45)*1.015+('INTRODUIR PREUS'!D19*0.00531)*1.015+('INTRODUIR PREUS'!D26*0.22)*1.015+('INTRODUIR PREUS'!D47*0.00095)+('INTRODUIR PREUS'!D50*0.0616)+('INTRODUIR PREUS'!D53*0.00781)+('INTRODUIR PREUS'!D71*1.05)+('INTRODUIR PREUS'!D42*0.00531))*1.1045 -> 0 | G67: 43.85 | H67: =ROUND(ROUND(F67,2)*ROUND(G67,3),2) -> 0
E68: TOTAL | H68: =SUM(H66:H67) -> 0
C70: Obra | D70: 01 | E70: PressupostB2521_04
C71: Capítol | D71: 10 | E71: TREBALLS PRINCIPALS
C72: Titol 3 | D72: 07 | E72: Gestió de residus
A74: 01.10.07 | B74: 1 | C74: P2R3-HIGX | D74: m3 | E74: Transport de terres no contaminades a obra exterior o centre de valorització, amb camió de 7 t i temps d'espera per a la càrrega amb mitjans mecànics, amb un recorregut de més de 5 i fins a 10 km | F74: =('INTRODUIR PREUS'!D40*0.153)*1.1045 -> 0 | G74: 317.232 | H74: =ROUND(ROUND(F74,2)*ROUND(G74,3),2) -> 0 | M74: ATENCIÓ
A75: 01.10.07 | B75: 2 | C75: P2R5-DT0K | D75: m3 | E75: Transport de residus a instal·lació autoritzada de gestió de residus, amb camió de 7 t i temps d'espera per a la càrrega a màquina, amb un recorregut de més de 5 i fins a 10 km | F75: =('INTRODUIR PREUS'!D40*0.202)*1.1045 -> 0 | G75: 27.786 | H75: =ROUND(ROUND(F75,2)*ROUND(G75,3),2) -> 0
A76: 01.10.07 | B76: 3 | C76: P2RA-EU7L | D76: m3 | E76: Disposició controlada en dipòsit autoritzat de residus de terra inerts amb una densitat 1,6 t/m3, procedents d'excavació, amb codi 17 05 04 segons la Llista Europea de Residus | F76: =('INTRODUIR PREUS'!D66)*1.1045 -> 0 | G76: 317.232 | H76: =ROUND(ROUND(F76,2)*ROUND(G76,3),2) -> 0 | M76: EL PRESSUPOST TOTAL OFERTAT SUPERA ELS 610.258,63 €
A77: 01.10.07 | B77: 4 | C77: P2RA-IQFO | D77: m3 | E77: Disposició controlada de residus inerts de barrejats amb una densitat 1,0 t/m3 procedents de construcció o demolició (LER codi 17 01 07), en dipòsit autoritzat, inclòs el cànon sobre la disposició controlada dels residus de la construcció, segons la Llei 8/2008 | F77: =('INTRODUIR PREUS'!D65)*1.1045 -> 0 | G77: 6.186 | H77: =ROUND(ROUND(F77,2)*ROUND(G77,3),2) -> 0 | M77: OFERTA NO VÀLIDA
A78: 01.10.07 | B78: 5 | C78: P2RA-EU76 | D78: m3 | E78: Disposició controlada de residus no perillosos de vegetals bruts barrejats amb terra o altres residus no vegetals amb una densitat 0,75 t/m3 procedents de poda o sega (LER codi 20 02 01), en planta de compostage | F78: =('INTRODUIR PREUS'!D64*0.75)*1.1045 -> 0 | G78: 21.6 | H78: =ROUND(ROUND(F78,2)*ROUND(G78,3),2) -> 0
E79: TOTAL | H79: =SUM(H74:H78) -> 0
C81: Obra | D81: 01 | E81: PressupostB2521_04
C82: Capítol | D82: 10 | E82: TREBALLS PRINCIPALS
C83: Titol 3 | D83: 08 | E83: Jardineria
A85: 01.10.08 | B85: 1 | C85: PR61-8ZJ1 | D85: u | E85: Plantació d'arbust o arbre de petit format en contenidor de 3 a 5 l en obres d'urbanització, excavació de clot de plantació de 40x40x30 cm amb mitjans manuals, en un pendent inferior al 35 %, reblert del clot amb terra de l'excavació barrejada amb un 10% de compost i primer reg | F85: =(('INTRODUIR PREUS'!D17*0.24)*1.015+('INTRODUIR PREUS'!D24*0.01)*1.015+('INTRODUIR PREUS'!D30*0.02)*1.015+('INTRODUIR PREUS'!D47*0.0096)+('INTRODUIR PREUS'!D77*0.0048))*1.1045 -> 0 | G85: 36 | H85: =ROUND(ROUND(F85,2)*ROUND(G85,3),2) -> 0
A86: 01.10.08 | B86: 2 | C86: PR4F8-94U4 | D86: u | E86: Subministrament de myoporum laetum en test 14 cm | F86: =('INTRODUIR PREUS'!D78)*1.1045 -> 0 | G86: 18 | H86: =ROUND(ROUND(F86,2)*ROUND(G86,3),2) -> 0
A87: 01.10.08 | B87: 3 | C87: PR4GI-93Z4 | D87: u | E87: Subministrament de pittosporum tobira d'alçària de 40 a 60 cm, en contenidor de 3 l | F87: =('INTRODUIR PREUS'!D79)*1.1045 -> 0 | G87: 18 | H87: =ROUND(ROUND(F87,2)*ROUND(G87,3),2) -> 0
E88: TOTAL | H88: =SUM(H85:H87) -> 0
C90: Obra | D90: 01 | E90: PressupostB2521_04
C91: Capítol | D91: 10 | E91: TREBALLS PRINCIPALS
C92: Titol 3 | D92: 09 | E92: Varis
A94: 01.10.09 | B94: 1 | C94: XPA4-00SS | D94: pa | E94: Partida alçada d'abonament íntegre de Seguretat i salut | F94: 10221.4 | G94: 1 | H94: =ROUND(ROUND(F94,2)*ROUND(G94,3),2) -> 10221.4
A95: 01.10.09 | B95: 2 | C95: XPA4-REP0 | D95: pa | E95: Partida alçada a justificar en obra per a donar compliment als requeriments dels REP's en fase d'obra | F95: 17500 | G95: 1 | H95: =ROUND(ROUND(F95,2)*ROUND(G95,3),2) -> 17500
A96: 01.10.09 | B96: 3 | C96: XPA4-ENT0 | D96: pa | E96: Partida alçada a justificar en obra per a l'adequació de l'entorn un cop s'hagi finalitzat l'obra | F96: 17500 | G96: 1 | H96: =ROUND(ROUND(F96,2)*ROUND(G96,3),2) -> 17500
A97: 01.10.09 | B97: 4 | C97: PAVL-ABMU | D97: u | E97: Elaboració de mock-up a l'emplaçament definitiu consistent en la construcció de dos mòduls amb posterior reaprofitament dels materials. | F97: ='INTRODUIR PREUS'!D81 -> 0 | G97: 1 | H97: =ROUND(ROUND(F97,2)*ROUND(G97,3),2) -> 0
A98: 01.10.09 | B98: 5 | C98: P185-HPDB | D98: u | E98: Jornada de treball d'equip de topografia consistent en la presa de dades en camp, posterior tractament de les dades en gabinet i bolcat dels resultats en format paper o digital, inclosos totes les eines i materials necesaris | F98: =('INTRODUIR PREUS'!D31*1.1045) -> 0 | G98: 10 | H98: =ROUND(ROUND(F98,2)*ROUND(G98,3),2) -> 0
A99: 01.10.09 | B99: 6 | C99: P185-ABDB | D99: u | E99: Realització d'un aixecament topogràfic final d'obra segons indicacions del Plec d'Especificacions Tècniques per al Manteniment de la Cartografia Municipal 3D de l'Ajuntament de Barcelona | F99: =('INTRODUIR PREUS'!D31*1.5)*1.1045 -> 0 | G99: 1 | H99: =ROUND(ROUND(F99,2)*ROUND(G99,3),2) -> 0 | M99: ATENCIÓ
A100: 01.10.09 | B100: 7 | C100: XPA4-INCA | D100: pa | E100: Partida alçada d'abonament íntegre per a l'actualització i gestió d'inventaris del Departament d'Espai Urbà (incloent senyalització horitzontal i vertical, semaforització, paviments, i mobiliari (urbà) d'acord amb els criteris els plecs tècnics corresponents i la base cartogràfica de l'Ajuntament de Barcelona per a obres entre 1.000 i 10.000m2 | F100: 1325.4 | G100: 1 | H100: =ROUND(ROUND(F100,2)*ROUND(G100,3),2) -> 1325.4
E101: TOTAL | H101: =SUM(H94:H100) -> 46546.8 | M101: EL PRESSUPOST TOTAL OFERTAT SUPERA ELS 610.258,63 €
M102: OFERTA NO VÀLIDA
E103: IMPORT TOTAL DEL PRESSUPOST : | H103: =SUM(H9:H102)/2 -> 46546.8
F105: PRESSUPOST D'EXECUCIÓ MATERIAL (PEM): | H105: =H103 -> 46546.8
F106: Despeses Generals (13%): | H106: =H105*0.13 -> 6051.084
F107: Benefici Industrial (6%): | H107: =H105*0.06 -> 2792.808
F108: PRESSPOST D'EXECUCIÓ PER CONTRACTE: | H108: =SUM(H105:H107) -> 55390.692
F109: IVA (21%): | H109: =H108*0.21 -> 11632.045
F110: PRESSUPOST D'EXECUCIÓ PER CONTRACTE AMB IVA: | H110: =SUM(H108:H109) -> 67022.737
