Workbook

Sheet INTRODUIR PREUS
A1: PROJECTE EXECUTIU DEL SISTEMA DE GENERACIÓ D'OMBRA ESTACIONAL SINGULAR AL | B1: PROJECTE EXECUTIU DEL SISTEMA DE GENERACIÓ D'OMBRA ESTACIONAL SINGULAR AL | C1: PROJECTE EXECUTIU DEL SISTEMA DE GENERACIÓ D'OMBRA ESTACIONAL SINGULAR AL | D1: PROJECTE EXECUTIU DEL SISTEMA DE GENERACIÓ D'OMBRA ESTACIONAL SINGULAR AL
A2: PASSEIG MARÍTIM, AL DISTRICTE DE SANT MARTÍ DE BARCELONA | B2: PASSEIG MARÍTIM, AL DISTRICTE DE SANT MARTÍ DE BARCELONA | C2: PASSEIG MARÍTIM, AL DISTRICTE DE SANT MARTÍ DE BARCELONA | D2: PASSEIG MARÍTIM, AL DISTRICTE DE SANT MARTÍ DE BARCELONA
A3: SETEMBRE 2026 | B3: SETEMBRE 2026 | C3: SETEMBRE 2026 | D3: SETEMBRE 2026
A6: Justificació d'elements | B6: Justificació d'elements | C6: Justificació d'elements | D6: Justificació d'elements
A8: Codi | B8: U.A. | C8: Descripció | D8: Preu
A10: Mà d'obra
A11: A01-FEOZ | B11: h | C11: Ajudant encofrador | D11: 0 | I11: INSTRUCCIONS
A12: A01-FEP0 | B12: h | C12: Ajudant ferrallista | D12: 0
A13: A01-FEP1 | B13: h | C13: Ajudant soldador | D13: 0 | I13: INTRODUIR ELS PREUS UNITARIS OFERTATS
A14: A01-FEP3 | B14: h | C14: Ajudant col·locador | D14: 0 | I14: EN LES CEL·LES AMB FONS GROC
A15: A01-FEP9 | B15: h | C15: Ajudant pintor | D15: 0
A16: A01-FEPD | B16: h | C16: Ajudant electricista | D16: 0
A17: A01-FEPJ | B17: h | C17: Ajudant jardiner | D17: 0 | I17: ATENCIÓ
A18: A0D-0007 | B18: h | C18: Manobre | D18: 0
A19: A0E-000A | B19: h | C19: Manobre especialista | D19: 0 | I19: EL PRESSUPOST D'EXECUCIÓ MATERIAL OFERTAT
A20: A0F-000D | B20: h | C20: Oficial 1a col·locador | D20: 0 | I20: NO POT SER SUPERIOR A 610.258,63 €
A21: A0F-000E | B21: h | C21: Oficial 1a electricista | D21: 0
A22: A0F-000F | B22: h | C22: Oficial 1a encofrador | D22: 0
A23: A0F-000I | B23: h | C23: Oficial 1a ferrallista | D23: 0
A24: A0F-000M | B24: h | C24: Oficial 1a jardiner | D24: 0
A25: A0F-000R | B25: h | C25: Oficial 1a muntador | D25: 0
A26: A0F-000S | B26: h | C26: Oficial 1a d'obra pública | D26: 0
A27: A0F-000T | B27: h | C27: Oficial 1a paleta | D27: 0 | I27: ATENCIÓ
A28: A0F-000V | B28: h | C28: Oficial 1a pintor | D28: 0
A29: A0F-000Y | B29: h | C29: Oficial 1a soldador | D29: 0 | I29: EL PRESSUPOST TOTAL OFERTAT SUPERA ELS 610.258,63 €
A30: A0G-0022 | B30: h | C30: Oficial 2a jardiner | D30: 0 | I30: OFERTA NO VÀLIDA
A31: B125-HR3S | B31: u | C31: Jornada de treball d'equip de topografia consistent en la presa de dades en camp, posterior tractament de les dades en gabinet i bolcat dels resultats en format paper o digital, inclosos totes les eines i materials necesaris | D31: 0
A32: Maquinària
A33: C111-0056 | B33: h | C33: Compressor amb dos martells pneumàtics | D33: 0
A34: C131-005G | B34: h | C34: Corró vibratori autopropulsat, de 12 a 14 t | D34: 0
A35: C135-00LX | B35: h | C35: Miniexcavadora de gasoil, de 34 kW, sobre cadenes de 2 a 5,9 t | D35: 0
A36: C136-00F4 | B36: h | C36: Motoanivelladora petita | D36: 0
A37: C13A-00FQ | B37: h | C37: Safata vibrant combustible amb placa de 60 cm | D37: 0
A38: C13C-00LP | B38: h | C38: Retroexcavadora sobre pneumàtics de 8 a 10 t | D38: 0
A39: C151-002Z | B39: h | C39: Camió cisterna de 8 m3 | D39: 0
A40: C154-003N | B40: h | C40: Camió per a transport de 7 t | D40: 0 | I40: ATENCIÓ
A41: C172-003J | B41: h | C41: Camió amb bomba de formigonar | D41: 0
A42: C176-00FX | B42: h | C42: Formigonera de 165 l | D42: 0 | I42: EL PRESSUPOST TOTAL OFERTAT SUPERA ELS 610.258,63 €
A43: C206-00DW | B43: h | C43: Equip i elements auxiliars per a soldadura elèctrica | D43: 0 | I43: OFERTA NO VÀLIDA
A44: CL40AAAA | B44: h | C44: Plataforma elevadora telescòpica articulada, autopropulsada amb motor de gasoil de 20 m d'alçària màxima de treball i 9,8 en horitzontal, de 227 kg de càrrega útil, de dimensions 700x245x245 cm en repós i 10886 kg de pes buida, amb cistella de dimensions 150x75 cm | D44: 0
...

Sheet OFERTA RESULTANT
E1: PROJECTE EXECUTIU DEL SISTEMA DE GENERACIÓ D'OMBRA ESTACIONAL SINGULAR AL | F1: PROJECTE EXECUTIU DEL SISTEMA DE GENERACIÓ D'OMBRA ESTACIONAL SINGULAR AL | G1: PROJECTE EXECUTIU DEL SISTEMA DE GENERACIÓ D'OMBRA ESTACIONAL SINGULAR AL | H1: PROJECTE EXECUTIU DEL SISTEMA DE GENERACIÓ D'OMBRA ESTACIONAL SINGULAR AL
E2: PASSEIG MARÍTIM, AL DISTRICTE DE SANT MARTÍ DE BARCELONA | F2: PASSEIG MARÍTIM, AL DISTRICTE DE SANT MARTÍ DE BARCELONA | G2: PASSEIG MARÍTIM, AL DISTRICTE DE SANT MARTÍ DE BARCELONA | H2: PASSEIG MARÍTIM, AL DISTRICTE DE SANT MARTÍ DE BARCELONA
E3: SETEMBRE 2026 | F3: SETEMBRE 2026 | G3: SETEMBRE 2026 | H3: SETEMBRE 2026
E6: PRESSUPOST
F8: Preu | G8: Amidament | H8: Import
C10: Obra | D10: 01 | E10: PressupostB2521_04
C11: Capítol | D11: 10 | E11: TREBALLS PRINCIPALS
C12: Titol 3 | D12: 01 | E12: Treballs previs i enderrocs
A14: 01.10.01 | B14: 1 | C14: P2148-49L5 | D14: m | E14: Demolició de vorada, inclòs la base, col·locada sobre formigó, amb compressor i càrrega manual i mecànica de runa sobre camió o contenidor | F14: =(('INTRODUIR PREUS'!D19*0.1)*1.015+('INTRODUIR PREUS'!D33*0.05)+('INTRODUIR PREUS'!D38*0.024))*1.1045 -> 0 | G14: 58.05 | H14: =ROUND(ROUND(F14,2)*ROUND(G14,3),2) -> 0
A15: 01.10.01 | B15: 2 | C15: P21R0-ABGE | D15: u | E15: Retirada d'arbusts de petit port amb mitjans manuals i càrrega sobre camió | F15: =(('INTRODUIR PREUS'!D17*0.5)*1.015+('INTRODUIR PREUS'!D24*0.5)*1.015+('INTRODUIR PREUS'!D45*0.5))*1.1045 -> 0 | G15: 36 | H15: =ROUND(ROUND(F15,2)*ROUND(G15,3),2) -> 0 | M15: ATENCIÓ
A16: 01.10.01 | B16: 3 | C16: PHQE-AB01 | D16: u | E16: Modificacions en la instal.lació d'enllumenat existent per a l'adaptació a la geometria de la nova estructura. Inclou el petit material necessari per a la correcta execució de les feines | F16: =(('INTRODUIR PREUS'!D16*16)+('INTRODUIR PREUS'!D21*16)+('INTRODUIR PREUS'!D74*3))*1.1045 -> 0 | G16: 1 | H16: =ROUND(ROUND(F16,2)*ROUND(G16,3),2) -> 0
A17: 01.10.01 | B17: 4 | C17: P21GL-AB01 | D17: u | E17: Retirada d'instal.lació de reg existent, amb degoters, afectada per la nova fonamentació, i posterior reposició al finalitzar l'obra. La partida inclou el petit material necessari per a fer la intervenció necessària. | F17: =(('INTRODUIR PREUS'!D17*16)+('INTRODUIR PREUS'!D24*16)+('INTRODUIR PREUS'!D75*300))*1.1045 -> 0 | G17: 1 | H17: =ROUND(ROUND(F17,2)*ROUND(G17,3),2) -> 0 | M17: EL PRESSUPOST TOTAL OFERTAT SUPERA ELS 610.258,63 €
A18: 01.10.01 | B18: 5 | C18: P21Q2-ABXU | D18: u | E18: Retirada d'aparcabicis d'acer, per a posterior reaprofitament, enderroc de daus de formigó, i càrrega manual i mecànica de l'equipament i transport a magatzem municipal | F18: =(('INTRODUIR PREUS'!D19*1.015)+('INTRODUIR PREUS'!D33*0.125))*1.1045 -> 0 | G18: 5 | H18: =ROUND(ROUND(F18,2)*ROUND(G18,3),2) -> 0 | M18: OFERTA NO VÀLIDA
E19: TOTAL | H19: =SUM(H14:H18) -> 0
C21: Obra | D21: 01 | E21: PressupostB2521_04
C22: Capítol | D22: 10 | E22: TREBALLS PRINCIPALS
C23: Titol 3 | D23: 02 | E23: Moviment de terres
A25: 01.10.02 | B25: 1 | C25: P221K-TG43 | D25: m3 | E25: Excavació de cala, per a localització de serveis, amb mitjans manuals i reblert i compactació de terres seleccionades de la pròpia excavació, sense pedres | F25: =(('INTRODUIR PREUS'!D18*4)*1.015+('INTRODUIR PREUS'!D37*0.5))*1.1045 -> 0 | G25: 2.16 | H25: =ROUND(ROUND(F25,2)*ROUND(G25,3),2) -> 0
A26: 01.10.02 | B26: 2 | C26: P221B-EL7O | D26: m3 | E26: Excavació de rasa i pou de fins a 4 m de fondària, en terreny compacte (SPT 20-50), realitzada amb miniexcavadora de combustible | F26: =('INTRODUIR PREUS'!D35*0.211)*1.1045 -> 0 | G26: 264.36 | H26: =ROUND(ROUND(F26,2)*ROUND(G26,3),2) -> 0
A27: 01.10.02 | B27: 3 | C27: P221B-I1WO | D27: m3 | E27: Excavació de rasa i pou de fins a 2 m de fondària, en terreny compacte (SPT 20-50), realitzada amb mitjans manuals i amb les terres deixades a la vora, en entorn urbà sense dificultat de mobilitat, en voreres > 5 m d'amplària o calçada/plataforma única > 12 m d'amplària, amb afectació per serveis o elements de mobiliari urbà, en actuacions de 0.2 a 2 m3 | F27: ='INTRODUIR PREUS'!D18*7.08754*1.015*1.1045 -> 0 | G27: 10 | H27: =ROUND(ROUND(F27,2)*ROUND(G27,3),2) -> 0
E28: TOTAL | H28: =SUM(H25:H27) -> 0
C30: Obra | D30: 01 | E30: PressupostB2521_04
C31: Capítol | D31: 10 | E31: TREBALLS PRINCIPALS
C32: Titol 3 | D32: 03 | E32: Fonamentació
A34: 01.10.03 | B34: 1 | C34: P3Z3-D53K | D34: m2 | E34: Capa de neteja i anivellament 10 cm de gruix amb Formigó de neteja, amb una dosificació de 150 kg/m3 de ciment, consistència tova i grandària màxima del granulat 10 mm, HL-150 kg/m3/B/10, abocat des de camió | F34: =(('INTRODUIR PREUS'!D18*0.2)*1.015+('INTRODUIR PREUS'!D27*0.1)*1.015+('INTRODUIR PREUS'!D49*0.1075))*1.1045 -> 0 | G34: 264.36 | H34: =ROUND(ROUND(F34,2)*ROUND(G34,3),2) -> 0
A35: 01.10.03 | B35: 2 | C35: P310-AB1P | D35: kg | E35: Armadura de rases i pous AP500 SD d'Acer en barres corrugades B500SD de límit elàstic >= 500 N/mm2, prefabricat a taller | F35: =(('INTRODUIR PREUS'!D12*0.008)*1.015+('INTRODUIR PREUS'!D23*0.006)*1.015+('INTRODUIR PREUS'!D56*0.005)+('INTRODUIR PREUS'!D58*1))*1.1045 -> 0 | G35: 14053.16 | H35: =ROUND(ROUND(F35,2)*ROUND(G35,3),2) -> 0
A36: 01.10.03 | B36: 3 | C36: PY30-AB5B | D36: m | E36: Formació de passamurs amb tub de PVC de 90 mm i d'1 m de llargària, com a màxim | F36: =(('INTRODUIR PREUS'!D27*0.1)*1.015+('INTRODUIR PREUS'!D73))*1.1045 -> 0 | G36: 100 | H36: =ROUND(ROUND(F36,2)*ROUND(G36,3),2) -> 0
A37: 01.10.03 | B37: 4 | C37: P311-DQ6S | D37: m2 | E37: Encofrat amb taulons de fusta per a rases i pous de fonaments | F37: =(('INTRODUIR PREUS'!D11*0.35)*1.015+('INTRODUIR PREUS'!D22*0.35)*1.015+('INTRODUIR PREUS'!D55*0.1501)+('INTRODUIR PREUS'!D57*0.102)+('INTRODUIR PREUS'!D60*6.6)+('INTRODUIR PREUS'!D61*0.00437)+('INTRODUIR PREUS'!D62*0.03))*1.1045 -> 0 | G37: 528.72 | H37: =ROUND(ROUND(F37,2)*ROUND(G37,3),2) -> 0
A38: 01.10.03 | B38: 5 | C38: P312-ABVP | D38: m3 | E38: Formigonament de rases i pous, amb formigó per armar HA - 30 / F / 10 / xC2+xA1 amb una quantitat de ciment de 300 kg/m3 i relació aigua ciment =< 0.6, abocat amb bomba | F38: =(('INTRODUIR PREUS'!D18*0.3)*1.015+('INTRODUIR PREUS'!D27*0.075)*1.015+('INTRODUIR PREUS'!D51*1.1)+('INTRODUIR PREUS'!D41*0.1))*1.1045 -> 0 | G38: 158.616 | H38: =ROUND(ROUND(F38,2)*ROUND(G38,3),2) -> 0
E39: TOTAL | H39: =SUM(H34:H38) -> 0
C41: Obra | D41: 01 | E41: PressupostB2521_04
C42: Capítol | D42: 10 | E42: TREBALLS PRINCIPALS
C43: Titol 3 | D43: 04 | E43: Estructura
A45: 01.10.04 | B45: 1 | C45: P44C-AB3R | D45: u | E45: Pilar de 6.67m fins a 7m d'alçada d'acer S355JR segons UNE-EN 10025-2, galvanitzat en calent, format per placa base de 550x550x22 ancorada amb 12 barres roscades Ø25, amb enrigidors de 130x200x10, doble plantilla de 550x550x10, pilar de Ø273.16 (o equivalent de Ø300mm), i tapa superior del pilar de 10mm, i amb orelletes al cap per fixar el cablejat; treballat a taller, col·locat a l'obra amb cargols | F45: =(('INTRODUIR PREUS'!D13*9.5)*1.025+('INTRODUIR PREUS'!D29*9.5)*1.025+('INTRODUIR PREUS'!D67*911.8)+('INTRODUIR PREUS'!D43*9.5))*1.1045 -> 0 | G45: 26 | H45: =ROUND(ROUND(F45,2)*ROUND(G45,3),2) -> 0 | M45: ATENCIÓ
A46: 01.10.04 | B46: 2 | C46: P44C-AB4R | D46: u | E46: Pilar de 5.8m fins a 6m d'alçada d'acer S355JR segons UNE-EN 10025-2, galvanitzat en calent, format per placa base de 550x550x22 ancorada amb 12 barres roscades Ø25, amb enrigidors de 130x200x10, doble plantilla de 550x550x10, pilar de Ø273.16 (o equivalent de Ø300mm), tapa superior del pilar de 10mm, i amb orelletes al cap per fixar el cablejat; treballat a taller i col·locat a l'obra amb soldadura i cargols | F46: =(('INTRODUIR PREUS'!D13*9.5)*1.025+('INTRODUIR PREUS'!D29*9.5)*1.025+('INTRODUIR PREUS'!D67*805.73)+('INTRODUIR PREUS'!D43*9.5))*1.1045 -> 0 | G46: 22 | H46: =ROUND(ROUND(F46,2)*ROUND(G46,3),2) -> 0
A47: 01.10.04 | B47: 3 | C47: P44C-AB4S | D47: u | E47: Pilar de 5.74m fins a 6m d'alçada d'acer S355JR segons UNE-EN 10025-2, galvanitzat en calent, format per placa base de 550x550x22 ancorada amb 12 barres roscades Ø25, amb enrigidors de 130x200x10, doble plantilla de 550x550x10, pilar de Ø273.16 (o equivalent de Ø300mm), tapa superior del pilar de 10mm, i amb orelletes al cap per fixar el cablejat; treballat a taller i col·locat a l'obra amb soldadura i cargols | F47: =(('INTRODUIR PREUS'!D13*9.5)*1.025+('INTRODUIR PREUS'!D29*9.5)*1.025+('INTRODUIR PREUS'!D67*805)+('INTRODUIR PREUS'!D43*9.5))*1.1045 -> 0 | G47: 4 | H47: =ROUND(ROUND(F47,2)*ROUND(G47,3),2) -> 0 | M47: EL PRESSUPOST TOTAL OFERTAT SUPERA ELS 610.258,63 €
A48: 01.10.04 | B48: 4 | C48: P44C-AB5R | D48: u | E48: Màstil flotant de 3.11m fins a 3.5m d'alçada d'acer S355JR segons UNE-EN 10025-2, galvanitzat en calent, de Ø76.5, amb orelletes als extrems per fixar el cablejat; treballat a taller i col·locat a l'obra flotant tensat pel cablejat. | F48: =(('INTRODUIR PREUS'!D13*0.35)*1.025+('INTRODUIR PREUS'!D29*0.35)*1.025+('INTRODUIR PREUS'!D67*28.7)+('INTRODUIR PREUS'!D43*0.35)+('INTRODUIR PREUS'!D44*0.35))*1.1045 -> 0 | G48: 22 | H48: =ROUND(ROUND(F48,2)*ROUND(G48,3),2) -> 0 | M48: OFERTA NO VÀLIDA
A49: 01.10.04 | B49: 5 | C49: P4Z5-HAM1 | D49: dm3 | E49: Reblert de recolzaments estructurals, amb morter sense retracció de ciment i sorra | F49: =(('INTRODUIR PREUS'!D18*0.005)*1.015+('INTRODUIR PREUS'!D27*0.005)*1.015+('INTRODUIR PREUS'!D52*2.02))*1.1045 -> 0 | G49: 786.5 | H49: =ROUND(ROUND(F49,2)*ROUND(G49,3),2) -> 0
A50: 01.10.04 | B50: 6 | C50: P8B2-G2F5 | D50: m2 | E50: Pintat d'estructures d'acer amb sistemes de protecció amb grau de durabilitat H, per a classe d'exposició C5-I/M, segons UNE-EN ISO 12944-1, format per 3 capes, capa d'imprimació de 125 µm, capa intermèdia de 125 µm, i capa d'acabat de 70 µm, amb un gruix total de protecció de 320 µm, aplicat de forma manual | F50: =(('INTRODUIR PREUS'!D15*0.0741)*1.015+('INTRODUIR PREUS'!D28*0.741)*1.015+('INTRODUIR PREUS'!D69*0.32)+('INTRODUIR PREUS'!D70*0.154))*1.1045 -> 0 | G50: 377.75 | H50: =ROUND(ROUND(F50,2)*ROUND(G50,3),2) -> 0
A51: 01.10.04 | B51: 7 | C51: P89C-AB5P | D51: m2 | E51: Protecció d'elements metàl.lics a un ambient d'alta agressivitat mitjançant recobriment termoplastic de copolimer de polietilè tipus PPA 525, aplicat a fàbrica per immersió en llit fluidificat o bé per projecció rotacional, amb acabat texturat color gris antracita o color a escollir per la df, amb un gruix nominal de pel.lícula seca de 300 µm. S'inclou la preparació del parament amb granallat fins assolir un grau de neteja Sa 2½ segons norma UNE-EN ISO 8501-1, i l'aplicació d'una imprimació líquida d'adherència especial metall-poliamida | F51: =(('INTRODUIR PREUS'!D15*0.2)*1.015+('INTRODUIR PREUS'!D28*0.6)*1.015+('INTRODUIR PREUS'!D68*0.38))*1.1045 -> 0 | G51: 44.564 | H51: =ROUND(ROUND(F51,2)*ROUND(G51,3),2) -> 0
...
