Workbook

Sheet INTRODUIR PREUS
A1: PROJECTE EXECUTIU DEL SISTEMA DE GENERACIÓ D'OMBRA ESTACIONAL SINGULAR AL | B1: PROJECTE EXECUTIU DEL SISTEMA DE GENERACIÓ D'OMBRA ESTACIONAL SINGULAR AL | C1: PROJECTE EXECUTIU DEL SISTEMA DE GENERACIÓ D'OMBRA ESTACIONAL SINGULAR AL | D1: PROJECTE EXECUTIU DEL SISTEMA DE GENERACIÓ D'OMBRA ESTACIONAL SINGULAR AL
A2: PASSEIG MARÍTIM, AL DISTRICTE DE SANT MARTÍ DE BARCELONA | B2: PASSEIG MARÍTIM, AL DISTRICTE DE SANT MARTÍ DE BARCELONA | C2: PASSEIG MARÍTIM, AL DISTRICTE DE SANT MARTÍ DE BARCELONA | D2: PASSEIG MARÍTIM, AL DISTRICTE DE SANT MARTÍ DE BARCELONA
A3: SETEMBRE 2026 | B3: SETEMBRE 2026 | C3: SETEMBRE 2026 | D3: SETEMBRE 2026
A6: Justificació d'elements | B6: Justificació d'elements | C6: Justificació d'elements | D6: Justificació d'elements
A8: Codi | B8: U.A. | C8: Descripció | D8: Preu
A10: Mà d'obra
A11: A01-FEOZ | B11: h | C11: Ajudant encofrador | D11: 0 | I11: INSTRUCCIONS
A12: A01-FEP0 | B12: h | C12: Ajudant ferrallista | D12: 0
A13: A01-FEP1 | B13: h | C13: Ajudant soldador | D13: 0 | I13: INTRODUIR ELS PREUS UNITARIS OFERTATS
A14: A01-FEP3 | B14: h | C14: Ajudant col·locador | D14: 0 | I14: EN LES CEL·LES AMB FONS GROC
A15: A01-FEP9 | B15: h | C15: Ajudant pintor | D15: 0
A16: A0D-0007 | B16: h | C16: Manobre | D16: 0
A17: A0F-000D | B17: h | C17: Oficial 1a col·locador | D17: 0 | I17: ATENCIÓ
A18: A0F-000F | B18: h | C18: Oficial 1a encofrador | D18: 0
A19: A0F-000I | B19: h | C19: Oficial 1a ferrallista | D19: 0 | I19: EL PRESSUPOST D'EXECUCIÓ MATERIAL OFERTAT
A20: A0F-000R | B20: h | C20: Oficial 1a muntador | D20: 0 | I20: NO POT SER SUPERIOR A 90.506,78 €
A21: A0F-000T | B21: h | C21: Oficial 1a paleta | D21: 0
A22: A0F-000V | B22: h | C22: Oficial 1a pintor | D22: 0
A23: A0F-000Y | B23: h | C23: Oficial 1a soldador | D23: 0
A24: Maquinària
A25: C131-005G | B25: h | C25: Corró vibratori autopropulsat, de 12 a 14 t | D25: 0
A26: C135-00LX | B26: h | C26: Miniexcavadora de gasoil, de 34 kW, sobre cadenes de 2 a 5,9 t | D26: 0
A27: C136-00F4 | B27: h | C27: Motoanivelladora petita | D27: 0 | I27: ATENCIÓ
A28: C13A-00FQ | B28: h | C28: Safata vibrant combustible amb placa de 60 cm | D28: 0
A29: C151-002Z | B29: h | C29: Camió cisterna de 8 m3 | D29: 0 | I29: EL PRESSUPOST TOTAL OFERTAT SUPERA ELS 90.506,78 €
A30: C154-003N | B30: h | C30: Camió per a transport de 7 t | D30: 0 | I30: OFERTA NO VÀLIDA
A31: C172-003J | B31: h | C31: Camió amb bomba de formigonar | D31: 0
A32: C206-00DW | B32: h | C32: Equip i elements auxiliars per a soldadura elèctrica | D32: 0
A33: CL40AAAA | B33: h | C33: Plataforma elevadora telescòpica articulada, autopropulsada amb motor de gasoil de 20 m d'alçària màxima de treball i 9,8 en horitzontal, de 227 kg de càrrega útil, de dimensions 700x245x245 cm en repós i 10886 kg de pes buida, amb cistella de dimensions 150x75 cm | D33: 0
A34: Material
A35: B011-05ME | B35: m3 | C35: Aigua | D35: 0
A36: B03C-05NM | B36: m3 | C36: Sauló sense garbellar | D36: 0
A37: B067-2A9U | B37: m3 | C37: Formigó de neteja, amb una dosificació de 150 kg/m3 de ciment, consistència tova i grandària màxima del granulat 10 mm, HL-150 kg/m3/B/10 | D37: 0
A38: B06F2-AB01 | B38: M3 | C38: Formigó per armar HA - 30 / F / 10 / xC2+XA1 amb una quantitat de ciment de 300 kg/m3 i relació aigua ciment =< 0.6 | D38: 0
A39: B077-12V5 | B39: kg | C39: Morter expansiu | D39: 0
A40: B0AJ-06WD | B40: u | C40: Tensor intermedi per a roscar d'acer de 20 mm | D40: 0
A41: B0AK-07AS | B41: kg | C41: Clau acer | D41: 0
A42: B0AM-078F | B42: kg | C42: Filferro recuit d'1,3 mm | D42: 0
A43: B0AM-078G | B43: kg | C43: Filferro recuit de 3 mm | D43: 0
A44: B0B6-1071 | B44: kg | C44: Acer b/corrug. Obra man. Taller B500SD | D44: =(D12*0.005)*1.01+(D19*0.005)*1.01+(D42*0.0102)+(D45*1.05) -> 0
...

Sheet OFERTA RESULTANT
E1: PROJECTE EXECUTIU DEL SISTEMA DE GENERACIÓ D'OMBRA ESTACIONAL SINGULAR AL | F1: PROJECTE EXECUTIU DEL SISTEMA DE GENERACIÓ D'OMBRA ESTACIONAL SINGULAR AL | G1: PROJECTE EXECUTIU DEL SISTEMA DE GENERACIÓ D'OMBRA ESTACIONAL SINGULAR AL | H1: PROJECTE EXECUTIU DEL SISTEMA DE GENERACIÓ D'OMBRA ESTACIONAL SINGULAR AL
E2: PASSEIG MARÍTIM, AL DISTRICTE DE SANT MARTÍ DE BARCELONA | F2: PASSEIG MARÍTIM, AL DISTRICTE DE SANT MARTÍ DE BARCELONA | G2: PASSEIG MARÍTIM, AL DISTRICTE DE SANT MARTÍ DE BARCELONA | H2: PASSEIG MARÍTIM, AL DISTRICTE DE SANT MARTÍ DE BARCELONA
E3: SETEMBRE 2026 | F3: SETEMBRE 2026 | G3: SETEMBRE 2026 | H3: SETEMBRE 2026
E6: PRESSUPOST
F8: Preu | G8: Amidament | H8: Import
C10: Obra | D10: 01 | E10: PressupostB2521_04
C11: Capítol | D11: 20 | E11: TREBALLS ADDICIONALS
C12: Titol 3 | D12: 02 | E12: Moviment de terres
A14: 01.20.02 | B14: 1 | C14: P221K-TG43 | D14: m3 | E14: Excavació de cala, per a localització de serveis, amb mitjans manuals i reblert i compactació de terres seleccionades de la pròpia excavació, sense pedres | F14: =(('INTRODUIR PREUS'!D16*4)*1.015+('INTRODUIR PREUS'!D28*0.5))*1.1045 -> 0 | G14: 2.16 | H14: =ROUND(ROUND(F14,2)*ROUND(G14,3),2) -> 0 | M14: ATENCIÓ
A15: 01.20.02 | B15: 2 | C15: P221B-EL7O | D15: m3 | E15: Excavació de rasa i pou de fins a 4 m de fondària, en terreny compacte (SPT 20-50), realitzada amb miniexcavadora de combustible | F15: =('INTRODUIR PREUS'!D26*0.211)*1.1045 -> 0 | G15: 54.24 | H15: =ROUND(ROUND(F15,2)*ROUND(G15,3),2) -> 0
E16: TOTAL | H16: =SUM(H14:H15) -> 0 | M16: EL PRESSUPOST TOTAL OFERTAT SUPERA ELS 90.506,78 €
M17: OFERTA NO VÀLIDA
C18: Obra | D18: 01 | E18: PressupostB2521_04
C19: Capítol | D19: 20 | E19: TREBALLS ADDICIONALS
C20: Titol 3 | D20: 03 | E20: Fonamentació
A22: 01.20.03 | B22: 1 | C22: P3Z3-D53K | D22: m2 | E22: Capa de neteja i anivellament 10 cm de gruix amb Formigó de neteja, amb una dosificació de 150 kg/m3 de ciment, consistència tova i grandària màxima del granulat 10 mm, HL-150 kg/m3/B/10, abocat des de camió | F22: =(('INTRODUIR PREUS'!D16*0.2)*1.015+('INTRODUIR PREUS'!D21*0.1)*1.015+('INTRODUIR PREUS'!D37*0.1075))*1.1045 -> 0 | G22: 54.24 | H22: =ROUND(ROUND(F22,2)*ROUND(G22,3),2) -> 0
A23: 01.20.03 | B23: 2 | C23: P310-AB1P | D23: kg | E23: Armadura de rases i pous AP500 SD d'Acer en barres corrugades B500SD de límit elàstic >= 500 N/mm2, prefabricat a taller | F23: =(('INTRODUIR PREUS'!D12*0.008)*1.015+('INTRODUIR PREUS'!D19*0.006)*1.015+('INTRODUIR PREUS'!D42*0.005)+('INTRODUIR PREUS'!D44*1))*1.1045 -> 0 | G23: 2199.12 | H23: =ROUND(ROUND(F23,2)*ROUND(G23,3),2) -> 0
A24: 01.20.03 | B24: 3 | C24: PY30-AB5B | D24: m | E24: Formació de passamurs amb tub de PVC de 90 mm i d'1 m de llargària, com a màxim | F24: =(('INTRODUIR PREUS'!D21*0.1)*1.015+('INTRODUIR PREUS'!D56*1))*1.1045 -> 0 | G24: 24 | H24: =ROUND(ROUND(F24,2)*ROUND(G24,3),2) -> 0
A25: 01.20.03 | B25: 4 | C25: P311-DQ6S | D25: m2 | E25: Encofrat amb taulons de fusta per a rases i pous de fonaments | F25: =(('INTRODUIR PREUS'!D11*0.35)*1.015+('INTRODUIR PREUS'!D18*0.35)*1.015+('INTRODUIR PREUS'!D41*0.1501)+('INTRODUIR PREUS'!D43*0.102)+('INTRODUIR PREUS'!D46*6.6)+('INTRODUIR PREUS'!D47*0.00437)+('INTRODUIR PREUS'!D48*0.03))*1.1045 -> 0 | G25: 108.48 | H25: =ROUND(ROUND(F25,2)*ROUND(G25,3),2) -> 0
A26: 01.20.03 | B26: 5 | C26: P312-ABVP | D26: m3 | E26: Formigonament de rases i pous, amb formigó per armar HA - 30 / F / 10 / xC2+xA1 amb una quantitat de ciment de 300 kg/m3 i relació aigua ciment =< 0.6, abocat amb bomba | F26: =(('INTRODUIR PREUS'!D16*0.3)*1.015+('INTRODUIR PREUS'!D21*0.075)*1.015+('INTRODUIR PREUS'!D38*1.1)+('INTRODUIR PREUS'!D31*0.1))*1.1045 -> 0 | G26: 38.016 | H26: =ROUND(ROUND(F26,2)*ROUND(G26,3),2) -> 0
E27: TOTAL | H27: =SUM(H22:H26) -> 0
C29: Obra | D29: 01 | E29: PressupostB2521_04
C30: Capítol | D30: 20 | E30: TREBALLS ADDICIONALS
C31: Titol 3 | D31: 04 | E31: Estructura
A33: 01.20.04 | B33: 1 | C33: P44C-AB3R | D33: u | E33: Pilar de 6.67m fins a 7m d'alçada d'acer S355JR segons UNE-EN 10025-2, galvanitzat en calent, format per placa base de 550x550x22 ancorada amb 12 barres roscades Ø25, amb enrigidors de 130x200x10, doble plantilla de 550x550x10, pilar de Ø273.16 (o equivalent de Ø300mm), i tapa superior del pilar de 10mm, i amb orelletes al cap per fixar el cablejat; treballat a taller, col·locat a l'obra amb cargols | F33: =(('INTRODUIR PREUS'!D13*9.5)*1.025+('INTRODUIR PREUS'!D23*9.5)*1.025+('INTRODUIR PREUS'!D51*911.8)+('INTRODUIR PREUS'!D32*9.5))*1.1045 -> 0 | G33: 4 | H33: =ROUND(ROUND(F33,2)*ROUND(G33,3),2) -> 0
A34: 01.20.04 | B34: 2 | C34: P44C-AB4R | D34: u | E34: Pilar de 5.8m fins a 6m d'alçada d'acer S355JR segons UNE-EN 10025-2, galvanitzat en calent, format per placa base de 550x550x22 ancorada amb 12 barres roscades Ø25, amb enrigidors de 130x200x10, doble plantilla de 550x550x10, pilar de Ø273.16 (o equivalent de Ø300mm), tapa superior del pilar de 10mm, i amb orelletes al cap per fixar el cablejat; treballat a taller i col·locat a l'obra amb soldadura i cargols | F34: =(('INTRODUIR PREUS'!D13*9.5)*1.025+('INTRODUIR PREUS'!D23*9.5)*1.025+('INTRODUIR PREUS'!D51*805.73)+('INTRODUIR PREUS'!D32*9.5))*1.1045 -> 0 | G34: 4 | H34: =ROUND(ROUND(F34,2)*ROUND(G34,3),2) -> 0
A35: 01.20.04 | B35: 3 | C35: P44C-AB5R | D35: u | E35: Màstil flotant de 3.11m fins a 3.5m d'alçada d'acer S355JR segons UNE-EN 10025-2, galvanitzat en calent, de Ø76.5, amb orelletes als extrems per fixar el cablejat; treballat a taller i col·locat a l'obra flotant tensat pel cablejat. | F35: =(('INTRODUIR PREUS'!D13*0.35)*1.025+('INTRODUIR PREUS'!D23*0.35)*1.025+('INTRODUIR PREUS'!D51*28.7)+('INTRODUIR PREUS'!D32*0.35)+('INTRODUIR PREUS'!D33*0.35))*1.1045 -> 0 | G35: 4 | H35: =ROUND(ROUND(F35,2)*ROUND(G35,3),2) -> 0 | M35: ATENCIÓ
A36: 01.20.04 | B36: 4 | C36: P4Z5-HAM1 | D36: dm3 | E36: Reblert de recolzaments estructurals, amb morter sense retracció de ciment i sorra | F36: =(('INTRODUIR PREUS'!D16*0.005)*1.015+('INTRODUIR PREUS'!D21*0.005)*1.015+('INTRODUIR PREUS'!D39*2.02))*1.1045 -> 0 | G36: 121 | H36: =ROUND(ROUND(F36,2)*ROUND(G36,3),2) -> 0
A37: 01.20.04 | B37: 5 | C37: P8B2-G2F5 | D37: m2 | E37: Pintat d'estructures d'acer amb sistemes de protecció amb grau de durabilitat H, per a classe d'exposició C5-I/M, segons UNE-EN ISO 12944-1, format per 3 capes, capa d'imprimació de 125 µm, capa intermèdia de 125 µm, i capa d'acabat de 70 µm, amb un gruix total de protecció de 320 µm, aplicat de forma manual | F37: =(('INTRODUIR PREUS'!D15*0.0741)*1.015+('INTRODUIR PREUS'!D22*0.741)*1.015+('INTRODUIR PREUS'!D53*0.32)+('INTRODUIR PREUS'!D54*0.154))*1.1045 -> 0 | G37: 58.115 | H37: =ROUND(ROUND(F37,2)*ROUND(G37,3),2) -> 0 | M37: EL PRESSUPOST TOTAL OFERTAT SUPERA ELS 90.506,78 €
A38: 01.20.04 | B38: 6 | C38: P89C-AB5P | D38: m2 | E38: Protecció d'elements metàl.lics a un ambient d'alta agressivitat mitjançant recobriment termoplastic de copolimer de polietilè tipus PPA 525, aplicat a fàbrica per immersió en llit fluidificat o bé per projecció rotacional, amb acabat texturat color gris antracita o color a escollir per la df, amb un gruix nominal de pel.lícula seca de 300 µm. S'inclou la preparació del parament amb granallat fins assolir un grau de neteja Sa 2½ segons norma UNE-EN ISO 8501-1, i l'aplicació d'una imprimació líquida d'adherència especial metall-poliamida | F38: =(('INTRODUIR PREUS'!D15*0.2)*1.015+('INTRODUIR PREUS'!D22*0.6)*1.015+('INTRODUIR PREUS'!D52*0.38))*1.1045 -> 0 | G38: 6.856 | H38: =ROUND(ROUND(F38,2)*ROUND(G38,3),2) -> 0 | M38: OFERTA NO VÀLIDA
E39: TOTAL | H39: =SUM(H33:H38) -> 0
C41: Obra | D41: 01 | E41: PressupostB2521_04
C42: Capítol | D42: 20 | E42: TREBALLS ADDICIONALS
C43: Titol 3 | D43: 05 | E43: Tensoestructura
A45: 01.20.05 | B45: 1 | C45: PAVL-ABRG | D45: m2 | E45: Protecció solar de membrana tèxtil microperforada, fabricada amb fil de polièster d'alta tenacitat recobert de PVC i preestirat, amb un factor d'obertura aproximat del 4%, pes nominal entre 400 i 450 g/m² i gruix de 0,45 mm. Amb una resistència a tracció mínima de 220/220 daN/5 cm (urdimbre/trama), elevada estabilitat dimensional, resistència als raigs UV, als agents atmosfèrics i al desenvolupament de floridures, amb tractament superficial antiembrutiment. Classificació de reacció al foc Euroclasse B-s2,d0 segons EN 13501-1. La membrana serà patronada amb butxaca perimetral i plaques d'ancoratge a les cantonades. Color a definir per la Direcció Facultativa. La instal·lació inclou totes les soldadures d'alta freqüència, reforços perimetrals, peces de fixació, cablejat de perímetre d10 d'acer inox AISI316 i accessoris necessaris per garantir la correcta tensió i funcionament de la membrana. | F45: =(('INTRODUIR PREUS'!D14*0.094)*1.025+('INTRODUIR PREUS'!D17*0.094)*1.025+('INTRODUIR PREUS'!D55*1)+('INTRODUIR PREUS'!D33*0.188))*1.1045 -> 0 | G45: 170.8 | H45: =ROUND(ROUND(F45,2)*ROUND(G45,3),2) -> 0
A46: 01.20.05 | B46: 2 | C46: PB70-AB70 | D46: m | E46: Cable d'acer inoxidable AISI 316, de 12 mm de diàmetre classe 1570, amb terminals d'acer inoxidable AISI316 tipus toggle a un extrem i toggle + tensor a l'altre extrem. Inclou el retesat dels cables 15 dies després de la seva instal.lació | F46: =(('INTRODUIR PREUS'!D20*0.2)*1.035+('INTRODUIR PREUS'!D40*0.156)+('INTRODUIR PREUS'!D49*1.05)+('INTRODUIR PREUS'!D57*0.313)+('INTRODUIR PREUS'!D33*0.2))*1.1045 -> 0 | G46: 208 | H46: =ROUND(ROUND(F46,2)*ROUND(G46,3),2) -> 0
E47: TOTAL | H47: =SUM(H45:H46) -> 0
C49: Obra | D49: 01 | E49: PressupostB2521_04
C50: Capítol | D50: 20 | E50: TREBALLS ADDICIONALS
C51: Titol 3 | D51: 06 | E51: Paviments
...
