Workbook
Name CostAuxiliarHora: #REF!
Name CostAuxiliarHora: #REF!
Name CostAuxiliarHora: #REF!
Name CostAuxiliarHora: #REF!
Name CostAuxiliarHora: #REF!
Name CostAuxiliarHora: #REF!
Name CostAuxiliarHora: #REF!
Name CostAuxiliarHora: #REF!
Name CostAuxiliarHora: #REF!
Name CostAuxiliarHora: #REF!
Name CostAuxiliarHora: #REF!
Name CostDireccióHora: #REF!
Name CostDireccióHora: #REF!
Name CostDireccióHora: #REF!
Name CostDireccióHora: #REF!
Name CostDireccióHora: #REF!
Name CostDireccióHora: #REF!
Name CostDireccióHora: #REF!
Name CostDireccióHora: #REF!
Name CostDireccióHora: #REF!
Name CostDireccióHora: #REF!
Name CostDireccióHora: #REF!
Name CostMenú: #REF!
Name CostMenú: #REF!
Name CostMenú: #REF!
Name CostMenú: #REF!
Name CostMenú: #REF!
Name CostMenú: #REF!
Name CostMenú: #REF!
Name CostMenú: #REF!
Name CostMenú: #REF!
Name CostMenú: #REF!
Name CostMenú: #REF!
Name HoresSessió: #REF!
Name HoresSessió: #REF!
Name HoresSessió: #REF!
Name HoresSessió: #REF!
Name HoresSessió: #REF!
Name HoresSessió: #REF!
Name HoresSessió: #REF!
Name HoresSessió: #REF!
Name HoresSessió: #REF!
Name HoresSessió: #REF!
Name HoresSessió: #REF!
Name SessionsAnuals: #REF!
Name SessionsAnuals: #REF!
Name SessionsAnuals: #REF!
Name SessionsAnuals: #REF!
Name SessionsAnuals: #REF!
Name SessionsAnuals: #REF!
Name SessionsAnuals: #REF!
Name SessionsAnuals: #REF!
Name SessionsAnuals: #REF!
Name SessionsAnuals: #REF!
Name SessionsAnuals: #REF!

Sheet ESTIMACIÓ PLUSES
A2: Perfil | B2: Grup | C2: Sou 2025 CC | D2: Preu hora | E2: % nocturn | F2: % dispo | G2: % festius | H2: % caps set | I2: Sou 2026 | J2: Plus nocturn | K2: Plus dispo | L2: Plus festius | M2: Plus caps set | N2: Total 2026 | O2: Total 2027 | P2: Total pluses
A3: Direcció del servei | B3: GI | C3: 38432.1 | D3: =C3/1701 -> 22.593827 | E3: 0.5 | F3: 0.5 | G3: 0.05
A4: Suport tècnic | B4: GII | C4: 26007.66 | D4: =C4/1701 -> 15.28963
A5: Coord EAT/EAE | B5: GI | C5: 33951.26 | D5: =C5/1701 -> 19.959588
A6: Coord platges | B6: GI | C6: 33951.26 | D6: =C6/1701 -> 19.959588
A7: Coord animals | B7: GI | C7: 33951.26 | D7: =C7/1701 -> 19.959588
A8: Integrant EAT | B8: GIII | C8: 23100.28 | D8: =C8/1701 -> 13.580412
A9: Integrant EAE | B9: GIII | C9: 23100.28 | D9: =C9/1701 -> 13.580412
A10: Integrant platges | B10: GIII | C10: 23100.28 | D10: =C10/1701 -> 13.580412
A11: Integrant animals | B11: GIII | C11: 23100.28 | D11: =C11/1701 -> 13.580412
A15: Preu/hora | B15: =(I4+J8+K8+L8+M8)/1701 -> 0
B16: =B15*3.5% -> 0
B17: =(B15+B16)*4.5% -> 0
B18: =SUM(B15:B17) -> 0
A19: Autònomos | B19: =80/30 -> 2.6666667 | C19: (80 euros/mensuals)
B20: =B18+B19 -> 2.6666667
D28: =4.93/100 -> 0.0493
I32: 4064.84

Sheet SALARIS CONVENI 2026
L56: 2026 | M56: 2027 | N56: 2028
K57: Grup I | L57: 83349 | M57: =L57*3%+L57 -> 85849.47 | N57: =M57*3%+M57 -> 88424.954
K58: Grup I.I | L58: =33951.26*5%+33951.26 -> 35648.823 | M58: =L58*3%+L58 -> 36718.288 | N58: =M58*3%+M58 -> 37819.836
K59: Grup II | L59: =26007.66*5%+26007.66 -> 27308.043 | M59: =L59*3%+L59 -> 28127.284 | N59: =M59*3%+M59 -> 28971.103
K60: Grup III T.S | L60: 23100.22 | M60: =L60*5%+L60 -> 24255.231 | O60: =M57-M58 -> 49131.182
K61: Grup III PT | O61: =O60/14 -> 3509.3702
K62: Grup IV
K65: =1650.02 -> 1650.02 | L65: =K65*5% -> 82.501 | M65: =(K65+L65)*3% -> 51.97563 | N65: =SUM(K65:M65) -> 1784.4966
K67: =38432.1 -> 38432.1 | L67: =K67*5% -> 1921.605 | M67: =(K67+L67)*3% -> 1210.6111 | N67: =SUM(K67:M67) -> 41564.316
N69: =N67/1701 -> 24.435224 | O69: Preu hora
N70: =N69*10% -> 2.4435224 | O70: Disponib/h
N71: =N69*25% -> 6.108806 | O71: 25% nocturnit
K73: =33951.26 -> 33951.26 | L73: =K73*5% -> 1697.563 | M73: =(K73+L73)*3% -> 1069.4647 | N73: =SUM(K73:M73) -> 36718.288
N74: =N73/1701 -> 21.586295 | O74: Preu hora
N75: =N74*10% -> 2.1586295 | O75: Disponib/h
N76: =N74*25% -> 5.3965737 | O76: 25% nocturnit
K79: =$M$59 -> 28127.284 | N79: =$M$59 -> 28127.284
N80: =N79/1701 -> 16.535734
N81: =N80*10% -> 1.6535734
N82: =N80*25% -> 4.1339336

Sheet 1 RESUM
C1: 57095.5
C3: CTE: SIMULACIÓ DE COST DE GESTIÓ DEL SERVEI D'ATENCIÓ SOCIAL AL SENSELLERISME A L'ESPAI PÚBLIC (SASSEP) amb mesures de contractació pública sostenible
A6: 1 | B6: CD | C6: COSTOS DE PERSONAL | D6: NOU CONTRACTE | E6: Professionals hores | F6: CONTRACTE VIGENT | G6: DIFERENCIAL (€) | H6: DIFERENCIAL (%) | I6: OBSERVACIONS | R6: sous perfils + complement
C7: Preu sou amb Costos socials inclosos
C8: DIRECCIÓ (GRUP I) | D8: ='CALCUL ANUAL SASSEP'!$S$22 -> 50960.832 | F8: =F9 -> 48881.05 | G8: =G9 -> 25479.212 | H8: =H9 -> 0.29437783 | K8: Direcció del servei | M8: 1700 | N8: 1 | O8: 29513.4 | P8: 39105.255 | Q8: 39105.255
C9: Diirecció | D9: ='CALCUL ANUAL SASSEP'!$S$21 -> 69273.688 | E9: 1 | F9: 48881.05 | G9: 25479.212 | H9: =(D9-F9)/D9 -> 0.29437783 | I9: El salari del Director és el de la subrogació superior un 23% al de conveni. | R9: 49151.04 | S9: SUB
C10: EQUIP OPERATIU | D10: =SUM(D11:D15) -> 2464563.5 | F10: =SUM(F11:F14) -> 1590356.1 | G10: =SUM(G11:G15) -> 788269.57 | K10: Tècnics/ques mitjans per equip d'intervenció social a l'espai urbà | M10: 27200 | N10: 16 | O10: 20639.22 | P10: 27346.967 | Q10: 437551.46
C11: COORDINADOR DE SERVEIS (GRUP I) | D11: ='CALCUL ANUAL SASSEP'!$S$37 -> 270116.22 | E11: 4 | F11: 89853.625 | G11: =D11-F11 -> 180262.6 | H11: =(D11/F11)-1 -> 2.0061806 | I11: 2020: 2 Coordinadors de zones 3.400 hores 2024: 4 Coordinadors de ciutat: 6800 hores Hi ha dos subrogats (Coordinadors i que sumen ambdós 89.564€ de sou brut) un 28% més que els dos restants. Equip territorial (33,59 professionals), Equip d'Aeroport (6,30 professionals) i EDIS (6 professionals) Tots subrogats | K11: Tècnics/ques mitjans per equip d'intervenció social a l'espai urbà (amb suplències) | M11: 29895.495 | N11: 17.585586 | O11: 20639.22 | P11: 27346.967 | Q11: 480912.42 | R11: 44782.3 | S11: SUB
C12: Equips territorials d'Intervenció Social(Tècnics graduats superiors) | D12: 1544948.3 | E12: 33.59 | F12: 1087957.2 | G12: =D12-F12 -> 456991.1 | H12: =(D12/F12)-1 -> 0.42004511 | R12: 33980.04 | S12: SUB
C13: EQUIP D'AEROPORT I INTERCANVIADORS | D13: 314710.68 | E13: 6.3 | F13: 172211.98 | G13: =D13-F13 -> 142498.7 | H13: =(D13/F13)-1 -> 0.82746104 | R13: 35400.72 | S13: SUB
C14: Equip de Diagnòstic i Suport (EDIS) | D14: 248850.49 | E14: 6 | F14: 240333.32 | G14: =D14-F14 -> 8517.1747 | H14: =(D14/F14)-1 -> 0.03543901 | K14: Tècnics/ques mitjans per a els equips d'intervenció social específic per l'Aeroport i intercanviadors | M14: 5100 | N14: 3 | O14: 20639.22 | P14: 27346.967 | Q14: 82040.899 | R14: 31056.632 | S14: SUB
C15: Substitucions | D15: =85937.82 -> 85937.82 | E15: 50% dels equips | F15: Incloses en els sous | I15: 50% Perfils (inclou plusos)
C16: OFICINA TÈCNICA | D16: =SUM(D17:D24) -> #REF! | F16: =SUM(F17:F24) -> 431681.19 | G16: =SUM(G17:G25) -> 64431.408 | K16: Tècnics/ques mitjans per a els equips d'intervenció social específic per l'Aeroport i intercanviadors (amb suplències) | M16: 5605.4054 | N16: 3.2972973 | O16: 20639.22 | P16: 27346.967 | Q16: 90171.079
C17: EQUIP DE SUPORT PER AL RECOMPTE (4 professionals) | D17: 141603.57 | E17: 4 | F17: 109387.87 | G17: =D17-F17 -> 32215.704 | H17: =(D17-F17)/D17 -> 0.2275063 | I17: 2020: Tècnic mitgs 4 professionals 6.800 hores 2024: 4 Tècnics superiors 6.800 hores + 1 amb plus de coordinador 2024: Sous d'acord amb el full de subrogació. | R17: 26010.48 | S17: SUB
C18: Coordinador (1 professional) | D18: ='CALCUL ANUAL SASSEP'!S92 -> 1379.4463 | E18: 1 | F18: 66030.951 | H18: =(D18-F18)/D18 -> -46.867722 | R18: 37239.96 | S18: SUB
C19: Equip de Suport per al recompte (2 Tècnics 3,33 mesos) | D19: ='CALCUL ANUAL SASSEP'!S95 -> 24386.64 | E19: 2 | F19: 19735.394 | H19: =(D19-F19)/D19 -> 0.19072925 | K19: Tècnics/ques mitjans per anàlisi de dades (supòsit en funció de subrogació) | M19: 6800 | N19: 4 | O19: 20639.22 | P19: 27346.967 | Q19: 109387.87 | R19: 6783.645 | S19: SUB
C20: Equip de Suport al Servei (grup III) (2 professionals) | D20: ='CALCUL ANUAL SASSEP'!S99 -> 30630.6 | E20: 2 | F20: 48335.74 | H20: =(D20-F20)/D20 -> -0.57802133 | K20: Equip de suport al servei | R20: 22765.44 | S20: SUB
C21: Suport jurídic (Grup i) (2 professionals) | D21: ='CALCUL ANUAL SASSEP'!S103 -> 106725.76 | E21: 2 | F21: 61013.176 | H21: =(D21-F21)/D21 -> 0.4283182 | K21: Tècnics/ques superiors per suport jurídic | M21: 3400 | N21: 2 | O21: 23023.84 | P21: 30506.588 | Q21: 61013.176 | R21: 29299.08 | S21: SUB
C22: Suport psicològic (Grup i) (1 professional) | D22: ='CALCUL ANUAL SASSEP'!#REF! -> #REF! | E22: 1 | F22: 30506.588 | G22: =D17-F17 -> 32215.704 | H22: =(D22-F22)/D22 -> #REF! | K22: Tècnics/ques superiors per suport psicològic | M22: 1700 | N22: 1 | O22: 23023.84 | P22: 30506.588 | Q22: 30506.588 | R22: 29299.08 | S22: SUB
C23: Suport educatiu (Grup III) (2 professionals) | D23: ='CALCUL ANUAL SASSEP'!#REF! -> #REF! | E23: 2 | F23: 48335.735 | H23: =(D23-F23)/D23 -> #REF! | K23: Personal qualificat per suport educatiu | M23: 3400 | N23: 2 | O23: 18239.9 | P23: 24167.868 | Q23: 48335.735 | R23: 24149.52 | S23: SUB
C24: Auxiliar de la unitat mòbil (1 professional) | D24: ='CALCUL ANUAL SASSEP'!S106 -> 27381.104 | E24: 1 | F24: 48335.735 | H24: =(D24-F24)/D24 -> -0.76529534 | K24: Personal qualificat per suport educatiu | M24: 3400 | N24: 2 | O24: 18239.9 | P24: 24167.868 | Q24: 48335.735 | R24: 20661.12 | S24: SUB
C25: Substitucions | D25: 1968.5295 | E25: 100% Unitat mòbil | F25: Incloses en els sous | I25: Auxiliar de la unitat mòvil. 100% (inclou plusos)
C26: UNITATS DE SUPORT A CASP 126 | D26: =D27 -> 51835.992 | F26: =F27 -> 36414.25
C27: Unitat de recepció i gestió administrativa (2 professionals) | D27: ='TAULA MARE DEF'!$U$68 -> 51835.992 | E27: 2 | F27: 36414.25 | R27: 19546 | S27: CONV
C28: TOTALS | D28: =D8+D10+D16+D26 -> #REF! | F28: =F8+F10+F16 -> 2070918.4
C29: Provisions | D29: =SUM(D30:D32) -> 634334.97 | F29: =SUM(F30:F31) -> 136491.67 | G29: =SUM(G30:G32) -> #REF!
C30: ABSENTISME | D30: ='CALCUL ANUAL SASSEP'!$S$119 -> 468424.87 | F30: 105745.78 | G30: =D20-F20 -> -17705.14 | H30: =(D20/F20)-1 -> -0.366295 | I30: 2020:Absentisme 6% 2024: Absentismes 5,23% 2020: Formació i riscos 2% 2024 Formació i riscos 2% 2020: Augment 8,04% 2024: Augment 7,625%
C31: PROVISIÓ PER FORMACIÓ I RISCOS LABORALS | D31: 45285.672 | F31: 30745.889 | G31: =D21-F21 -> 45712.586 | H31: =(D21/F21)-1 -> 0.74922482
C32: PROVISIÓ D'AUGMENTS | D32: ='CALCUL ANUAL SASSEP'!$S$121 -> 120624.43 | F32: 150141.87 | G32: =D22-F22 -> #REF! | H32: =(D22/F22)-1 -> #REF!
C33: TOTAL PERSONAL AMB PROVISIONS DE PERSONAL | D33: =D28+D29 -> #REF! | F33: =F28+F29 -> 2207410 | G33: =D33-F33 -> #REF!
C34: Serveis complementaris | D34: =D35+D36+D37 -> 107850 | F34: =F35+F36+F37 -> 89600
C35: Desenvolupament de projectes socials (180 mòduls) | D35: ='CALCUL ANUAL SASSEP'!S127 -> 57600 | E35: Preu unitaris | F35: 50000 | G35: =D35-F35 -> 7600 | H35: =(D35-F35)/D35 -> 0.13194444 | I35: 2020: 250 mòduls
C36: SERVEI INTERPRETACIÓ (650) | D36: ='CALCUL ANUAL SASSEP'!S129 -> 29250 | E36: Preu unitaris | F36: 26400 | G36: =D36-F36 -> 2850 | H36: =(D36-F36)/D36 -> 0.097435897 | I36: 2020: 800 mòduls
C37: SERVEI DE TRADUCCIÓ (400 paraules 1 unitat mòduls) 600 mòduls | D37: ='CALCUL ANUAL SASSEP'!S130 -> 21000 | E37: Preu unitaris | F37: 13200 | G37: =D37-F37 -> 7800 | H37: =(D37-F37)/D37 -> 0.37142857 | I37: 2020: 400 mòduls
C38: TOTAL SERVEIS COMPLEMENTARIS + PERSONAL | D38: =D33+D34 -> #REF! | F38: =F33+F34+F26 -> 2333424.3 | G38: =D38-F38 -> #REF!
A39: 2 | B39: CD | C39: COSTOS DE FUNCIONAMENT | D39: =SUM(D40:D54) -> 136887.85 | F39: =SUM(F40:F54) -> 326907.13
C40: Cost de vigilància Casp 126 | D40: 93007.85 | E40: 4199 hores | F40: 86837.13 | H40: =(D40-F40)/D40 -> 0.066346228 | I40: 2020: Recursos de capacitació / formadors (sessions especificas)
C41: Supervisió | D41: 1200 | E41: 24 hores | F41: 1200 | H41: =(D41-F41)/D41 -> 0 | I41: L'any 2020 hi ha que s'activarà per una modificació del contracte
C42: Formació (12 mòduls 2 hores) | D42: 1200 | E42: 24 hores | F42: 100000 | H42: =(D42-F42)/D42 -> -82.333333
C43: Lloguer espai per la formació | D43: 720 | F43: 120000 | H43: =(D43-F43)/D43 -> -165.66667
...

Sheet CALCUL ANUAL SASSEP
A1: SIMULACIÓ DE COST DE GESTIÓ DEL SERVEI D'ATENCIÓ SOCIAL AL SENSELLERISME A L'ESPAI PÚBLIC (SASSEP + SDI ) amb mesures de contractació pública sostenible
A3: JUSTIFICACIÓ DEL PRESSUPOST DEL CONTRACTE, annex a l'informe justificatiu de la despesa
A4: PRESSUPOST ANUAL DETALLAT PER PARTIDES I DISTRIBUCIÓ DE LA DESPESA
C6: Inici | D6: 46388 | E6: 1 any + 36 mesos | I6: =(G8*H7)/G7 -> 0.36083333 | J6: 1226.83 | K6: 4.33
G7: 12 | H7: 1 | O7: 10705.41 | P7: =O7*75% -> 8029.0575 | Q7: =P7/12 -> 669.08812
G8: 4.33
A9: SUPOSIT CICLE GENERAL I DIES FEINERS | B9: 225 | C9: =365-104-14-22=225 dies laborables de feina | H9: 1700 | I9: 57095.5 | N9: =I9/12 -> 4757.9583 | P9: =P7/12 -> 669.08812
A10: Hores/any d'empleat amb jornada de 7,56 h/dia de mitjana es a dir 37,8 h/set. | B10: 1701 | C10: dies any-cap de setmana-festius-dies lab. vacances | N10: =1700/12 -> 141.66667
I11: =33.59*75% -> 25.1925 | N11: =N9/N10 -> 33.585588 | O11: =N11*75% -> 25.189191
A12: COSTOS SOCIALS: SEGURETAT SOCIAL | B12: 0.326 | C12: Dades Segurentat Social 2026 | H12: =(H9*I10)/I9 -> 0
A13: Provisió absentisme (d'acord amb el darrer informe) | B13: 0.1165 | C13: Dades del full de subrogació
A14: Formació en riscos laborals: Aprox. Entre el 2% i el 3% | B14: 0.02 | C14: Dades de 2021 risc III | I14: =F51*0.2 -> 340.2 | Q14: =N37+N37 -> 85025.338 | S14: =S15-U15 -> 182200.39
A15: Augment 2026 I 2027 d'acord amb el Conveni estatal | B15: 0.03 | C15: Per cada any | Q15: =#REF!+44235.96 -> #REF! | R15: =Q15/2 -> #REF! | S15: 182200.39
Q16: =SUM(Q14:Q15) -> #REF!
A18: CONCEPTES | B18: Percentatge previst | C18: Suplència | D18: Hores/dia | E18: Hores/ setmana | F18: NECESSITATS total hores/any | G18: Empleats necessaris | H18: PREU | I18: % Disponibilitat | J18: Sous subrogació | K18: Costos socials (sobre subrogació) | L18: TOTALS (SOUS SUBROGACIO) | M18: SOUS CONVENI | N18: cost professional conveni +pluses | O18: sou | P18: Diferencia | Q18: TOTAL PERFILS PROFESSIONALS | R18: Costos Socials | S18: COST TOTALS | V18: COSTOS PERSONAL | W18: COSTOS ESTRUCTURA | X18: MODUL SIDAI | Y18: MODUL TALLER | Z18: MODUL INTER | AA18: MODUL TRADUC | AB18: PROVISIÓ
A19: Personal Directe | S19: SOUS
A20: EQUIP DIRECTIU | F20: =F21+F28+F36+F43 -> 15309 | M20: Preu/perfil | Q20: =Q21+Q28+Q36+Q43 -> 385273.54 | R20: =R21+R28+R36+R43 -> 125599.18 | S20: =S21+S28+S36+S43 -> 510872.72
A21: DIRECCIÓ (GRUP I) | F21: 1701 | G21: 1 | M21: =M22+M23+M24+M25+M26+M27 -> 52242.6 | Q21: =SUM(Q22:Q27) -> 52242.6 | R21: =SUM(R22:R27) -> 17031.088 | S21: =SUM(S22:S27) -> 69273.688 | T21: =S21 -> 69273.688
A22: Director (Grup I) | C22: Subdir | D22: =F22/225 -> 7.56 | E22: 37.8 | F22: 1701 | G22: 1 | H22: 38432 | M22: =H22 -> 38432 | N22: =M25+M24+M23+M22 -> 48626.32 | O22: =IF(#REF!>N22,#REF!,N22) -> #REF! | Q22: =M22 -> 38432 | R22: =Q22*$B$12 -> 12528.832 | S22: =Q22+R22 -> 50960.832 | V22: =S22 -> 50960.832
A23: Disponibilitat (10% Cost hora) | C23: si | F23: =F22/2 -> 850.5 | G23: 1 | H23: =(H22/1701)*10% -> 2.2593768 | I23: 0.5 | M23: =H23*F23 -> 1921.6 | Q23: =M23 -> 1921.6 | R23: =Q23*$B$12 -> 626.4416 | S23: =Q23+R23 -> 2548.0416 | V23: =S23 -> 2548.0416
A24: Nocturnitat (25% del 25% hores previstes en horari nocturn) | D24: =D21*0.25 -> 0 | E24: =E21*0.25 -> 0 | F24: =F22*I24 -> 850.5 | G24: 1 | H24: =(H22/1701)*25% -> 5.6484421 | I24: 0.5 | M24: =F24*H24 -> 4804 | Q24: =M24 -> 4804 | R24: =Q24*$B$12 -> 1566.104 | S24: =Q24+R24 -> 6370.104 | V24: =S24 -> 6370.104
A25: Valoració i diagnòstic | F25: 12 | G25: 1 | H25: 289.06 | M25: =F25*H25 -> 3468.72 | Q25: =M25 -> 3468.72 | R25: =Q25*$B$12 -> 1130.8027 | S25: =Q25+R25 -> 4599.5227 | V25: =S25 -> 4599.5227
A26: Complement d'antiguitat | F26: 911.4 | G26: 1 | M26: =F26*G26 -> 911.4 | Q26: =M26 -> 911.4 | R26: =Q26*$B$12 -> 297.1164 | S26: =Q26+R26 -> 1208.5164 | V26: =S26 -> 1208.5164
A27: Diferencial subrogació | M27: =52242.6-SUM(M22:M26) -> 2704.88 | Q27: =M27 -> 2704.88 | R27: =Q27*$B$12 -> 881.79088 | S27: =Q27+R27 -> 3586.6709 | V27: =S27 -> 3586.6709
A28: SUB DIRECCIÓ (GRUP I.1) | F28: 1701 | G28: 1 | M28: =SUM(M29:M35) -> 46629.596 | Q28: =SUM(Q29:Q35) -> 46629.596 | R28: =SUM(R29:R35) -> 15201.248 | S28: =SUM(S29:S35) -> 61830.844 | T28: =S28 -> 61830.844 | V28: =SUM(V22:V27) -> 69273.688
A29: SUB DIRECCIÓ | F29: 1701 | G29: =F29/$B$10 -> 1 | H29: 33951.26 | M29: =H29 -> 33951.26 | Q29: =G29*M29 -> 33951.26 | R29: =Q29*$B$12 -> 11068.111 | S29: =Q29+R29 -> 45019.371 | V29: =S29 -> 45019.371
A30: Disponibilitat (10% Cost hora) | F30: =F29*I30 -> 850.5 | G30: =$G$29 -> 1 | H30: =(H29/1701)*10% -> 1.9959588 | I30: 0.5 | M30: =H30*F30 -> 1697.563 | Q30: =G30*M30 -> 1697.563 | R30: =Q30*$B$12 -> 553.40554 | S30: =Q30+R30 -> 2250.9685 | V30: =S30 -> 2250.9685
A31: Nocturnitat (25% del 25% hores previstes en horari nocturn) | F31: =F29*I31 -> 850.5 | G31: =$G$29 -> 1 | H31: =(H29/1701)*25% -> 4.9898971 | I31: 0.5 | M31: =H31*F31 -> 4243.9075 | Q31: =G31*M31 -> 4243.9075 | R31: =Q31*$B$12 -> 1383.5138 | S31: =Q31+R31 -> 5627.4213 | V31: =S31 -> 5627.4213
A32: Valoració i diagnòstic | F32: 12 | G32: =$G$29 -> 1 | H32: =H25 -> 289.06 | M32: =F32*H32 -> 3468.72 | Q32: =G32*M32 -> 3468.72 | R32: =Q32*$B$12 -> 1130.8027 | S32: =Q32+R32 -> 4599.5227 | V32: =S32 -> 4599.5227
A33: Complement d'antiguitat | F33: =F26 -> 911.4 | G33: =$G$29 -> 1 | M33: =F33 -> 911.4 | Q33: =G33*M33 -> 911.4 | R33: =Q33*$B$12 -> 297.1164 | S33: =Q33+R33 -> 1208.5164 | V33: =S33 -> 1208.5164
A34: Substitució del Director | F34: =(H22-H29)/12 -> 373.395 | G34: =$G$29 -> 1 | M34: =F34 -> 373.395 | Q34: =G34*M34 -> 373.395 | R34: =Q34*$B$12 -> 121.72677 | S34: =Q34+R34 -> 495.12177 | V34: =S34 -> 495.12177
A35: Diferncial subrogació | F35: 1983.35 | M35: 1983.35 | Q35: =M35 -> 1983.35 | R35: =Q35*$B$12 -> 646.5721 | S35: =Q35+R35 -> 2629.9221 | V35: =S35 -> 2629.9221
A36: COORDINADORS TERRITORIALS | F36: 10206 | G36: 6 | M36: =M37+M38+M39+M40+M41+M42 -> 44262.6 | N36: =SUM(N37:N41) -> 42512.669 | O36: =SUM(O37:O41) -> #REF! | P36: =SUM(P37:P41) -> #REF! | Q36: =SUM(Q37:Q42) -> 246490.22 | R36: =SUM(R37:R42) -> 80355.812 | S36: =SUM(S37:S42) -> 326846.03 | T36: =S36 -> 326846.03 | V36: =SUM(V29:V35) -> 61830.844
A37: Coordinador | C37: NO | F37: 1701 | G37: =F36/F37 -> 6 | H37: 33951.26 | M37: =H37 -> 33951.26 | N37: =M37+M38+M39+M40 -> 42512.669 | O37: =IF(#REF!>N37,#REF!,N37) -> #REF! | P37: =(O37-N37)/O37 -> #REF! | Q37: =M37*G37 -> 203707.56 | R37: =$B$12*Q37 -> 66408.665 | S37: =Q37+R37 -> 270116.22 | V37: =S37 -> 270116.22
A38: Disponibilitat (10% Cost hora) | C38: si | F38: =1701*I38 -> 850.5 | G38: 6 | H38: =(H37/1701)*10% -> 1.9959588 | I38: 0.5 | M38: =F38*H38 -> 1697.563 | Q38: =M38*G38 -> 10185.378 | R38: =$B$12*Q38 -> 3320.4332 | S38: =Q38+R38 -> 13505.811 | V38: =S38 -> 13505.811
A39: Nocturnitat (25% del 40% hores previstes en horari nocturn) | F39: =1701*I39 -> 680.4 | G39: 6 | H39: =(H37/1701)*25% -> 4.9898971 | I39: 0.4 | M39: =F39*H39 -> 3395.126 | Q39: =M39*H39 -> 16941.329 | R39: =$B$12*Q39 -> 5522.8734 | S39: =Q39+R39 -> 22464.203 | V39: =S39 -> 22464.203
A40: Valoració i diagnosi | F40: 12 | G40: 6 | H40: =H32 -> 289.06 | M40: =F40*H40 -> 3468.72 | Q40: =M40*G41 -> 10406.16 | R40: =$B$12*Q40 -> 3392.4082 | S40: =Q40+R40 -> 13798.568 | V40: =S40 -> 13798.568
A41: Complement d'antiguitat | F41: 911 | G41: 3 | M41: =F41 -> 911 | Q41: =G41*M41 -> 2733 | R41: =$B$12*Q41 -> 890.958 | S41: =Q41+R41 -> 3623.958 | V41: =S41 -> 3623.958
A42: Diferencial subrogació | F42: 838.93 | G42: 3 | M42: =44262.6-M37-M38-M39-M40-M41 -> 838.931 | Q42: =M42*3 -> 2516.793 | R42: =Q42*B12 -> 820.47452 | S42: =Q42+R42 -> 3337.2675 | V42: =S42 -> 3337.2675
A43: COORDINADORS TRANSVERSAL | F43: 1701 | G43: 1 | M43: =SUM(M44:M48) -> 39911.129 | N43: =M43+M46+M47+M48 -> 44173.435 | O43: =IF(#REF!>N43,#REF!,N43) -> #REF! | P43: =(O43-N43)/O43 -> #REF! | Q43: =SUM(Q44:Q47) -> 39911.129 | R43: =SUM(R44:R47) -> 13011.028 | S43: =SUM(S44:S48) -> 52922.157 | T43: =S43 -> 52922.157 | V43: =SUM(V37:V42) -> 326846.03
...

Sheet CÀLCUL ANUAL SDI
A1: SIMULACIÓ DE COST DE GESTIÓ DEL SERVEI D'ATENCIÓ SOCIAL AL SENSELLERISME A L'ESPAI PÚBLIC (SASSEP + SDI ) amb mesures de contractació pública sostenible
A3: JUSTIFICACIÓ DEL PRESSUPOST DEL CONTRACTE, annex a l'informe justificatiu de la despesa
A4: PRESSUPOST ANUAL DETALLAT PER PARTIDES I DISTRIBUCIÓ DE LA DESPESA
C6: Inici | D6: 46388 | E6: 1 any + 36 mesos | I6: =(G8*H7)/G7 -> 0.36083333 | J6: 4.33
G7: 12 | H7: 1 | N7: 10705.41 | O7: =N7*75% -> 8029.0575 | P7: =O7/12 -> 669.08812
G8: 4.33
A9: SUPOSIT CICLE GENERAL I DIES FEINERS | B9: 225 | C9: =365-104-14-22=225 dies laborables de feina | H9: 1700 | I9: 57095.5 | M9: =I9/12 -> 4757.9583 | O9: =O7/12 -> 669.08812
A10: Hores/any d'empleat amb jornada de 7,56 h/dia de mitjana es a dir 37,8 h/set. | B10: 1701 | C10: dies any-cap de setmana-festius-dies lab. vacances | M10: =1700/12 -> 141.66667
I11: =33.59*75% -> 25.1925 | M11: =M9/M10 -> 33.585588 | N11: =M11*75% -> 25.189191
A12: COSTOS SOCIALS: SEGURETAT SOCIAL | B12: 0.322 | C12: Dades Segurentat Social 2026 | H12: =(H9*I10)/I9 -> 0
A13: Provisió absentisme (d'acord amb el darrer informe) | B13: 0.1165 | C13: Dades del full de subrogació
A14: Formació en riscos laborals: Aprox. Entre el 2% i el 3% | B14: 0.02 | C14: Dades de 2021 risc III | I14: =F48*0.2 -> 340.2 | P14: =M39+M39 -> 80983.698 | R14: =R15-T15 -> 182200.39
A15: Augment 2026 i 2027 d'acord amb el Conveni estatal | B15: 0.03 | C15: Per cada any | P15: =#REF!+44235.96 -> #REF! | Q15: =P15/2 -> #REF! | R15: 182200.39
P16: =SUM(P14:P15) -> #REF!
A18: CONCEPTES | B18: Percentatge previst | C18: Suplència | D18: Hores/dia | E18: Hores/ setmana | F18: NECESSITATS total hores/any | G18: Empleats necessaris | H18: PREU | I18: % Disponibilitat | J18: Costos socials (sobre subrogació) | K18: TOTALS (SOUS SUBROGACIO) | L18: SOUS CONVENI | M18: cost professional conveni +pluses | N18: sou | O18: Diferencia | P18: TOTAL PERFILS PROFESSIONALS | Q18: Costos Socials | R18: COST TOTALS | U18: COSTOS PERSONAL | V18: COSTOS ESTRUCTURA | W18: DESPESES PROJECTES SOCIALS GESTIÓ | X18: SERVEIS EXTERNS | Y18: INTERPRETACIÒ | Z18: TRADUCCIÓ | AA18: COMUNICACIÓ | AB18: TALLERS | AC18: PROVISIÓ
A19: Personal Directe | R19: SOUS
A20: EQUIP DIRECTIU | G20: =G21+G28+G34+G39 -> 6 | P20: =P21+P28+P38+P45 -> 252030.88 | Q20: =Q21+Q28+Q38+Q45 -> 81153.943 | R20: =R21+R28+R38+R45 -> 333184.82
A21: DIRECCIÓ (GRUP I) | F21: 1701 | G21: 1 | L21: Preu/perfil | P21: =SUM(P22:P27) -> 51531 | Q21: =SUM(Q22:Q27) -> 16592.982 | R21: =SUM(R22:R27) -> 68123.982 | U21: =R22 -> 50807.104
A22: Director (Grup I) | C22: Subdir | D22: =F22/225 -> 7.56 | E22: 37.8 | F22: 1701 | G22: 1 | H22: 38432 | L22: =H22 -> 38432 | M22: =L25+L24+L23+L22 -> 48626.32 | N22: =IF(#REF!>M22,#REF!,M22) -> #REF! | P22: =L22 -> 38432 | Q22: =P22*$B$12 -> 12375.104 | R22: =P22+Q22 -> 50807.104 | U22: =R23 -> 2540.3552
A23: Disponibilitat (10% Cost hora) | C23: si | F23: =F22/2 -> 850.5 | G23: 1 | H23: =(H22/1701)*10% -> 2.2593768 | I23: 0.5 | L23: =H23*F23 -> 1921.6 | P23: =L23 -> 1921.6 | Q23: =P23*$B$12 -> 618.7552 | R23: =P23+Q23 -> 2540.3552 | U23: =R24 -> 6350.888
A24: Nocturnitat (25% del 25% hores previstes en horari nocturn) | D24: =D21*0.25 -> 0 | E24: =E21*0.25 -> 0 | F24: =F22*I24 -> 850.5 | G24: 1 | H24: =(H22/1701)*25% -> 5.6484421 | I24: 0.5 | L24: =F24*H24 -> 4804 | P24: =L24 -> 4804 | Q24: =P24*$B$12 -> 1546.888 | R24: =P24+Q24 -> 6350.888 | U24: =R25 -> 4585.6478
A25: Valoració i diagnòstic | F25: 12 | G25: 1 | H25: 289.06 | L25: =F25*H25 -> 3468.72 | P25: =L25 -> 3468.72 | Q25: =P25*$B$12 -> 1116.9278 | R25: =P25+Q25 -> 4585.6478 | U25: =R26 -> 1204.8708
A26: Complement d'antiguitat | F26: 911.4 | G26: 1 | L26: =F26*G26 -> 911.4 | P26: =L26 -> 911.4 | Q26: =P26*$B$12 -> 293.4708 | R26: =P26+Q26 -> 1204.8708 | U26: =R27 -> 2635.1162
A27: Diferencial subrogació | L27: =51531-L22-L23-L24-L25-L26 -> 1993.28 | P27: =L27 -> 1993.28 | Q27: =P27*$B$12 -> 641.83616 | R27: =P27+Q27 -> 2635.1162 | T27: ok | U27: =SUM(U21:U26) -> 68123.982
A28: SUPORT TÈCNIC PER A PROJECTES COMUNITARIS | F28: =F29+F34 -> 3402 | G28: 1 | P28: =SUM(P29:P37) -> 65000.89 | Q28: =SUM(Q29:Q37) -> 20930.287 | R28: =SUM(R29:R37) -> 85931.177 | U28: =R29 -> 34382.127
A29: Suport tènic per a projecte específics | F29: 1701 | G29: =F29/$B$10 -> 1 | H29: 26007.66 | L29: =H29 -> 26007.66 | P29: =G29*L29 -> 26007.66 | Q29: =P29*$B$12 -> 8374.4665 | R29: =P29+Q29 -> 34382.127 | U29: =R30 -> 1204.8708
A30: Complement d'antiguitat | F30: =F26 -> 911.4 | G30: =$G$29 -> 1 | L30: =F30 -> 911.4 | P30: =G30*L30 -> 911.4 | Q30: =P30*$B$12 -> 293.4708 | R30: =P30+Q30 -> 1204.8708 | U30: =R31 -> 493.62819
A31: Substitució del Director | F31: 373.395 | G31: =$G$29 -> 1 | L31: =F31 -> 373.395 | P31: =G31*L31 -> 373.395 | Q31: =P31*$B$12 -> 120.23319 | R31: =P31+Q31 -> 493.62819 | U31: =R32 -> 4584.696
A32: Valoració i diagnòstic | F32: 289 | G32: 12 | L32: =F32*G32 -> 3468 | P32: =L32 -> 3468 | Q32: =P32*$B$12 -> 1116.696 | R32: =P32+Q32 -> 4584.696 | U32: =R33 -> 3492.1225
A33: Diferncial subrogació | L33: =33402-L29-L30-L31-L32 -> 2641.545 | P33: =L33 -> 2641.545 | Q33: =P33*$B$12 -> 850.57749 | R33: =P33+Q33 -> 3492.1225 | U33: =R34 -> 34382.127
A34: Suport tècnic a la Direcció | F34: 1701 | G34: 1 | H34: 26007.66 | L34: =H34 -> 26007.66 | P34: =G34*L34 -> 26007.66 | Q34: =P34*$B$12 -> 8374.4665 | R34: =P34+Q34 -> 34382.127 | U34: =R35 -> 4584.696
A35: Valoració i diagnòstic | F35: 289 | G35: 12 | L35: =F35*G35 -> 3468 | P35: =L35 -> 3468 | Q35: =P35*$B$12 -> 1116.696 | R35: =P35+Q35 -> 4584.696 | U35: =R36 -> 1204.8708
A36: Complement d'antiguitat | F36: 911 | G36: 1 | L36: 911.4 | P36: =L36 -> 911.4 | Q36: =P36*$B$12 -> 293.4708 | R36: =P36+Q36 -> 1204.8708 | U36: =R37 -> 1602.0393
A37: Diferncial subrogació | L37: =33951.26-L34-L35-L36 -> 3564.2 | P37: 1211.83 | Q37: =P37*$B$12 -> 390.20926 | R37: =P37+Q37 -> 1602.0393 | T37: ok | U37: =SUM(U28:U36) -> 85931.177
A38: COORDINADORS TERRITORIALS | F38: 5103 | M38: =SUM(M39:M43) -> 40491.849 | N38: =SUM(N39:N43) -> #REF! | O38: =SUM(O39:O43) -> #REF! | P38: =SUM(P39:P44) -> 135498.99 | Q38: =SUM(Q39:Q44) -> 43630.675 | R38: =SUM(R39:R44) -> 179129.66
A39: Coordinador | C39: NO | F39: 1701 | G39: =F38/F39 -> 3 | H39: 33951.26 | L39: =H39 -> 33951.26 | M39: =L39+L40+L41+L42 -> 40491.849 | N39: =IF(#REF!>M39,#REF!,M39) -> #REF! | O39: =(N39-M39)/N39 -> #REF! | P39: =L39*G39 -> 101853.78 | Q39: =$B$12*P39 -> 32796.917 | R39: =P39+Q39 -> 134650.7 | U39: =R39 -> 134650.7
A40: Disponibilitat (10% Cost hora) | C40: si | F40: =1701*I40 -> 476.28 | G40: 3 | H40: =(H39/1701)*10% -> 1.9959588 | I40: 0.28 | L40: =F40*H40 -> 950.63528 | P40: =L40*G40 -> 2851.9058 | Q40: =$B$12*P40 -> 918.31368 | R40: =P40+Q40 -> 3770.2195 | U40: =R40 -> 3770.2195
A41: Nocturnitat (25% del 40% hores previstes en horari nocturn) | F41: =1701*I41 -> 425.25 | G41: 3 | H41: =(H39/1701)*25% -> 4.9898971 | I41: 0.25 | L41: =F41*H41 -> 2121.9538 | P41: =L41*H41 -> 10588.331 | Q41: =$B$12*P41 -> 3409.4426 | R41: =P41+Q41 -> 13997.773 | U41: =R41 -> 13997.773
A42: Valoració i diagnosi | F42: 12 | G42: 3 | H42: 289 | L42: =F42*H42 -> 3468 | P42: =L42*G43 -> 10404 | Q42: =$B$12*P42 -> 3350.088 | R42: =P42+Q42 -> 13754.088 | U42: =R42 -> 13754.088
A43: Complement d'antiguitat | F43: 911 | G43: 3 | L43: =F43 -> 911 | P43: =G43*L43 -> 2733 | Q43: =$B$12*P43 -> 880.026 | R43: =P43+Q43 -> 3613.026 | U43: =R43 -> 3613.026
...

Sheet ANNEX 3BIS POS VTEH 
B2: 200 DIES DE SERVEIS COMPLEMENTARIS GESTIO DELS SERVEIS MUNICIPALS ADREÇATS A VÍCTIMES DE TRÀFIC D'ÉSSERS HUMANS
B5: EXP P2600156 ANNEX-3 BIS | G5: Pel període inicial del contracte | H5: 200 dies.
B7: Codi | C7: Descripció | D7: Quantitat estimada | E7: Preu u/t Sortida | F7: Import sortida | G7: Preu u/t Proveïdor | H7: Import Proveïdor
B8: Despeses per preu GLOBAL | C8: Preu GLOBAL | D8: 1 | F8: 47149.29 | H8: =G8 -> 0
D9: Subtotal preu GLOBAL | F9: =SUM(F8:F8) -> 47149.29 | G9: Subtotal preu global proveidor | H9: =SUM(H8) -> 0
B11: Despeses per preu UNITARI
B12: Servei d'Interpretació Intercultural | C12: Preu UNITARI | D12: 110 | E12: 59.89 | F12: =D12*E12 -> 6587.9 | H12: =G12*D12 -> 0
B13: Servei de Medicació Intercultural | C13: Preu UNITARI | D13: 55 | E13: 79.1 | F13: =D13*E13 -> 4350.5 | H13: =G13*D13 -> 0
B14: Servei de Traducció Documental (300 paraules /pàg) | C14: Preu UNITARI | D14: 10959 | E14: 0.2 | F14: =D14*E14 -> 2191.8 | H14: =G14*D14 -> 0
B15: Servei de Traducció Jurada (300 paraules/pàg) | C15: Preu UNITARI | D15: 10959 | E15: 0.28 | F15: =D15*E15 -> 3068.52 | H15: =G15*D15 -> 0
B16: Servei Jurista en SEU JUDICIAL | C16: Preu UNITARI | D16: 110 | E16: 152.55 | F16: =D16*E16 -> 16780.5 | H16: =G16*D16 -> 0
B17: Servei Jurista FORA de SEU JUDICIAL | C17: Preu UNITARI | D17: 137 | E17: 101.7 | F17: =D17*E17 -> 13932.9 | H17: =G17*D17 -> 0
B18: Servei de Supervisió | C18: Preu UNITARI | D18: 36 | E18: 158.2 | F18: =D18*E18 -> 5695.2 | H18: =G18*D18 -> 0
D19: Subtotal preu UNITARI | F19: =SUM(F12:F18) -> 52607.32 | G19: Subtotal preus unitaris proveidor | H19: =SUM(H12:H18) -> 0
C22: IMPORT: | F22: =F9+F19 -> 99756.61 | G22: IMPORT: | H22: =H9+H19 -> 0
B23: Aquest document s'ha de presentar signat pel representant legal de l'empresa i en format PDF | C23: IVA | E23: 0.1 | F23: =F22*E23 -> 9975.661 | G23: 0.1 | H23: =G23*H22 -> 0
C24: TOTAL: | F24: =SUM(F22:F23) -> 109732.27 | G24: TOTAL PROVEIDOR: | H24: =H22+H23 -> 0
C26: Barcelona, en la data de signatura
C28: Les quantitats indicades per l’IMSS com a preu global net així com cadascun dels preus unitaris nets determinats constitueixen la xifra màxima per sobre de la qual s'estimarà que les ofertes dels licitadors excedeixen el tipus de la licitació i, per tant, seran excloses.

Sheet Full6
B2: l servei requereix una cobertura de 4.940 hores anuals. Considerant la jornada anual de conveni (1.782 h), i descomptant vacances (176 h), permisos retribuïts (40 h) i un absentisme estimat del 4% (71 h), la disponibilitat efectiva per professional se situa en 1.495 hores anuals.
B3: En conseqüència, el dimensionament necessari del servei és de 3,30 efectius, recomanant-se un mínim de 3,4 professionals per garantir la continuïtat del servei i la cobertura de contingències.

Sheet SALARIS CONVENI 2024
C1: jornada anual
C2: 1724
C3: jornada efectiva
A4: cicle general | B4: 2024 | C4: =C2-24 -> 1700 | D4: 0.1 | E4: 0.25
B5: salari anual | C5: preu hora | D5: plus disponibilitat
D6: per hora
A7: DIRECCIÓ | B7: 30703.55 | C7: =B7/$C$2 -> 17.809484 | D7: =C7*$D$4 -> 1.7809484 | E7: =C7*$E$4 -> 4.4523709
A8: SOTSDIRECCIÓ.COMANDAMENTS INTERMEDIS | B8: 25922.15 | C8: =B8/$C$2 -> 15.03605 | D8: =C8*$D$4 -> 1.503605 | E8: =C8*$E$4 -> 3.7590125
A9: LLICENCIATS a extinguir | B9: 24677.81 | C9: =B9/$C$2 -> 14.314275 | D9: =C9*$D$4 -> 1.4314275 | E9: =C9*$E$4 -> 3.5785687
A10: tècnic superior graduat actual DIPLOMATS | B10: 24677.81 | C10: =B10/$C$2 -> 14.314275 | D10: =C10*$D$4 -> 1.4314275 | E10: =C10*$E$4 -> 3.5785687
A11: Personal tècnic superior (integradors socials, cicle formatiu grau superior) | B11: 22319.07 | C11: =B11/$C$2 -> 12.946096 | D11: =C11*$D$4 -> 1.2946096 | E11: =C11*$E$4 -> 3.2365241
A12: Personal tècnic (cicles formatius grau mig) | B12: 19546.1 | C12: =B12/$C$2 -> 11.337645 | D12: =C12*$D$4 -> 1.1337645 | E12: =C12*$E$4 -> 2.8344113
A13: Personal de servei (telefonista, personal de neteja, ordenances, conserge, etc.) | B13: 16999.83 | C13: =B13/$C$2 -> 9.8606903 | D13: =C13*$D$4 -> 0.98606903 | E13: =C13*$E$4 -> 2.4651726
A15: COMPLEMENTS (import taules salarials 2018-no actualitzats) | B15: import per paga | C15: import anual
A16: VALORACIÓ I DIAGNÒSTIC | B16: 289.06 | C16: =B16*14 -> 4046.84
A17: COORDINACIÓ | B17: 92.92 | C17: =B17*14 -> 1300.88
A19: NOCTURNITAT jornada laboral que es realitza entre les 22h i les 8h. | B19: %25 del salari diari | C19: sí tota la jornada nocturna
C20: =B7*25% -> 7675.8875 | D20: DIRECCIÓ
C21: =B8*25% -> 6480.5375 | D21: SOTSDIRECCIÓ.COMANDAMENTS INTERMEDIS
C22: =B9*25% -> 6169.4525 | D22: LLICENCIATS
C23: =B10*25% -> 6169.4525 | D23: DIPLOMATS
C24: =B11*25% -> 5579.7675 | D24: PERSONAL QUALIFICAT
C25: sí un 30% de la jornada
C26: =B7*30%*25% -> 2302.7662 | D26: DIRECCIÓ
C27: =B8*30%*25% -> 1944.1613 | D27: SOTSDIRECCIÓ.COMANDAMENTS INTERMEDIS
C28: =B9*30%*25% -> 1850.8357 | D28: LLICENCIATS
C29: =B10*30%*25% -> 1850.8357 | D29: DIPLOMATS
C30: =B11*30%*25% -> 1673.9302 | D30: PERSONAL QUALIFICAT
A31: El 14 dies festius equivalen a 1,5 vegades les hores realitzades

Sheet TAULA MARE (proba) (2)
A1: SIMULACIÓ DE COST DE GESTIÓ DEL SERVEI D'ATENCIÓ SOCIAL AL SENSELLERISME A L'ESPAI PÚBLIC (SASSEP) amb mesures de contractació pública sostenible
A3: JUSTIFICACIÓ DEL PRESSUPOST DEL CONTRACTE, annex a l'informe justificatiu de la despesa
A4: PRESSUPOST ANUAL DETALLAT PER PARTIDES I DISTRIBUCIÓ DE LA DESPESA
C6: Inici | D6: 45658 | E6: 1 any + 12 mesos | I6: =(G8*H7)/G7 -> 0.36083333 | J6: 1226.83 | K6: 4.33
G7: 12 | H7: 1
G8: 4.33 | P8: =N25/1700 -> 14.510471
A9: SUPOSIT CICLE GENERAL I DIES FEINERS | B9: 225 | C9: =365-104-14-22=225 dies laborables de feina | H9: 1700 | I9: 12 | N9: 1 | P9: =P8*32.6% -> 4.7304134
A10: Hores/any d'empleat amb jornada de 7,56 h/dia de mitjana es a dir 37,8 h/set. | B10: 1701 | C10: dies any-cap de setmana-festius-dies lab. vacances | I10: 4.33 | P10: =P8*2.44% -> 0.35405548
P11: =SUM(P8:P10) -> 19.594939
A12: COSTOS SOCIALS: SEGURETAT SOCIAL | B12: 0.326 | C12: Dades Segurentat Social 2024 | H12: =(H9*I10)/I9 -> 613.41667 | I12: =J6/H12 -> 1.9999946 | P12: 3.63
A13: Provisió absentisme (d'acord amb el darrer informe) | B13: 0.0523 | C13: Dades del full de subrogació | I13: =N30/1701 -> 14.50194 | P13: =SUM(P11:P12) -> 23.224939
A14: Formació en riscos laborals: Aprox. Entre el 2% i el 3% | B14: 0.0245 | C14: Dades de 2021 risc III | I14: =I13*0.25 -> 3.625485 | U14: =U15-W15 -> 0.0011207974
A15: Provisió augment 2026-2027 (per cada any) | B15: 0.05 | P15: =O29 -> 0 | U15: 182200.39 | W15: 182200.39
A18: CONCEPTES | B18: Percentatge previst | C18: Suplència | D18: Hores/dia | E18: Hores/ setmana | F18: NECESSITATS total hores/any | G18: Empleats necessaris | H18: PREU | I18: % Disponibilitat | J18: Sous subrogació | K18: Costos socials (sobre subrogació) | L18: TOTALS (SOUS SUBROGACIO) | M18: SUBROGACIÓ | N18: SOUS CONVENI | O18: cost professional conveni +pluses | P18: sou | Q18: TOTALS | R18: Diferencia | T18: Costos Socials | U18: COST TOTALS | X18: COSTOS PERSONAL | Y18: COSTOS ESTRUCTURA | Z18: DESPESES GESTIÓ | AA18: BENEFICI INDUSTRIAL | AB18: PREU UNITARI | AC18: PROVISIONS
A19: Personal Directe | U19: SOUS
A20: DIRECCIÓ (GRUP I) | Q20: =IF(L20>P20,L20,P20) -> 0 | S20: =S21+S25 -> 79399.287 | U20: =SUM(U21:U28) -> 105283.45
A21: Director (Grup I) | C21: no | D21: =F21/225 -> 7.5555556 | E21: 37.8 | F21: 1700 | G21: =F21/B10 -> 0.99941211 | M21: 49151.04 | N21: 30703.54 | O21: =N21+N22+N23+N24 -> 37625.688 | P21: =IF(M21>O21,M21,O21) -> 49151.04 | R21: =(P21-O21)/P21 -> 0.23448846 | S21: =P21*G21 -> 49122.145 | T21: =$B$12*S21 -> 16013.819 | U21: =S21+T21 -> 65135.964 | V21: =S20+S29+S58+S70 -> 2331638.3 | X21: =U21 -> 65135.964
A22: Disponibilitat (10% Cost hora) | C22: si | F22: =F21*I22 -> 850 | G22: 1 | H22: =(N21/F21)*0.1 -> 1.8060906 | I22: 0.5 | N22: =H22*F22 -> 1535.177 | T22: =$B$12*S22 -> 0 | X22: =U22 -> 0
A23: Nocturnitat (25% del 25% hores previstes en horari nocturn) | D23: =D20*0.25 -> 0 | E23: =E20*0.25 -> 0 | F23: =F21*I23 -> 425 | G23: 1 | H23: =(N21/F21)*I23 -> 4.5152265 | I23: 0.25 | N23: =F23*H23 -> 1918.9713 | T23: =$B$12*S23 -> 0 | X23: =U23 -> 0
A24: Valoració i diagnòstic | F24: 12 | G24: 1 | H24: 289 | N24: =H24*F24 -> 3468 | T24: =$B$12*S24 -> 0 | X24: =U24 -> 0
A25: Suport tècnic a la Direcció (Grup II) | C25: si | D25: 7.56 | F25: 1700 | G25: =F25/B10 -> 0.99941211 | N25: 24667.8 | O25: =N25+N26+N27+N28 -> 30294.952 | P25: 30294.952 | Q25: =IF(L25>P25,L25,P25) -> 30294.952 | S25: =P25*G25 -> 30277.142 | T25: =$B$12*S25 -> 9870.3484 | U25: =SUM(S25:T25) -> 40147.491 | X25: =U25 -> 40147.491
A26: Disponibilitat (10% Cost hora) | C26: si | F26: =F25/2 -> 850 | G26: 1 | H26: =(N25/1700)*0.1 -> 1.4510471 | I26: 0.5 | N26: =((N25/1700)*0.1)*F27 -> 616.695 | T26: =$B$12*S26 -> 0 | X26: =U26 -> 0
A27: Nocturnitat (25% del 25% hores previstes en horari nocturn) | E27: =E23 -> 0 | F27: =F21*I27 -> 425 | G27: 1 | I27: 0.25 | N27: =(N25/1700)*I27*F27 -> 1541.7375 | T27: =$B$12*S27 -> 0 | X27: =U27 -> 0
A28: Valoració i diagnòstic | F28: 12 | G28: 1 | H28: 289.06 | N28: =F28*H28 -> 3468.72 | T28: =$B$12*S28 -> 0 | X28: =U28 -> 0
A29: EQUIP OPERATIU | Q29: =IF(L29>P29,L29,P29) -> 0 | S29: =S30+S34+S42+S50 -> 1831723.5 | U29: =U30+U34+U42++U50 -> 2428865.3 | V29: =U20+U29 -> 2534148.8
A30: Coordinador | F30: 8500 | G30: =F30/1700 -> 5 | M30: 45328.68 | N30: 24667.8 | O30: =N30+N31+N32+N33 -> 32566.485 | P30: =IF(M30>O30,M30,O30) -> 45328.68 | R30: =(P30-O30)/P30 -> 0.28154791 | S30: =(89564.64+97699.47) -> 187264.11 | T30: =$B$12*S30 -> 61048.1 | U30: =S30+T30 -> 248312.21 | X30: =U30 -> 248312.21
A31: Disponibilitat (10% Cost hora) | C31: si | F31: =F30*I31 -> 2125 | G31: 5 | H31: =(N30/1700)*0.1 -> 1.4510471 | I31: 0.25 | N31: =(F31/G31)*H31 -> 616.695 | T31: =$B$12*S31 -> 0 | X31: =U31 -> 0
A32: Nocturnitat (25% del 40% hores previstes en horari nocturn) | F32: =F30*I32 -> 3400 | G32: =F32/1700 -> 2 | H32: =(N30/1700)*0.25 -> 3.6276176 | I32: 0.4 | N32: =(F32/2)*H32 -> 6166.95 | T32: =$B$12*S32 -> 0 | X32: =U32 -> 0
A33: Plus Coordinació | F33: 12 | G33: 2 | H33: 92.92 | N33: =F33*H33 -> 1115.04 | T33: =$B$12*S33 -> 0 | X33: =U33 -> 0
A34: Equips territorials d'Intervenció Social(Tècnics graduats superiors) | C34: SI | F34: 57095.5 | G34: =F34/1700 -> 33.585588 | M34: 33980.04 | N34: 24667.8 | O34: =N34+N35+N36+N37 -> 36770.25 | P34: =IF(M34>O34,M34,O34) -> 36770.25 | S34: =P34*G34 -> 1234950.5 | T34: =$B$12*S34 -> 402593.86 | U34: =SUM(S34:T34) -> 1637544.3 | X34: =U34 -> 1637544.3
A35: Disponibilitat (10% Cost hora) | F35: =F34*I35 -> 11419.1 | G35: =F35/1700 -> 6.7171176 | H35: =(N34/1700)*0.1 -> 1.4510471 | I35: 0.2 | N35: =H35*(F35/G35) -> 2466.78 | T35: =$B$12*S35 -> 0 | X35: =U35 -> 0
A36: Nocturnitat (25% del 40% hores previstes en horari nocturn) | F36: =F34*I36 -> 22838.2 | G36: =F36/1700 -> 13.434235 | H36: =(N34/1700)*0.25 -> 3.6276176 | I36: 0.4 | N36: =H36*(F36/G36) -> 6166.95 | T36: =$B$12*S36 -> 0 | X36: =U36 -> 0
A37: Valoració i diagnòstic | F37: 12 | G37: =G34 -> 33.585588 | H37: 289.06 | N37: =H37*F37 -> 3468.72 | T37: =$B$12*S37 -> 0 | X37: =U37 -> 0
A38: Substitucions sou | B38: 0.5 | C38: si | F38: =(F34/12)/2 -> 2378.9792 | G38: =G34/2 -> 16.792794 | N38: =N34/14 -> 1761.9857 | P38: =N38 -> 1761.9857 | T38: =$B$12*S38 -> 0 | U38: =P38 -> 1761.9857 | X38: =U38 -> 1761.9857
A39: Substitucions plus nocturnitat (25% de 40%) | C39: si | F39: =F38*0.4 -> 951.59167 | G39: 16.79 | H39: 3.63 | I39: 0.4 | N39: =F39*H39 -> 3454.2778 | P39: =H39*F39 -> 3454.2778 | T39: =$B$12*S39 -> 0 | U39: =P39 -> 3454.2778 | X39: =U39 -> 3454.2778
A40: Substitucions plus valoració i diagnòtic | C40: si | G40: =G38 -> 16.792794 | H40: =289/12 -> 24.083333 | N40: 24.08 | P40: =G40*H40 -> 404.42646 | T40: =$B$12*S40 -> 0 | U40: =P40 -> 404.42646 | X40: =U40 -> 404.42646
A41: Substitucions plus disponibilitat (10% cost hora) | C41: si | F41: =F38*0.2 -> 475.79583 | G41: =G40 -> 16.792794 | H41: =H35 -> 1.4510471 | I41: 0.2 | N41: =F41*H41 -> 690.40214 | P41: =N41 -> 690.40214 | T41: =$B$12*S41 -> 0 | U41: =P41 -> 690.40214 | X41: =U41 -> 690.40214
A42: Equip d'Aeroports i intercanviadors | C42: SI | F42: 10705.41 | G42: =F42/1700 -> 6.2973 | M42: 35400.72 | N42: 24667.8 | O42: =N42+N43+N44+N45 -> 31096.656 | P42: =IF(M42>O42,M42,O42) -> 35400.72 | R42: =(P42-O42)/P42 -> 0.12158126 | S42: =P42*G42 -> 222928.95 | T42: =$B$12*S42 -> 72674.839 | U42: =SUM(S42:T42) -> 295603.79 | X42: =U42 -> 295603.79
A43: Disponibilitat (10% Cost hora) | F43: =F42*I43 -> 2141.082 | G43: 6.2973 | H43: =(N42/1700)*0.1 -> 1.4510471 | I43: 0.2 | N43: =H43*(F43/G43) -> 493.356 | T43: =$B$12*S43 -> 0 | U43: =P43 -> 0 | X43: =U43 -> 0
A44: Nocturnitat (25% del 40% hores previstes en horari nocturn) | F44: =F42*I44 -> 4282.164 | G44: 6.2973 | H44: =(N42/1700)*0.25 -> 3.6276176 | I44: 0.4 | N44: =H44*(F44/G44) -> 2466.78 | T44: =$B$12*S44 -> 0 | U44: =P44 -> 0 | X44: =U44 -> 0
...

Sheet COMPARATIU DEFINITIU
C1: 57095.5
C3: CTE: SIMULACIÓ DE COST DE GESTIÓ DEL SERVEI D'ATENCIÓ SOCIAL AL SENSELLERISME A L'ESPAI PÚBLIC (SASSEP) amb mesures de contractació pública sostenible
A6: 1 | B6: CD | C6: COSTOS DE PERSONAL | D6: NOU CONTRACTE | F6: CONTRACTE VIGENT | G6: DIFERENCIAL (€) | H6: DIFERENCIAL (%) | I6: OBSERVACIONS
C7: Amb Seguretat Social d'un 31,40%
C8: DIRECCIÓ (GRUP I) | D8: ='CALCUL ANUAL SASSEP'!$S$22 -> 50960.832 | F8: =F9 -> 48881.05 | G8: =G9 -> 25479.212 | H8: =H9 -> 0.29437783 | K8: Direcció del servei | M8: 1700 | N8: 1 | O8: 29513.4 | P8: 39105.255 | Q8: 39105.255
C9: Diirecció | D9: ='CALCUL ANUAL SASSEP'!$S$21 -> 69273.688 | F9: 48881.05 | G9: 25479.212 | H9: =(D9-F9)/D9 -> 0.29437783 | I9: El salari del Director és el de la subrogació superior un 23% al de conveni.
C10: EQUIP OPERATIU | D10: =SUM(D11:D15) -> 2464563.5 | F10: =SUM(F11:F14) -> 1590356.1 | G10: =SUM(G11:G15) -> 788269.57 | K10: Tècnics/ques mitjans per equip d'intervenció social a l'espai urbà | M10: 27200 | N10: 16 | O10: 20639.22 | P10: 27346.967 | Q10: 437551.46
C11: COORDINADOR DE SERVEIS (GRUP I) | D11: ='CALCUL ANUAL SASSEP'!$S$37 -> 270116.22 | F11: 89853.625 | G11: =D11-F11 -> 180262.6 | H11: =(D11/F11)-1 -> 2.0061806 | I11: 2020: 2 Coordinadors de zones 3.400 hores 2024: 4 Coordinadors de ciutat: 6800 hores Hi ha dos subrogats (Coordinadors i que sumen ambdós 89.564€ de sou brut) un 28% més que els dos restants. Equip territorial (33,59 professionals), Equip d'Aeroport (6,30 professionals) i EDIS (6 professionals) Tots subrogats | K11: Tècnics/ques mitjans per equip d'intervenció social a l'espai urbà (amb suplències) | M11: 29895.495 | N11: 17.585586 | O11: 20639.22 | P11: 27346.967 | Q11: 480912.42
C12: Equips territorials d'Intervenció Social(Tècnics graduats superiors) | D12: 1544948.3 | F12: 1087957.2 | G12: =D12-F12 -> 456991.1 | H12: =(D12/F12)-1 -> 0.42004511
C13: EQUIP D'AEROPORT I INTERCANVIADORS | D13: 314710.68 | F13: 172211.98 | G13: =D13-F13 -> 142498.7 | H13: =(D13/F13)-1 -> 0.82746104
C14: Equip de Diagnòstic i Suport (EDIS) | D14: 248850.49 | F14: 240333.32 | G14: =D14-F14 -> 8517.1747 | H14: =(D14/F14)-1 -> 0.03543901 | K14: Tècnics/ques mitjans per a els equips d'intervenció social específic per l'Aeroport i intercanviadors | M14: 5100 | N14: 3 | O14: 20639.22 | P14: 27346.967 | Q14: 82040.899
C15: Substitucions | D15: =85937.82 -> 85937.82 | F15: Incloses en els sous | I15: 50% Perfils (inclou plusos)
C16: OFICINA TÈCNICA | D16: =SUM(D17:D24) -> #REF! | F16: =SUM(F17:F24) -> 431681.19 | G16: =SUM(G17:G25) -> 64431.408 | K16: Tècnics/ques mitjans per a els equips d'intervenció social específic per l'Aeroport i intercanviadors (amb suplències) | M16: 5605.4054 | N16: 3.2972973 | O16: 20639.22 | P16: 27346.967 | Q16: 90171.079
C17: EQUIP DE SUPORT PER AL RECOMPTE (4 professionals) | D17: 141603.57 | F17: 109387.87 | G17: =D17-F17 -> 32215.704 | H17: =(D17-F17)/D17 -> 0.2275063 | I17: 2020: Tècnic mitgs 4 professionals 6.800 hores 2024: 4 Tècnics superiors 6.800 hores + 1 amb plus de coordinador 2024: Sous d'acord amb el full de subrogació.
C18: Coordinador (1 professional) | D18: ='CALCUL ANUAL SASSEP'!S92 -> 1379.4463 | F18: 66030.951 | H18: =(D18-F18)/D18 -> -46.867722
C19: Equip de Suport per al recompte (2 Tècnics 3,33 mesos) | D19: ='CALCUL ANUAL SASSEP'!S95 -> 24386.64 | F19: 19735.394 | H19: =(D19-F19)/D19 -> 0.19072925 | K19: Tècnics/ques mitjans per anàlisi de dades (supòsit en funció de subrogació) | M19: 6800 | N19: 4 | O19: 20639.22 | P19: 27346.967 | Q19: 109387.87
C20: Equip de Suport al Servei (grup III) (2 professionals) | D20: ='CALCUL ANUAL SASSEP'!S99 -> 30630.6 | F20: 48335.74 | H20: =(D20-F20)/D20 -> -0.57802133 | K20: Equip de suport al servei
C21: Suport jurídic (Grup i) (2 professionals) | D21: ='CALCUL ANUAL SASSEP'!S103 -> 106725.76 | F21: 61013.176 | H21: =(D21-F21)/D21 -> 0.4283182 | K21: Tècnics/ques superiors per suport jurídic | M21: 3400 | N21: 2 | O21: 23023.84 | P21: 30506.588 | Q21: 61013.176
C22: Suport psicològic (Grup i) (1 professional) | D22: ='CALCUL ANUAL SASSEP'!#REF! -> #REF! | F22: 30506.588 | G22: =D17-F17 -> 32215.704 | H22: =(D22-F22)/D22 -> #REF! | K22: Tècnics/ques superiors per suport psicològic | M22: 1700 | N22: 1 | O22: 23023.84 | P22: 30506.588 | Q22: 30506.588
C23: Suport educatiu (Grup III) (2 professionals) | D23: ='CALCUL ANUAL SASSEP'!#REF! -> #REF! | F23: 48335.735 | H23: =(D23-F23)/D23 -> #REF! | K23: Personal qualificat per suport educatiu | M23: 3400 | N23: 2 | O23: 18239.9 | P23: 24167.868 | Q23: 48335.735
C24: Auxiliar de la unitat mòbil (1 professional) | D24: ='CALCUL ANUAL SASSEP'!S106 -> 27381.104 | F24: 48335.735 | H24: =(D24-F24)/D24 -> -0.76529534 | K24: Personal qualificat per suport educatiu | M24: 3400 | N24: 2 | O24: 18239.9 | P24: 24167.868 | Q24: 48335.735
C25: Substitucions | D25: 1968.5295 | F25: Incloses en els sous | I25: Auxiliar de la unitat mòvil. 100% (inclou plusos)
C26: UNITATS DE SUPORT A CASP 126 | D26: =D27 -> 51835.992 | F26: =F27 -> 36414.25
C27: Unitat de recepció i gestió administrativa (2 professionals) | D27: ='TAULA MARE DEF'!$U$68 -> 51835.992 | F27: 36414.25
C28: TOTALS | D28: =D8+D10+D16+D26 -> #REF! | F28: =F8+F10+F16 -> 2070918.4
C29: Provisions | D29: =SUM(D30:D32) -> 634334.97 | F29: =SUM(F30:F31) -> 136491.67 | G29: =SUM(G30:G32) -> #REF!
C30: ABSENTISME | D30: ='CALCUL ANUAL SASSEP'!$S$119 -> 468424.87 | F30: 105745.78 | G30: =D20-F20 -> -17705.14 | H30: =(D20/F20)-1 -> -0.366295 | I30: 2020:Absentisme 6% 2024: Absentismes 5,23% 2020: Formació i riscos 2% 2024 Formació i riscos 2% 2020: Augment 8,04% 2024: Augment 7,625%
C31: PROVISIÓ PER FORMACIÓ I RISCOS LABORALS | D31: 45285.672 | F31: 30745.889 | G31: =D21-F21 -> 45712.586 | H31: =(D21/F21)-1 -> 0.74922482
C32: PROVISIÓ D'AUGMENTS | D32: ='CALCUL ANUAL SASSEP'!$S$121 -> 120624.43 | F32: 150141.87 | G32: =D22-F22 -> #REF! | H32: =(D22/F22)-1 -> #REF!
C33: TOTAL PERSONAL AMB PROVISIONS DE PERSONAL | D33: =D28+D29 -> #REF! | F33: =F28+F29 -> 2207410 | G33: =D33-F33 -> #REF!
C34: Serveis complementaris | D34: =D35+D36+D37 -> 107850 | F34: =F35+F36+F37 -> 89600
C35: Desenvolupament de projectes socials (180 mòduls) | D35: ='CALCUL ANUAL SASSEP'!S127 -> 57600 | F35: 50000 | G35: =D35-F35 -> 7600 | H35: =(D35-F35)/D35 -> 0.13194444 | I35: 2020: 250 mòduls
C36: SERVEI INTERPRETACIÓ (650) | D36: ='CALCUL ANUAL SASSEP'!S129 -> 29250 | F36: 26400 | G36: =D36-F36 -> 2850 | H36: =(D36-F36)/D36 -> 0.097435897 | I36: 2020: 800 mòduls
C37: SERVEI DE TRADUCCIÓ (400 mòduls) | D37: ='CALCUL ANUAL SASSEP'!S130 -> 21000 | F37: 13200 | G37: =D37-F37 -> 7800 | H37: =(D37-F37)/D37 -> 0.37142857 | I37: 2020: 400 mòduls
C38: TOTAL SERVEIS COMPLEMENTARIS + PERSONAL | D38: =D33+D34 -> #REF! | F38: =F33+F34+F26 -> 2333424.3 | G38: =D38-F38 -> #REF!
A39: 2 | B39: CD | C39: COSTOS DE FUNCIONAMENT | D39: =SUM(D40:D54) -> 136887.85 | F39: =SUM(F40:F54) -> 326907.13
C40: Cost de vigilància Casp 126 | D40: 93007.85 | F40: 86837.13 | H40: =(D40-F40)/D40 -> 0.066346228 | I40: 2020: Recursos de capacitació / formadors (sessions especificas)
C41: Supervisió | D41: 1200 | F41: 1200 | H41: =(D41-F41)/D41 -> 0 | I41: L'any 2020 hi ha que s'activarà per una modificació del contracte
C42: Formació | D42: 1200 | F42: 100000 | H42: =(D42-F42)/D42 -> -82.333333
C43: Lloguer espai per la formació | D43: 720 | F43: 120000 | H43: =(D43-F43)/D43 -> -165.66667
...

Sheet COMPARATIU (2)
C1: 57095.5
C3: CTE: SIMULACIÓ DE COST DE GESTIÓ DEL SERVEI D'ATENCIÓ SOCIAL AL SENSELLERISME A L'ESPAI PÚBLIC (SASSEP) amb mesures de contractació pública sostenible
A6: 1 | B6: CD | C6: COSTOS DE PERSONAL | D6: NOU CONTRACTE | F6: CONTRACTE VIGENT | G6: DIFERENCIAL (€) | H6: DIFERENCIAL (%) | I6: OBSERVACIONS
C7: Amb Seguretat Social d'un 32,60%
C8: DIRECCIÓ (GRUP I) | D8: ='TAULA MARE DEF'!$U$20 -> 65174.279 | F8: 39105.255 | G8: =D8-F8 -> 26069.024 | H8: =(D8/F8)-1 -> 0.66663736 | I8: El salari del Director és el de la subrogació superior un 23% al de conveni. El STD és una figura nova al nou contracte | K8: Direcció del servei | M8: 1700 | N8: 1 | O8: 29513.4 | P8: 39105.255 | Q8: 39105.255
C9: Diirecció | D9: ='TAULA MARE DEF'!$U$21 -> 65174.279
C10: Suport tècnic a la Direcció (Grup II) | D10: ='TAULA MARE DEF'!#REF! -> #REF! | G10: =D10-F10 -> #REF! | K10: Serveis operatius
C11: EQUIP OPERATIU | D11: =SUM(D12:D15) -> 2250862 | F11: =SUM(F12:F15) -> 0 | K11: Tècnics/ques mitjans per equip d'intervenció social a l'espai urbà | M11: 27200 | N11: 16 | O11: 20639.22 | P11: 27346.967 | Q11: 437551.46
C12: COORDINADOR DE SERVEIS (GRUP I) | D12: ='TAULA MARE DEF'!$U$26 -> 194887.87 | G12: =D12-F12 -> 194887.87 | H12: =(D12/F12)-1 -> #DIV/0! | I12: 2020: 2 Coordinadors de zones 3.400 hores 2024: 5 Coordinadors de ciutat: 8.500 hores Hi ha dos subrogats (Coordinadors i que sumen ambdós 89.564€ de sou brut) un 28% més que els tres restants. Equip territorial (33,59 professionals), Equip d'Aeroport (6,30 professionals) i EDIS (6 professionals) | K12: Tècnics/ques mitjans per equip d'intervenció social a l'espai urbà (amb suplències) | M12: 29895.495 | N12: 17.585586 | O12: 20639.22 | P12: 27346.967 | Q12: 480912.42
C13: Equips territorials d'Intervenció Social(Tècnics graduats superiors) | D13: ='TAULA MARE DEF'!$U$30 -> 1513283.8 | G13: =D13-F13 -> 1513283.8
C14: EQUIP D'AEROPORT I INTERCANVIADORS | D14: ='TAULA MARE DEF'!$U$38 -> 295603.79 | G14: =D14-F14 -> 295603.79
C15: Equip de Diagnòstic i Suport (EDIS) | D15: ='TAULA MARE DEF'!$U$46 -> 247086.56 | G15: =D15-F15 -> 247086.56 | H15: =(D15/F15)-1 -> #DIV/0! | K15: Tècnics/ques mitjans per a els equips d'intervenció social específic per l'Aeroport i intercanviadors | M15: 5100 | N15: 3 | O15: 20639.22 | P15: 27346.967 | Q15: 82040.899
C16: OFICINA TÈCNICA | D16: =SUM(D17:D24) -> 481195.75 | F16: =SUM(F17:F24) -> 341482.36 | I16: 2020: Tècnic mitgs 4 professionals 6.800 hores 2024: Tècnics superiors 6.800 hores 1 amb plus de coordinador | K16: Tècnics/ques mitjans per a els equips d'intervenció social específic per l'Aeroport i intercanviadors (amb suplències) | M16: 5605.4054 | N16: 3.2972973 | O16: 20639.22 | P16: 27346.967 | Q16: 90171.079
C17: EQUIP DE SUPORT PER AL RECOMPTE | D17: ='TAULA MARE DEF'!U55 -> 139843.41 | F17: 109387.87 | G17: =D17-F17 -> 30455.542
C18: Coordinador | D18: ='TAULA MARE DEF'!U56 -> 49380.187
C19: Equip de Suport per al recompte (2 Tècnics 4,33 mesos) | D19: ='TAULA MARE DEF'!U57 -> 23605.294 | F19: 19735.394 | K19: Tècnics/ques mitjans per anàlisi de dades (supòsit en funció de subrogació) | M19: 6800 | N19: 4 | O19: 20639.22 | P19: 27346.967 | Q19: 109387.87
C20: Equip de Suport al Servei (grup III) | D20: ='TAULA MARE DEF'!U58 -> 60373.947 | F20: 61013.176 | K20: Equip de suport al servei
C21: Suport jurídic (Grup i) | D21: ='TAULA MARE DEF'!U59 -> 77701.16 | F21: 30506.588 | K21: Tècnics/ques superiors per suport jurídic | M21: 3400 | N21: 2 | O21: 23023.84 | P21: 30506.588 | Q21: 61013.176
C22: Suport psicològic (Grup i) | D22: ='TAULA MARE DEF'!U60 -> 38850.58 | F22: 48335.735 | G22: =D17-F17 -> 30455.542 | H22: =(D17/F17)-1 -> 0.27841792 | K22: Tècnics/ques superiors per suport psicològic | M22: 1700 | N22: 1 | O22: 23023.84 | P22: 30506.588 | Q22: 30506.588
C23: Suport educatiu /Grup III) | D23: ='TAULA MARE DEF'!U61 -> 64044.527 | F23: 48335.735 | K23: Personal qualificat per suport educatiu | M23: 3400 | N23: 2 | O23: 18239.9 | P23: 24167.868 | Q23: 48335.735
C24: Auxiliar de la unitat mòbil | D24: ='TAULA MARE DEF'!U62 -> 27396.645 | F24: 24167.868 | K24: Personal qualificat per suport educatiu | M24: 3400 | N24: 2 | O24: 18239.9 | P24: 24167.868 | Q24: 48335.735
C25: UNITATS DE SUPORT A CASP 126 | D25: =D26 -> 51835.992 | F25: =SUM(F17:F24) -> 341482.36
C26: Unitat de recepció i gestió administrativa | D26: ='TAULA MARE DEF'!$U$68 -> 51835.992
C27: TOTALS | D27: =D25+D16+D11+D8 -> 2849068 | F27: =F16+F11+F8 -> 380587.62
C28: Provisions | D28: =SUM(C29:D31) -> 434628.68 | F28: =SUM(F29:F30) -> 335661.64
C29: ABSENTISME | D29: ='TAULA MARE DEF'!U73 -> 157008.17 | F29: 154027.79 | G29: =D20-F20 -> -639.22912 | H29: =(D20/F20)-1 -> -0.010476903 | I29: 2020: 6% 19.816,29
C30: PROVISIÓ PER FORMACIÓ I RISCOS LABORALS | D30: ='TAULA MARE DEF'!U74 -> 48712.806 | F30: 181633.85 | G30: =D21-F21 -> 47194.572 | H30: =(D21/F21)-1 -> 1.5470289
C31: PROVISIÓ D'AUGMENTS | D31: ='TAULA MARE DEF'!U75 -> 228907.7 | G31: =D22-F22 -> -9485.1549 | H31: =(D22/F22)-1 -> -0.19623483
C32: TOTAL PERSONAL | D32: =D27+D28 -> 3283696.7 | F32: =F28+F27 -> 716249.26 | G32: =D32-F32 -> 2567447.4 | H32: =(D32-F32)/D32 -> 0.78187716
C33: Serveis complementaris | D33: =D34+D35+D36 -> 100500
C34: Desenvolupament de projectes socials | D34: ='TAULA MARE DEF'!U79 -> 46500
C35: SERVEI INTERPRETACIÓ | D35: ='TAULA MARE DEF'!U80 -> 31200
C36: SERVEI DE TRADUCCIÓ | D36: ='TAULA MARE DEF'!U81 -> 22800
C37: COSTOS DE FUNCIONAMENT | J37: 24167.868 | K37: 24167.868
C38: FORMACIÓ
A39: 2 | B39: CD | C39: PROJECTES SOCIALS O ACCIONS SINGULARS
C40: Cost de vigilància Casp 126 | D40: ='TAULA MARE DEF'!U87 -> 97290.83 | F40: 100000 | G40: =D42-F42 -> -25680 | H40: =(D42/F42)-1 -> -0.97272727 | I40: EXPLICAR!!!
C41: Supervisió | D41: ='TAULA MARE DEF'!U88 -> 1200 | F41: 50000 | G41: =D43-F43 -> -6936 | H41: =(D43/F43)-1 -> -0.52545455 | I41: EXPLICAR!!!
C42: Lloguer espai per la formació | D42: ='TAULA MARE DEF'!U89 -> 720 | F42: 26400 | G42: =D44-F44 -> -16060 | H42: =(D44/F44)-1 -> -0.73 | I42: EXPLICAR!!!
C43: Vehicle furgoneta color blanc 5 places | D43: ='TAULA MARE DEF'!U90 -> 6264 | F43: 13200 | G43: =D45-F45 -> 1196 | I43: EXPLICAR!!!
...

Sheet TAULA MARE DEF
A1: SIMULACIÓ DE COST DE GESTIÓ DEL SERVEI D'ATENCIÓ SOCIAL AL SENSELLERISME A L'ESPAI PÚBLIC (SASSEP) amb mesures de contractació pública sostenible
A3: JUSTIFICACIÓ DEL PRESSUPOST DEL CONTRACTE, annex a l'informe justificatiu de la despesa
A4: PRESSUPOST ANUAL DETALLAT PER PARTIDES I DISTRIBUCIÓ DE LA DESPESA
C6: Inici | D6: 45658 | E6: 1 any + 12 mesos | I6: =(G8*H7)/G7 -> 0.36083333 | J6: 1226.83 | K6: 4.33
G7: 12 | H7: 1
G8: 4.33
A9: SUPOSIT CICLE GENERAL I DIES FEINERS | B9: 225 | C9: =365-104-14-22=225 dies laborables de feina | H9: 1700
A10: Hores/any d'empleat amb jornada de 7,56 h/dia de mitjana es a dir 37,8 h/set. | B10: 1700 | C10: dies any-cap de setmana-festius-dies lab. vacances
A12: COSTOS SOCIALS: SEGURETAT SOCIAL | B12: 0.326 | C12: Dades Segurentat Social 2024 | H12: =(H9*I10)/I9 -> #DIV/0!
A13: Provisió absentisme (d'acord amb el darrer informe) | B13: 0.0523 | C13: Dades del full de subrogació
A14: Formació en riscos laborals: Aprox. Entre el 2% i el 3% | B14: 0.0225 | C14: Dades de 2021 risc III | I14: =F30*0.2 -> 11419.1 | M14: =I14/33.59 -> 339.95534 | S14: =O26+O26 -> 57956.001 | U14: =U15-W15 -> 182200.39
A15: Provisió augment 2026-2027 (per cada any) | B15: 0.05 | S15: =M26+44235.96 -> 89018.26 | T15: =S15/2 -> 44509.13 | U15: 182200.39
S16: =SUM(S14:S15) -> 146974.26
A18: CONCEPTES | B18: Percentatge previst | C18: Suplència | D18: Hores/dia | E18: Hores/ setmana | F18: NECESSITATS total hores/any | G18: Empleats necessaris | H18: PREU | I18: % Disponibilitat | J18: Sous subrogació | K18: Costos socials (sobre subrogació) | L18: TOTALS (SOUS SUBROGACIO) | M18: SUBROGACIÓ | N18: SOUS CONVENI | O18: cost professional conveni +pluses | P18: sou | Q18: TOTALS | R18: Diferencia | S18: TOTAL PERFILS PROFESSIONALS | T18: Costos Socials | U18: COST TOTALS | X18: COSTOS PERSONAL | Y18: COSTOS ESTRUCTURA | Z18: DESPESES GESTIÓ | AA18: BENEFICI INDUSTRIAL | AB18: PREU UNITARI | AC18: PROVISIONS
A19: Personal Directe | U19: SOUS
A20: DIRECCIÓ (GRUP I) | Q20: =IF(L20>P20,L20,P20) -> 0 | S20: =S21 -> 49151.04 | U20: =SUM(U21:U24) -> 65174.279
A21: Director (Grup I) | C21: no | D21: =F21/225 -> 7.5555556 | E21: 37.8 | F21: 1700 | G21: 1 | M21: 49151.04 | N21: 30703.54 | O21: =N24+N23+N22+N21 -> 37577.604 | P21: =IF(M21>O21,M21,O21) -> 49151.04 | R21: =(P21-O21)/P21 -> 0.23546676 | S21: =P21*G21 -> 49151.04 | T21: =$B$12*S21 -> 16023.239 | U21: =S21+T21 -> 65174.279 | X21: =U21 -> 65174.279
A22: Disponibilitat (10% Cost hora) | C22: si | F22: =F21*I22 -> 850 | G22: 1 | H22: ='SALARIS CONVENI 2024'!$D$7 -> 1.7809484 | I22: 0.5 | N22: =H22*F22 -> 1513.8061 | T22: =$B$12*S22 -> 0 | X22: =U22 -> 0
A23: Nocturnitat (25% del 25% hores previstes en horari nocturn) | D23: =D20*0.25 -> 0 | E23: =E20*0.25 -> 0 | F23: =F21*I23 -> 425 | G23: 1 | H23: ='SALARIS CONVENI 2024'!$E$7 -> 4.4523709 | I23: 0.25 | N23: =F23*H23 -> 1892.2576 | T23: =$B$12*S23 -> 0 | X23: =U23 -> 0
A24: Valoració i diagnòstic | F24: 12 | G24: 1 | H24: 289 | N24: =H24*F24 -> 3468 | T24: =$B$12*S24 -> 0 | X24: =U24 -> 0
A25: EQUIP OPERATIU | Q25: =IF(L25>P25,L25,P25) -> 0 | S25: =SUM(S26:S53) -> 1814576.1 | U25: =SUM(U26:U53) -> 2406127.9
A26: Coordinador | F26: 6800 | G26: =F26/1700 -> 4 | M26: 44782.3 | N26: 24667.8 | O26: =N26+N27+N28+N29 -> 28978.001 | P26: =IF(M26>O26,M26,O26) -> 44782.3 | R26: =(P26-O26)/P26 -> 0.35291397 | S26: 146974.26 | T26: =$B$12*S26 -> 47913.609 | U26: =S26+T26 -> 194887.87 | X26: =U26 -> 194887.87
A27: Disponibilitat (10% Cost hora) | C27: si | F27: =F26*I27 -> 1700 | G27: 4 | H27: ='SALARIS CONVENI 2024'!$D$8 -> 1.503605 | I27: 0.25 | N27: =(F27*H27)/G27 -> 639.03212 | T27: =$B$12*S27 -> 0 | X27: =U27 -> 0
A28: Nocturnitat (25% del 40% hores previstes en horari nocturn) | F28: =F26*I28 -> 2720 | G28: 4 | H28: ='SALARIS CONVENI 2024'!$E$8 -> 3.7590125 | I28: 0.4 | N28: =(F28*H28)/4 -> 2556.1285 | T28: =$B$12*S28 -> 0 | X28: =U28 -> 0
A29: Plus Coordinació | F29: 12 | G29: 4 | H29: 92.92 | N29: =F29*H29 -> 1115.04 | T29: =$B$12*S29 -> 0 | X29: =U29 -> 0
A30: Equips territorials d'Intervenció Social(Tècnics graduats superiors) | C30: SI | F30: 57095.5 | G30: =F30/1700 -> 33.585588 | M30: 33980.04 | N30: 24667.8 | O30: =N30+N31+N32+N33 -> 31056.312 | P30: =IF(M30>O30,M30,O30) -> 33980.04 | S30: =P30*G30 -> 1141239.6 | T30: =$B$12*S30 -> 372044.12 | U30: =SUM(S30:T30) -> 1513283.8 | X30: =U30 -> 1513283.8
A31: Disponibilitat (10% Cost hora) | F31: =F30*I31 -> 11419.1 | G31: 33.59 | H31: ='SALARIS CONVENI 2024'!$D$9 -> 1.4314275 | I31: 0.2 | N31: =(F31*H31)/G30 -> 486.68535 | T31: =$B$12*S31 -> 0 | X31: =U31 -> 0
A32: Nocturnitat (25% del 40% hores previstes en horari nocturn) | F32: =F30*I32 -> 22838.2 | G32: 33.59 | H32: ='SALARIS CONVENI 2024'!$E$9 -> 3.5785687 | I32: 0.4 | N32: =(F32*H32)/G32 -> 2433.1071 | T32: =$B$12*S32 -> 0 | X32: =U32 -> 0
A33: Valoració i diagnòstic | F33: 12 | G33: =G30 -> 33.585588 | H33: 289.06 | N33: =F33*H33 -> 3468.72 | T33: =$B$12*S33 -> 0 | X33: =U33 -> 0
A34: Substitucions sou | B34: 1 | C34: si | F34: =(F30/12) -> 4757.9583 | G34: =F34/141.47 -> 33.632278 | N34: =N30/12 -> 2055.65 | P34: =N34 -> 2055.65 | S34: =P34*G34 -> 69136.192 | T34: =$B$12*S34 -> 22538.399 | U34: =S34+T34 -> 91674.59 | V34: =U34+U35+U36+U37 -> 115402.77 | X34: =U34 -> 91674.59
A35: Substitucions plus nocturnitat (25% de 40%) | C35: si | F35: =F34*0.4 -> 1903.1833 | G35: =G34 -> 33.632278 | H35: ='SALARIS CONVENI 2024'!$E$9 -> 3.5785687 | I35: 0.4 | N35: =(F35*H35)/G35 -> 202.50405 | P35: =H35*F35 -> 6810.6724 | S35: =N35*G35 -> 6810.6724 | T35: =$B$12*S35 -> 2220.2792 | U35: =S35+T35 -> 9030.9516 | X35: =U35 -> 9030.9516
