Workbook

Sheet Annex B
B1: EXPEDIENT | C1: SCS-2027-19 | D1: Subministrament d'un exoscopi i microscopis quirúrgics per al bloc quirúrgic de l'Hospital Universitari Arnau de Vilanova | E1: EMPRESA | F1: Nom a emplenar per l'empresa
E2: NIF | F2: NIF a emplenar per l'empresa
E3: Correu electrònic | F3: Correu electrònic a emplenar per l'empresa
A5: Nº de lot | B5: Nom del lot | C5: Codi | D5: Descripció | E5: Quantitat | F5: Marca/model
A6: Lot 1 | B6: Exoscopi HUAV | C6: 1540010800 | D6: Exoscopi quirúrgic | E6: 1 | F6: Marca/Model a emplenar per l'empresa
A7: Lot 2 | B7: Microscopis quirúrgics HUAV | C7: 1250500320 | D7: Microscopi quirúrgic per a ORL i maxil·lofacial amb fluorescència vascular | E7: 1 | F7: Marca/Model a emplenar per l'empresa
C8: 1540210200 | D8: Microscopi quirúrgic per a neurocirurgia d'altes prestacions | E8: 1 | F8: Marca/Model a emplenar per l'empresa
D11: Anar a la llegenda de grups de criteris a valorar

Sheet 1540010800
A1: 1540010800 | B1: Exoscopi quirúrgic
A2: ='Annex B'!C1 -> SCS-2027-19 | B2: EMPRESA | C2: ='Annex B'!F1 -> Nom a emplenar per l'empresa
B3: NIF | C3: ='Annex B'!F2 -> NIF a emplenar per l'empresa
B4: Correu electrònic | C4: ='Annex B'!F3 -> Correu electrònic a emplenar per l'empresa
A5: Nota: a la columna "Índex documental", cal indicar la ubicació exacta a la documentació aportada (full, apartat, etc.) on es troben les característiques tècniques així com, si es requereix, el servei tècnic i les condicions de manteniment. A la columna "Característiques específiques (Descripció breu)" cal afegir una breu descripció i els valors, rangs o quantitats que demana cada ítem de la fitxa tècnica.
B6: Definició | E6: Característiques específiques (Descripció breu) | F6: Índex documental
B7: Definició
B8: Equip adequat per a diverses disciplines que requereixin augment de l'àrea de treball quirúrgica (neurocirurgia cranial i espinal, otorrinolaringologia, etc.), permetent així el màxim confort per al cirurgià i la incorporació d'instrumentació i tècniques d'accés complex, gràcies a l'espai alliberat entre el camp quirúrgic i la càmera.
B9: Adjuntar marcatge CE
B10: Adjuntar product data
B11: Indicar marca i model | E11: ='Annex B'!F6 -> Marca/Model a emplenar per l'empresa
B13: Prestacions tècniques i funcionals | C13: Grup de criteri | D13: Puntuació màxima | E13: Característiques específiques (Descripció breu) | F13: Índex documental
B14: 1.1. Característiques tècniques i funcionals | D14: =SUM(D15:D48) -> 18.5
B15: Característiques d'obligat compliment: les ofertes que no compleixin tots els requisits obligatoris quedaran excloses
B16: Carro amb Robot per a posicionament
A17: 1 | B17: Sistema de posicionament semi-robotitzat que permet ubicar el capçal sense esforç, només amb l’acompanyament de la mà amb moviments de l’esmentat capçal en qualsevol dels eixos X, Y i Z
A18: =A17+1 -> 2 | B18: Estatiu de peu amb rodes antiestàtiques que permetin un fàcil desplaçament de l'equip
A19: =A18+1 -> 3 | B19: Sistema de frenat per a la immobilització de l'equip. Cal indicar-ne tipus
A20: =A19+1 -> 4 | B20: El cablejat ha d'estar el més integrat possible a l'estatiu per a una fàcil col·locació i posicionament de l'equip
A21: =A20+1 -> 5 | B21: Cal indicar-hi els moviments en els tres eixos del braç - girs i graus de llibertat-, moviments manuals i robotitzats
A22: =A21+1 -> 6 | B22: Cal indicar-hi els moviments en els tres eixos del capçal portacàmeres i orientacions de la càmera, amb angles de gir Orientació original: cal indicar l'angle d'inclinació habitual i de pàrquing (posició zero) Gir X (horitzontal) - ___º Gir Y (vertical) - ___º Gir Z (sobre si mateixa) - ___º
A23: =A22+1 -> 7 | B23: Màxima longitud i ergonomia del braç per facilitar el posicionament dins del camp quirúrgic, realitzant els mínims posicionament durant la cirurgia
B24: Càmera i adquisició d'imatge
A25: =A23+1 -> 8 | B25: Càmera articulable i orientable, amb mínim pes i màxima compacitat (indicar-ne les dimensions) i angles de rotació i orientació de la càmera (indicar-ne moviments robotitzats i manuals)
A26: =A25+1 -> 9 | B26: Càmera d'alta definició integrada en equip que pot treballar en 3D i 4K. Cal indicar-ne les dimensions i pes
A27: =A26+1 -> 10 | B27: Cal indicar de manera clara el tipus de càmera, marca, model i referència, així com les principals característiques i paràmetres. Indiqueu la matriu d'adquisició: (__x__) píxels - 4K
A28: =A27+1 -> 11 | B28: Zoom motoritzat. Zoom òptic mínim de fins a 10x. Indiqueu el rang de zoom òptic i la resolució en mm, i si disposa d'opció de zoom digital
A29: =A28+1 -> 12 | B29: Velocitat zoom, ràpid i lent, per a tot el recorregut del zoom
A30: =A29+1 -> 13 | B30: Distància focal variable
A31: =A30+1 -> 14 | B31: Autofocus
A32: =A31+1 -> 15 | B32: Funció focus manual i zoom manual al capçal
A33: =A32+1 -> 16 | B33: Indicar FOV Màxim zoom òptic Mínim zoom òptic
A34: =A33+1 -> 17 | B34: Indiqueu el grau IP de la càmera i els requeriments de neteja i desinfecció
A35: =A34+1 -> 18 | B35: Cal incloure-hi un joc de 10 ulleres 3D per equip
B36: Llum, fluorescència i filtres
A37: =A35+1 -> 19 | B37: Font llum LED. Indiqueu la durada de la bombeta (hores garantides - cal indicar si l'equip disposa de comptador d'hores per a la bombeta)
A38: =A37+1 -> 20 | B38: Regulació de llum manual i automàtica
A39: =A38+1 -> 21 | B39: Fluorescència IR per visualitzar el flux vascular després de l'anastomosi amb verd d'indocianina (ICG) i llum IR
A40: =A39+1 -> 22 | B40: Indiqueu si disposa d'altres modes de visualització addicionals
B41: Característiques a valorar
...

Sheet 1250500320
A1: 1250500320 | B1: Microscopi quirúrgic per a ORL i maxil·lofacial amb fluorescència vascular
A2: ='Annex B'!C1 -> SCS-2027-19 | B2: EMPRESA | C2: ='Annex B'!F1 -> Nom a emplenar per l'empresa
B3: NIF | C3: ='Annex B'!F2 -> NIF a emplenar per l'empresa
B4: Correu electrònic | C4: ='Annex B'!F3 -> Correu electrònic a emplenar per l'empresa
A5: Nota: a la columna "Índex documental", cal indicar la ubicació exacta a la documentació aportada (full, apartat, etc.) on es troben les característiques tècniques així com, si es requereix, el servei tècnic i les condicions de manteniment. A la columna "Característiques específiques (Descripció breu)" cal afegir una breu descripció i els valors, rangs o quantitats que demana cada ítem de la fitxa tècnica.
B6: Definició | E6: Característiques específiques (Descripció breu) | F6: Índex documental
B7: Definició
B8: Microscopi quirúrgic per a ORL i maxil·lofacial amb fluorescència, amb estatiu de peu, per a presa de biòpsies i intervencions quirúrgiques
B9: Adjuntar marcatge CE
B10: Adjuntar product data
B11: Indicar marca i model | E11: ='Annex B'!F7 -> Marca/Model a emplenar per l'empresa
B13: Prestacions tècniques i funcionals | C13: Grup de criteri | D13: Puntuació màxima | E13: Característiques específiques (Descripció breu) | F13: Índex documental
B14: 1.1. Sistema òptic d'imatge i estatiu | D14: =SUM(D15:D52) -> 24
B15: Característiques d'obligat compliment: les ofertes que no compleixin tots els requisits obligatoris quedaran excloses
A16: 1 | B16: Microscopi amb estatiu de peu
A17: =A16+1 -> 2 | B17: Coobservació enfrontada per a cirurgià ajudant amb binocular de les mateixes característiques que les del cirurgià principal
A18: =A17+1 -> 3 | B18: Sistema d'aspiració per l'adaptació ràpida de la funda estèril en el braç del microscopi
B19: Sistema òptic:
A20: =A18+1 -> 4 | B20: Relació del zoom elèctric 1:6
A21: =A20+1 -> 5 | B21: Objectiu variable entre 230 i 480 mm aproximadament, sense necessitat de canviar les lents
A22: =A21+1 -> 6 | B22: Diàmetre del camp variable fins a 185 mm aproximadament
A23: =A22+1 -> 7 | B23: Dos oculars de gran angular inserible d'aproximadament 10 o 12,5x
A24: =A23+1 -> 8 | B24: Dos oculars de gran angular amb ajustament diòptric de +/- 5 aproximadament
A25: =A24+1 -> 9 | B25: Tub binocular per a cirurgià principal amb capacitat d'inclinació mínima de 0º a 180º, independentment del capçal del microscopi
A26: =A25+1 -> 10 | B26: Camp d'il·luminació automàticament ajustable al camp de visió
A27: =A26+1 -> 11 | B27: Correcció apocromàtica en tot el sistema òptic
A28: =A27+1 -> 12 | B28: Ha de disposar de binocular per a coobservació amb les mateixes característiques que les descrites per al binocular del cirurgià principal, tal i com s'indica al punt 2 de la fitxa
A29: =A28+1 -> 13 | B29: L'equip ha de disposar d'una pantalla tàctil en el cos d' estatiu on es configurin i visualitzin clarament totes les funcions del microscopi. El sistema ha d'estar preparat per poder memoritzar diferents configuracions de paràmetres
A30: =A29+1 -> 14 | B30: Control dels paràmetres i funcions de l'equip mitjançant les empunyadures amb botons programables
B31: Fluorescència:
A32: =A30+1 -> 15 | B32: Fluorescència vascular integrada amb longitud d'ona de 800 nm aproximadament per a ús amb verd indocianina
B33: Estatiu de peu:
A34: =A32+1 -> 16 | B34: Estatiu de peu amb rodes antiestàtiques que permetin un fàcil desplaçament de l'equip
A35: =A34+1 -> 17 | B35: Sistema de frenat electromagnètic per a una immobilització segura del microscopi
A36: =A35+1 -> 18 | B36: Braç articulat que mantingui el cos del microscopi en suspensió permetent moviment planetari (en els tres eixos x, y, z) de l' estatiu. Indicar longitud i alçada màxima i mínima.
A37: =A36+1 -> 19 | B37: Empunyadures per al control de les funcions del microscopi amb botons programables.
A38: =A37+1 -> 20 | B38: Moviment fi al pla XY controlat des de l'empunyadura sense necessitat de moure el microscopi
A39: =A38+1 -> 21 | B39: Empunyadura configurable per autofocus
A40: =A39+1 -> 22 | B40: Sistema d'equilibratge de l'equip automàtic
A41: =A40+1 -> 23 | B41: El cos del microscopi ha de disposar d'un mecanisme que permeti una fàcil inclinació del sistema amb la finalitat de millorar la visualització dels teixits enfocats
...

Sheet 1540210200
A1: 1540210200 | B1: Microscopi quirúrgic per a neurocirurgia d'altes prestacions
A2: ='Annex B'!C1 -> SCS-2027-19 | B2: EMPRESA | C2: ='Annex B'!F1 -> Nom a emplenar per l'empresa
B3: NIF | C3: ='Annex B'!F2 -> NIF a emplenar per l'empresa
B4: Correu electrònic | C4: ='Annex B'!F3 -> Correu electrònic a emplenar per l'empresa
A5: Nota: a la columna "Índex documental", cal indicar la ubicació exacta a la documentació aportada (full, apartat, etc.) on es troben les característiques tècniques així com, si es requereix, el servei tècnic i les condicions de manteniment. A la columna "Característiques específiques (Descripció breu)" cal afegir una breu descripció i els valors, rangs o quantitats que demana cada ítem de la fitxa tècnica.
B6: Definició | E6: Característiques específiques (Descripció breu) | F6: Índex documental
B7: Definició
B8: Microscopi quirúrgic d'altes prestacions per a l'especialitat de neurocirurgia
B9: Adjuntar marcatge CE
B10: Adjuntar product data
B11: Indicar marca i model | E11: ='Annex B'!F8 -> Marca/Model a emplenar per l'empresa
B13: Prestacions tècniques i funcionals | C13: Grup de criteri | D13: Puntuació màxima | E13: Característiques específiques (Descripció breu) | F13: Índex documental
B14: 1.1. Sistema òptic d'imatge i estatiu | D14: =SUM(D15:D52) -> 22
B15: Característiques d'obligat compliment: les ofertes que no compleixin tots els requisits obligatoris quedaran excloses
A16: 1 | B16: Microscopi amb estatiu de peu
A17: =A16+1 -> 2 | B17: Equipat amb rodes giratòries en 360º
A18: =A17+1 -> 3 | B18: Sistema de frenat electromagnètic per a una immobilització segura del microscopi
A19: =A18+1 -> 4 | B19: Sistema integrat que permeti la maniobrabilitat del microscopi
A20: =A19+1 -> 5 | B20: De fàcil accés als components, com fungibles i reposicions, per realitzar possibles recanvis
A21: =A20+1 -> 6 | B21: Estatiu amb abast mínim o superior a 1,6 m per disposar de més flexibilitat a quiròfan
A22: =A21+1 -> 7 | B22: Binocular del cirurgià principal inclinable i rotable
B23: Òptica i pantalla d'interacció
A24: =A22+1 -> 8 | B24: Òptica apocromàtica amb zoom d'augment motoritzat 1:6
A25: =A24+1 -> 9 | B25: Rang mínim de distància de treball de entre 200 mm i 600 mm aproximadament sense peces addicionals ni lents extensores
A26: =A25+1 -> 10 | B26: Enfocament ràpid i precís. Motoritzat amb possibilitat d'enfocament manual
A27: =A26+1 -> 11 | B27: Oculars gran angular 10X amb ajustament diòptric, ajustament de distància interpupil·lar i correcció diòptrica per a cirurgià principal i coobservador
A28: =A27+1 -> 12 | B28: Enfocament i visualització de cavitats profundes. Cal descriure'ls
A29: =A28+1 -> 13 | B29: Monitor tàctil d'unitat de control per a maneig del microscopi quirúrgic
A30: =A29+1 -> 14 | B30: Mínim 3 binoculars, 2 en posicions enfrontades i el 3r en posició lateral
A31: =A30+1 -> 15 | B31: Autoenfocament
B32: Funcionament i ajust del sistema:
A33: =A31+1 -> 16 | B33: Empunyadures multifuncionals programables
A34: =A33+1 -> 17 | B34: Moviments motoritzats en els eixos X i Y per al control precís del microscopi
A35: =A34+1 -> 18 | B35: Balanç automàtic. Sistema d'autoequilibrat
A36: =A35+1 -> 19 | B36: Suport per a pantalla. Braç articulat amb possibilitat d'inclinació i rotació
A37: =A36+1 -> 20 | B37: Sistema d'aspiració de funda interconstruït en l'equip.
B38: Lents microscopi:
A39: =A37+1 -> 21 | B39: Els binoculars han de ser ajustables
A40: =A39+1 -> 22 | B40: Rotació de, com a mínim, 180º en tots els binoculars
A41: =A40+1 -> 23 | B41: Possibilitat d'inclinació en tots els binoculars
...

Sheet Llegenda grup de criteri
B2: Grups de criteri a valorar
B3: Funcionalitat tècnica i assistencial dels equips | C3: FTA
B4: Adequació a les necessitats assistencials | C4: ANA
B5: Qualitat de la imatge | C5: QI
B6: Seguretat del pacient i/o professional | C6: SP
B7: Confort del pacient i/o professional | C7: CP
B8: Qualitat del servei post venta | C8: QSPV
B9: Connectivitat de l’equip als sistemes informàtics | C9: CSI
B12: Anar al full Annex B
