Workbook

Sheet Electricitat
B2: Edifici / Equipament | C2: Adreça | D2: Nucli | E2: Electricitat =< 15 | F2: Electricitat > 15 | G2: Electricitat > 50 | I2: Cost edifici | J2: Cost total
E3: Electricitat =< 15 | F3: Electricitat > 15 | G3: Electricitat > 50
B5: EDIFICIS MUNICIPALS 32200 920 21300
A6: 1 | B6: Casa de la Vila | C6: Plaça de la Vila, 1 | D6: Ribes | E6: 0 | F6: 0 | G6: 1 | I6: =(E6*$E$97)+(F6*$E$96)+(G6*$E$95) -> 528.62625
A7: 2 | B7: Can Puig | C7: Carrer Major, 110 | D7: Ribes | E7: 0 | F7: 0 | G7: 1 | I7: =(E7*$E$97)+(F7*$E$96)+(G7*$E$95) -> 528.62625
A8: 3 | B8: Jutjat de Pau | C8: Carrer Eduard Maristany, 14 | D8: Ribes | E8: 0 | F8: 1 | G8: 0 | I8: =(E8*$E$97)+(F8*$E$96)+(G8*$E$95) -> 196.1715
A9: 4 | B9: Can Pau Roig | C9: Carrer de la torreta, 15 | D9: Ribes | E9: 1 | F9: 0 | G9: 0 | I9: =(E9*$E$97)+(F9*$E$96)+(G9*$E$95) -> 107.99891
A10: 5 | B10: Antena informàtica i policia | C10: Montgròs | D10: Ribes | E10: 1 | F10: 0 | G10: 0 | I10: =(E10*$E$97)+(F10*$E$96)+(G10*$E$95) -> 107.99891
A11: 6 | B11: Edifici Vinya d'en Petaca | C11: Plaça Vinya d'en Petaca, s/n | D11: Les Roquetes | E11: 0 | F11: 0 | G11: 1 | I11: =(E11*$E$97)+(F11*$E$96)+(G11*$E$95) -> 528.62625
A12: 7 | B12: Local magatzem neteja viària | C12: Plaça Vinya d'en Petaca, local 7 | D12: Les Roquetes | E12: 1 | F12: 0 | G12: 0 | I12: =(E12*$E$97)+(F12*$E$96)+(G12*$E$95) -> 107.99891
A13: 8 | B13: Nau brigada / serveis / deixalleria | C13: Carrer Boters, s/n | D13: Les Roquetes | E13: 1 | F13: 0 | G13: 0 | I13: =(E13*$E$97)+(F13*$E$96)+(G13*$E$95) -> 107.99891
A14: 9 | B14: Magatzem neteja i jardineria | C14: Parc Pompeu Fabra, s/n | D14: Les Roquetes | E14: 1 | F14: 0 | G14: 0 | I14: =(E14*$E$97)+(F14*$E$96)+(G14*$E$95) -> 107.99891 | J14: =SUM(I6:I14) -> 2322.0448
B16: BENESTAR SOCIAL 11100 231 21300
A17: 10 | B17: Casal avis Ribes | C17: Carrer Nou, 40-46 | D17: Ribes | E17: 0 | F17: 1 | G17: 0 | I17: =(E17*$E$97)+(F17*$E$96)+(G17*$E$95) -> 196.1715
A18: 11 | B18: Casal avis Roquetes | C18: Carrer Roger de Flor, 53 | D18: Les Roquetes | E18: 0 | F18: 1 | G18: 0 | I18: =(E18*$E$97)+(F18*$E$96)+(G18*$E$95) -> 196.1715
A19: 12 | B19: Centre de dia | C19: Carrer Roger de Flor, 53 | D19: Les Roquetes | E19: 0 | F19: 1 | G19: 0 | I19: =(E19*$E$97)+(F19*$E$96)+(G19*$E$95) -> 196.1715
A20: 13 | B20: Centre obert grup joves | C20: Carrer Gaudi, 1, local 11 | D20: Les Roquetes | E20: 1 | F20: 0 | G20: 0 | I20: =(E20*$E$97)+(F20*$E$96)+(G20*$E$95) -> 107.99891
A21: 14 | B21: Local Creu Roja | C21: Carrer Miquel Servet | D21: Les Roquetes | E21: 1 | F21: 0 | G21: 0 | I21: =(E21*$E$97)+(F21*$E$96)+(G21*$E$95) -> 107.99891
A22: 15 | B22: Banc d'aliments | C22: Plaça Vinya d'en Petaca, 2 local 1 | D22: Les Roquetes | E22: 1 | F22: 0 | G22: 0 | I22: =(E22*$E$97)+(F22*$E$96)+(G22*$E$95) -> 107.99891 | J22: =SUM(I17:I22) -> 912.51122
B24: PROMOCIÓ ECONÒMICA 35000 433 21300
A25: 16 | B25: Casa del terme | C25: Sota-ribes | D25: Ribes | E25: 1 | F25: 0 | G25: 0 | I25: =(E25*$E$97)+(F25*$E$96)+(G25*$E$95) -> 107.99891
A26: 17 | B26: Centre interpretació americanos | C26: Plaça de la Vila, 3 | D26: Ribes | E26: 1 | F26: 0 | G26: 0 | I26: =(E26*$E$97)+(F26*$E$96)+(G26*$E$95) -> 107.99891
A27: 18 | B27: Espai Cuina | C27: Carrer de Roger de Flor, 31 | D27: Ribes | E27: 0 | F27: 0 | G27: 0 | I27: =(E27*$E$97)+(F27*$E$96)+(G27*$E$95) -> 0
A28: 19 | B28: Espai empresa Roquetes | C28: Carrer Gaudi, 5 | D28: Les Roquetes | E28: 0 | F28: 1 | G28: 0 | I28: =(E28*$E$97)+(F28*$E$96)+(G28*$E$95) -> 196.1715 | J28: =SUM(I25:I28) -> 412.16932
B30: CULTURA BIBLIOTEQUES 12100 3321 21300
A31: 20 | B31: Biblioteca Manel de Pedrolo | C31: Plaça poeta Maria Mercè Marçal, 1 | D31: Ribes | E31: 0 | F31: 0 | G31: 1 | I31: =(E31*$E$97)+(F31*$E$96)+(G31*$E$95) -> 528.62625
A32: 21 | B32: Biblioteca Josep Pla | C32: Carrer Gaudi, 1 | D32: Les Roquetes | E32: 0 | F32: 0 | G32: 1 | I32: =(E32*$E$97)+(F32*$E$96)+(G32*$E$95) -> 528.62625 | J32: =SUM(I31:I32) -> 1057.2525
B34: CULTURA EL LOCAL 12100 333 21300 Projecte 2021_02_0018
A35: 22 | B35: El Local | C35: Carrer Eduard Maristany | D35: Ribes | E35: 0 | F35: 0 | G35: 1 | I35: =(E35*$E$97)+(F35*$E$96)+(G35*$E$95) -> 528.62625 | J35: =SUM(I35) -> 528.62625
B37: CULTURA L'ESPAI 12100 333 21300 Projecte 2021_02_0017
A38: 23 | B38: Centre Civic L'espai | C38: Parc Pompeu Fabra, s/n | D38: Les Roquetes | E38: 0 | F38: 0 | G38: 1 | I38: =(E38*$E$97)+(F38*$E$96)+(G38*$E$95) -> 528.62625 | J38: =SUM(I38) -> 528.62625
B40: CULTURA LA BÒBILA 12100 333 21300 Projecte 2021_02_0015
A41: 24 | B41: Teatre La Bòbila | C41: Carrer Hernán Cortés, 14 | D41: Les Roquetes | E41: 0 | F41: 0 | G41: 1 | I41: =(E41*$E$97)+(F41*$E$96)+(G41*$E$95) -> 528.62625 | J41: =SUM(I41) -> 528.62625
B43: CULTURA PATRIMONI 12100 336 21300 Projecte 2021_02_0016
A44: 25 | B44: Museu del Castell | C44: Sota-ribes | D44: Ribes | E44: 0 | F44: 1 | G44: 0 | I44: =(E44*$E$97)+(F44*$E$96)+(G44*$E$95) -> 196.1715
A45: 26 | B45: Ermita Sant Pau | C45: Sant Pau | D45: Ribes | E45: 0 | F45: 1 | G45: 0 | I45: =(E45*$E$97)+(F45*$E$96)+(G45*$E$95) -> 196.1715 | J45: =SUM(I44:I45) -> 392.34299
B47: CULTURA ALTRES EQUIPAMENTS 12100 333 21300
A48: 27 | B48: Antic Escorxador | C48: Carrer Escorxador, 7 | D48: Ribes | E48: 0 | F48: 1 | G48: 0 | I48: =(E48*$E$97)+(F48*$E$96)+(G48*$E$95) -> 196.1715
A49: 28 | B49: Local de Cultura-Antic CAP | C49: Carrer Antoni Maria Claret, 3 baixos | D49: Ribes | E49: 0 | F49: 1 | G49: 0 | I49: =(E49*$E$97)+(F49*$E$96)+(G49*$E$95) -> 196.1715
A50: 29 | B50: Centre Puigmoltó | C50: Puigmoltó, 9 | D50: Ribes | E50: 1 | F50: 0 | G50: 0 | I50: =(E50*$E$97)+(F50*$E$96)+(G50*$E$95) -> 107.99891
A51: 30 | B51: Casa Andalusia / Penya / UCER | C51: Carrer Miquel Àngel, 24, locals | D51: Les Roquetes | E51: 0 | F51: 1 | G51: 0 | I51: =(E51*$E$97)+(F51*$E$96)+(G51*$E$95) -> 196.1715 | J51: =SUM(I48:I51) -> 696.5134
B53: JOVENTUT 12200 334 21300
A54: 31 | B54: Espai Jove | C54: Plaça Jaume Gomez i Puig, 4, local | D54: Ribes | E54: 0 | F54: 1 | G54: 0 | I54: =(E54*$E$97)+(F54*$E$96)+(G54*$E$95) -> 196.1715 | J54: =SUM(I54) -> 196.1715
B56: ESPORTS 13100 340 21300
A57: 32 | B57: Camp de futbol de Ribes | C57: Passeig Circumval·lació, s/n | D57: Ribes | E57: 0 | F57: 0 | G57: 1 | I57: =(E57*$E$97)+(F57*$E$96)+(G57*$E$95) -> 528.62625
A58: 33 | B58: Pistes camp de futbol de Ribes | C58: Passeig Circumval·lació, s/n | D58: Ribes | E58: 0 | F58: 1 | G58: 0 | I58: =(E58*$E$97)+(F58*$E$96)+(G58*$E$95) -> 196.1715
A59: 34 | B59: Bar pistes camp de futbol Ribes | C59: Passeig Circumval·lació, s/n | D59: Ribes | E59: 0 | F59: 1 | G59: 0 | I59: =(E59*$E$97)+(F59*$E$96)+(G59*$E$95) -> 196.1715
A60: 35 | B60: Pavelló de Ribes | C60: Carrer Cristofor Mestres, s/n | D60: Ribes | E60: 0 | F60: 0 | G60: 1 | I60: =(E60*$E$97)+(F60*$E$96)+(G60*$E$95) -> 528.62625
A61: 36 | B61: Pistes de tennis Ribes | C61: Carrer Blades, 3 (Can Macià) | D61: Ribes | E61: 0 | F61: 1 | G61: 0 | I61: =(E61*$E$97)+(F61*$E$96)+(G61*$E$95) -> 196.1715
A62: 37 | B62: Camp de futbol de Roquetes | C62: Carrer Puigmal, s/n | D62: Les Roquetes | E62: 0 | F62: 0 | G62: 1 | I62: =(E62*$E$97)+(F62*$E$96)+(G62*$E$95) -> 528.62625
A63: 38 | B63: Pavelló de Roquetes | C63: Passeig Manel Cid, s/n | D63: Les Roquetes | E63: 0 | F63: 1 | G63: 0 | I63: =(E63*$E$97)+(F63*$E$96)+(G63*$E$95) -> 196.1715
A64: 39 | B64: Piscines i tennis Roquetes | C64: Carrer Miguel Servet, s/n | D64: Les Roquetes | E64: 0 | F64: 0 | G64: 1 | I64: =(E64*$E$97)+(F64*$E$96)+(G64*$E$95) -> 528.62625
A65: 40 | B65: Pistes Sant Agustí | C65: Carrer Àngel Guimerà, 72 | D65: Les Roquetes | E65: 1 | F65: 0 | G65: 0 | I65: =(E65*$E$97)+(F65*$E$96)+(G65*$E$95) -> 107.99891
A66: 41 | B66: Piscina de Ribes (Espai Blau) | C66: Passeig de Circumvaŀlació, s/n, | D66: Ribes | E66: 0 | F66: 0 | G66: 0 | I66: =(E66*$E$97)+(F66*$E$96)+(G66*$E$95) -> 0
A67: 42 | B67: Pícnic | C67: Carrer Boters, Vilanoveta | D67: Les Roquetes | E67: 0 | F67: 1 | G67: 0 | I67: =(E67*$E$97)+(F67*$E$96)+(G67*$E$95) -> 196.1715 | J67: =SUM(I57:I67) -> 3203.3614
B69: EDUCACIÓ 14100 320 21300
A70: 43 | B70: CEIP Els Costarets | C70: Carretera dels carç, 102 | D70: Ribes | E70: 0 | F70: 0 | G70: 1 | I70: =(E70*$E$97)+(F70*$E$96)+(G70*$E$95) -> 528.62625
A71: 44 | B71: CEIP La Riera | C71: Avinguda Onze de setembre, s/n | D71: Ribes | E71: 0 | F71: 0 | G71: 1 | I71: =(E71*$E$97)+(F71*$E$96)+(G71*$E$95) -> 528.62625
A72: 45 | B72: CEIP El Pi | C72: Carrer Ildefons Cerdà, 3 | D72: Ribes | E72: 0 | F72: 0 | G72: 1 | I72: =(E72*$E$97)+(F72*$E$96)+(G72*$E$95) -> 528.62625
A73: 46 | B73: CEIP Parellades | C73: Carrer Margarida Xirgu, 11 | D73: Ribes | E73: 0 | F73: 0 | G73: 1 | I73: =(E73*$E$97)+(F73*$E$96)+(G73*$E$95) -> 528.62625
A74: 47 | B74: Llar infants El Cargol | C74: Carretera del Carç, 100 | D74: Ribes | E74: 0 | F74: 1 | G74: 0 | I74: =(E74*$E$97)+(F74*$E$96)+(G74*$E$95) -> 196.1715
A75: 48 | B75: Llar infants l'Espígol | C75: Carrer Margarida Xirgu, s/n | D75: Ribes | E75: 0 | F75: 1 | G75: 0 | I75: =(E75*$E$97)+(F75*$E$96)+(G75*$E$95) -> 196.1715
A76: 49 | B76: CEIP Santa Eulàlia | C76: Carrer Puigmal, s/n | D76: Les Roquetes | E76: 0 | F76: 0 | G76: 1 | I76: =(E76*$E$97)+(F76*$E$96)+(G76*$E$95) -> 528.62625
A77: 50 | B77: CEIP Les Roquetes | C77: Carrer Miguel Servet, s/n | D77: Les Roquetes | E77: 0 | F77: 0 | G77: 1 | I77: =(E77*$E$97)+(F77*$E$96)+(G77*$E$95) -> 528.62625
A78: 51 | B78: CEIP Mediterrànea | C78: Ronda de la Masia Nova, 7 | D78: Les Roquetes | E78: 0 | F78: 0 | G78: 1 | I78: =(E78*$E$97)+(F78*$E$96)+(G78*$E$95) -> 528.62625
A79: 52 | B79: Llar infants Els tres pins | C79: Carrer Miquel Àngel, s/n | D79: Les Roquetes | E79: 0 | F79: 0 | G79: 1 | I79: =(E79*$E$97)+(F79*$E$96)+(G79*$E$95) -> 528.62625 | J79: =SUM(I70:I79) -> 4621.353
B81: EDIFICI PROGRAMA SEFED 34000 326 21300
A82: 53 | B82: SEFED Can Puig | C82: Carrer Major, 110 | D82: Ribes | E82: 1 | F82: 0 | G82: 0 | I82: =(E82*$E$97)+(F82*$E$96)+(G82*$E$95) -> 107.99891 | J82: =SUM(I82) -> 107.99891
B84: Departament de la Dona 12300 231 21300
A85: 54 | B85: Can Salvador Miret | C85: Carrer Nou, 40 | D85: Ribes | E85: 1 | F85: 0 | G85: 0 | I85: =(E85*$E$97)+(F85*$E$96)+(G85*$E$95) -> 107.99891 | J85: =SUM(I85) -> 107.99891
B87: Ocupació
A88: 55 | B88: Taller de perruqueria i estètica | C88: Plaça Vinya d'en Petaca,núm. 5 L6 | D88: Les Roquetes | E88: 0 | F88: 1 | G88: 0 | I88: =(E88*$E$97)+(F88*$E$96)+(G88*$E$95) -> 196.1715
A89: 56 | B89: Aulari Blanc | C89: Carrer Miguel Servet, s/n | D89: Les Roquetes | E89: 0 | F89: 1 | G89: 0 | I89: =(E89*$E$97)+(F89*$E$96)+(G89*$E$95) -> 196.1715 | J89: =SUM(I88:I89) -> 392.34299
B91: TOTAL INSTAL·LACIONS ELECTRICITAT EDIFICIS I EQUIPAMENTS MUNICIPALS | E91: =SUM(E6:E90) -> 14 | F91: =SUM(F6:F90) -> 20 | G91: =SUM(G6:G90) -> 20 | J91: =SUM(J6:J90) -> 16007.94
B94: PREUS UNITARIS ANUALS DELS COMPONENTS DE LA PRESTACIÓ P1 (sense IVA) | E94: € / ut licitació
A95: P1 | B95: Preu anual manteniment P1 instal·lació elèctrica tipus +50 | E95: 528.62625
A96: P2 | B96: Preu anual manteniment P1 instal·lació elèctrica tipus +15 | E96: 196.1715
A97: P3 | B97: Preu anual manteniment P1 instal·lació elèctrica tipus -15 | E97: 107.99891

Sheet Parallamps
B2: Edifici / Equipament | C2: Adreça | D2: Nucli | E2: Parallamps | G2: Cost edifici | H2: Cost total
E3: Electricitat > 50
B5: EDIFICIS MUNICIPALS 32200 920 21300
A6: 1 | B6: Casa de la Vila | C6: Plaça de la Vila, 1 | D6: Ribes | E6: 1 | G6: =(E6*$E$95) -> 153.47214
A7: 2 | B7: Can Puig | C7: Carrer Major, 110 | D7: Ribes | E7: 0 | G7: =(E7*$E$95) -> 0
A8: 3 | B8: Jutjat de Pau | C8: Carrer Eduard Maristany, 14 | D8: Ribes | E8: 0 | G8: =(E8*$E$95) -> 0
A9: 4 | B9: Can Pau Roig | C9: Carrer de la torreta, 15 | D9: Ribes | E9: 0 | G9: =(E9*$E$95) -> 0
A10: 5 | B10: Antena informàtica i policia | C10: Montgròs | D10: Ribes | E10: 1 | G10: =(E10*$E$95) -> 153.47214
A11: 6 | B11: Edifici Vinya d'en Petaca | C11: Plaça Vinya d'en Petaca, s/n | D11: Les Roquetes | E11: 1 | G11: =(E11*$E$95) -> 153.47214
A12: 7 | B12: Local magatzem neteja viària | C12: Plaça Vinya d'en Petaca, local 7 | D12: Les Roquetes | E12: 0 | G12: =(E12*$E$95) -> 0
A13: 8 | B13: Nau brigada / serveis / deixalleria | C13: Carrer Boters, s/n | D13: Les Roquetes | E13: 0 | G13: =(E13*$E$95) -> 0
A14: 9 | B14: Magatzem neteja i jardineria | C14: Parc Pompeu Fabra, s/n | D14: Les Roquetes | E14: 0 | G14: =(E14*$E$95) -> 0 | H14: =SUM(G6:G14) -> 460.41641
B16: BENESTAR SOCIAL 11100 231 21300
A17: 10 | B17: Casal avis Ribes | C17: Carrer Nou, 40-46 | D17: Ribes | E17: 0 | G17: =(E17*$E$95) -> 0
A18: 11 | B18: Casal avis Roquetes | C18: Carrer Roger de Flor, 53 | D18: Les Roquetes | E18: 1 | G18: =(E18*$E$95) -> 153.47214
A19: 12 | B19: Centre de dia | C19: Carrer Roger de Flor, 53 | D19: Les Roquetes | E19: 0 | G19: =(E19*$E$95) -> 0
A20: 13 | B20: Centre obert grup joves | C20: Carrer Gaudi, 1, local 11 | D20: Les Roquetes | E20: 0 | G20: =(E20*$E$95) -> 0
A21: 14 | B21: Local Creu Roja | C21: Carrer Miquel Servet | D21: Les Roquetes | E21: 0 | G21: =(E21*$E$95) -> 0
A22: 15 | B22: Banc d'aliments | C22: Plaça Vinya d'en Petaca, 2 local 1 | D22: Les Roquetes | E22: 0 | G22: =(E22*$E$95) -> 0 | H22: =SUM(G17:G22) -> 153.47214
B24: PROMOCIÓ ECONÒMICA 35000 433 21300
A25: 16 | B25: Casa del terme | C25: Sota-ribes | D25: Ribes | E25: 0 | G25: =(E25*$E$95) -> 0
A26: 17 | B26: Centre interpretació americanos | C26: Plaça de la Vila, 3 | D26: Ribes | E26: 0 | G26: =(E26*$E$95) -> 0
A27: 18 | B27: Espai Cuina | C27: Carrer de Roger de Flor, 31 | D27: Ribes | E27: 0 | G27: =(E27*$E$95) -> 0
A28: 19 | B28: Espai empresa Roquetes | C28: Carrer Gaudi, 5 | D28: Les Roquetes | E28: 0 | G28: =(E28*$E$95) -> 0 | H28: =SUM(G25:G28) -> 0
B30: CULTURA BIBLIOTEQUES 12100 3321 21300
A31: 20 | B31: Biblioteca Manel de Pedrolo | C31: Plaça poeta Maria Mercè Marçal, 1 | D31: Ribes | E31: 0 | G31: =(E31*$E$95) -> 0
A32: 21 | B32: Biblioteca Josep Pla | C32: Carrer Gaudi, 1 | D32: Les Roquetes | E32: 0 | G32: =(E32*$E$95) -> 0 | H32: =SUM(G31:G32) -> 0
B34: CULTURA EL LOCAL 12100 333 21300 Projecte 2021_02_0018
A35: 22 | B35: El Local | C35: Carrer Eduard Maristany | D35: Ribes | E35: 0 | G35: =(E35*$E$95) -> 0 | H35: =SUM(G35) -> 0
G36: =(E36*$E$95) -> 0
B37: CULTURA L'ESPAI 12100 333 21300 Projecte 2021_02_0017 | G37: =(E37*$E$95) -> 0
A38: 23 | B38: Centre Civic L'espai | C38: Parc Pompeu Fabra, s/n | D38: Les Roquetes | E38: 0 | G38: =(E38*$E$95) -> 0 | H38: =SUM(G38) -> 0
B40: CULTURA LA BÒBILA 12100 333 21300 Projecte 2021_02_0015
A41: 24 | B41: Teatre La Bòbila | C41: Carrer Hernán Cortés, 14 | D41: Les Roquetes | E41: 1 | G41: =(E41*$E$95) -> 153.47214 | H41: =SUM(G41) -> 153.47214
B43: CULTURA PATRIMONI 12100 336 21300 Projecte 2021_02_0016
A44: 25 | B44: Museu del Castell | C44: Sota-ribes | D44: Ribes | E44: 1 | G44: =(E44*$E$95) -> 153.47214
A45: 26 | B45: Ermita Sant Pau | C45: Sant Pau | D45: Ribes | E45: 0 | G45: =(E45*$E$95) -> 0 | H45: =SUM(G44:G45) -> 153.47214
B47: CULTURA ALTRES EQUIPAMENTS 12100 333 21300
A48: 27 | B48: Antic Escorxador | C48: Carrer Escorxador, 7 | D48: Ribes | E48: 0 | G48: =(E48*$E$95) -> 0
A49: 28 | B49: Local de Cultura-Antic CAP | C49: Carrer Antoni Maria Claret, 3 baixos | D49: Ribes | E49: 0 | G49: =(E49*$E$95) -> 0
A50: 29 | B50: Centre Puigmoltó | C50: Puigmoltó, 9 | D50: Ribes | E50: 0 | G50: =(E50*$E$95) -> 0
A51: 30 | B51: Casa Andalusia / Penya / UCER | C51: Carrer Miquel Àngel, 24, locals | D51: Les Roquetes | E51: 0 | G51: =(E51*$E$95) -> 0 | H51: =SUM(G48:G51) -> 0
B53: JOVENTUT 12200 334 21300
A54: 31 | B54: Espai Jove | C54: Plaça Jaume Gomez i Puig, 4, local | D54: Ribes | E54: 0 | G54: =(E54*$E$95) -> 0 | H54: =SUM(G54) -> 0
B56: ESPORTS 13100 340 21300
A57: 32 | B57: Camp de futbol de Ribes | C57: Passeig Circumval·lació, s/n | D57: Ribes | E57: 0 | G57: =(E57*$E$95) -> 0
A58: 33 | B58: Pistes camp de futbol de Ribes | C58: Passeig Circumval·lació, s/n | D58: Ribes | E58: 0 | G58: =(E58*$E$95) -> 0
A59: 34 | B59: Bar pistes camp de futbol Ribes | C59: Passeig Circumval·lació, s/n | D59: Ribes | E59: 0 | G59: =(E59*$E$95) -> 0
A60: 35 | B60: Pavelló de Ribes | C60: Carrer Cristofor Mestres, s/n | D60: Ribes | E60: 0 | G60: =(E60*$E$95) -> 0
A61: 36 | B61: Pistes de tennis Ribes | C61: Carrer Blades, 3 (Can Macià) | D61: Ribes | E61: 0 | G61: =(E61*$E$95) -> 0
A62: 37 | B62: Camp de futbol de Roquetes | C62: Carrer Puigmal, s/n | D62: Les Roquetes | E62: 0 | G62: =(E62*$E$95) -> 0
A63: 38 | B63: Pavelló de Roquetes | C63: Passeig Manel Cid, s/n | D63: Les Roquetes | E63: 0 | G63: =(E63*$E$95) -> 0
A64: 39 | B64: Piscines i tennis Roquetes | C64: Carrer Miguel Servet, s/n | D64: Les Roquetes | E64: 0 | G64: =(E64*$E$95) -> 0
A65: 40 | B65: Pistes Sant Agustí | C65: Carrer Àngel Guimerà, 72 | D65: Les Roquetes | E65: 0 | G65: =(E65*$E$95) -> 0
A66: 41 | B66: Piscina de Ribes (Espai Blau) | C66: Passeig de Circumvaŀlació, s/n, | D66: Ribes | E66: 0
A67: 42 | B67: Pícnic | C67: Carrer Boters, Vilanoveta | D67: Les Roquetes | E67: 0 | G67: =(E67*$E$95) -> 0 | H67: =SUM(G57:G67) -> 0
B69: EDUCACIÓ 14100 320 21300
A70: 43 | B70: CEIP Els Costarets | C70: Carretera dels carç, 102 | D70: Ribes | E70: 1 | G70: =(E70*$E$95) -> 153.47214
A71: 44 | B71: CEIP La Riera | C71: Avinguda Onze de setembre, s/n | D71: Ribes | E71: 1 | G71: =(E71*$E$95) -> 153.47214
A72: 45 | B72: CEIP El Pi | C72: Carrer Ildefons Cerdà, 3 | D72: Ribes | E72: 1 | G72: =(E72*$E$95) -> 153.47214
A73: 46 | B73: CEIP Parellades | C73: Carrer Margarida Xirgu, 11 | D73: Ribes | E73: 0 | G73: =(E73*$E$95) -> 0
A74: 47 | B74: Llar infants El Cargol | C74: Carretera del Carç, 100 | D74: Ribes | E74: 0 | G74: =(E74*$E$95) -> 0
A75: 48 | B75: Llar infants l'Espígol | C75: Carrer Margarida Xirgu, s/n | D75: Ribes | E75: 1 | G75: =(E75*$E$95) -> 153.47214
A76: 49 | B76: CEIP Santa Eulàlia | C76: Carrer Puigmal, s/n | D76: Les Roquetes | E76: 1 | G76: =(E76*$E$95) -> 153.47214
A77: 50 | B77: CEIP Les Roquetes | C77: Carrer Miguel Servet, s/n | D77: Les Roquetes | E77: 1 | G77: =(E77*$E$95) -> 153.47214
A78: 51 | B78: CEIP Mediterrànea | C78: Ronda de la Masia Nova, 7 | D78: Les Roquetes | E78: 0 | G78: =(E78*$E$95) -> 0
A79: 52 | B79: Llar infants Els tres pins | C79: Carrer Miquel Àngel, s/n | D79: Les Roquetes | E79: 0 | G79: =(E79*$E$95) -> 0 | H79: =SUM(G70:G79) -> 920.83282
B81: EDIFICI PROGRAMA SEFED 34000 326 21300
A82: 53 | B82: SEFED Can Puig | C82: Carrer Major, 110 | D82: Ribes | E82: 0 | G82: =(E82*$E$95) -> 0 | H82: =SUM(G82) -> 0
B84: Departament de la Dona 12300 231 21300
A85: 54 | B85: Can Salvador Miret | C85: Carrer Nou, 40 | D85: Ribes | G85: =(E85*$E$95) -> 0 | H85: =SUM(G85) -> 0
B87: Ocupació
A88: 55 | B88: Taller de perruqueria i estètica | C88: Plaça Vinya d'en Petaca,núm. 5 L6 | D88: Les Roquetes | E88: 0 | G88: =(E88*$E$95) -> 0
A89: 56 | B89: Aulari Blanc | C89: Carrer Miguel Servet, s/n | D89: Les Roquetes | E89: 0 | G89: =(E89*$E$95) -> 0 | H89: =SUM(G88:G89) -> 0
B91: TOTAL INSTAL·LACIONS PARALLAMPS EDIFICIS I EQUIPAMENTS MUNICIPALS | E91: =SUM(E6:E90) -> 12 | H91: =SUM(H6:H90) -> 1841.6656
B94: PREUS UNITARIS ANUALS DELS COMPONENTS DE LA PRESTACIÓ P1 (sense IVA) | E94: € / ut licitació
A95: P4 | B95: Preu anual manteniment P1 sistema parallamps | E95: 153.47214

Sheet Climatització
B2: Edifici / Equipament | C2: Adreça | D2: Nucli | E2: Climatització =< 12 | F2: Climatització > 12 | G2: Climatització > 70 | I2: Cost edifici | J2: Cost total
B5: EDIFICIS MUNICIPALS 32200 920 21300
A6: 1 | B6: Casa de la Vila | C6: Plaça de la Vila, 1 | D6: Ribes | E6: 46 | F6: 3 | G6: 0 | I6: =(E6*$E$97)+(F6*$E$96)+(G6*$E$95) -> 3147.884
A7: 2 | B7: Can Puig | C7: Carrer Major, 110 | D7: Ribes | E7: 44 | F7: 0 | G7: 0 | I7: =(E7*$E$97)+(F7*$E$96)+(G7*$E$95) -> 2701.1096
A8: 3 | B8: Jutjat de Pau | C8: Carrer Eduard Maristany, 14 | D8: Ribes | E8: 4 | F8: 0 | G8: 0 | I8: =(E8*$E$97)+(F8*$E$96)+(G8*$E$95) -> 245.55542
A9: 4 | B9: Can Pau Roig | C9: Carrer de la torreta, 15 | D9: Ribes | E9: 0 | F9: 0 | G9: 0 | I9: =(E9*$E$97)+(F9*$E$96)+(G9*$E$95) -> 0
A10: 5 | B10: Antena informàtica i policia | C10: Montgròs | D10: Ribes | E10: 0 | F10: 0 | G10: 0 | I10: =(E10*$E$97)+(F10*$E$96)+(G10*$E$95) -> 0
A11: 6 | B11: Edifici Vinya d'en Petaca | C11: Plaça Vinya d'en Petaca, s/n | D11: Les Roquetes | E11: 99 | F11: 3 | G11: 1 | I11: =(E11*$E$97)+(F11*$E$96)+(G11*$E$95) -> 6867.5939
A12: 7 | B12: Local magatzem neteja viària | C12: Plaça Vinya d'en Petaca, local 7 | D12: Les Roquetes | E12: 0 | F12: 0 | G12: 0 | I12: =(E12*$E$97)+(F12*$E$96)+(G12*$E$95) -> 0
A13: 8 | B13: Nau brigada / serveis / deixalleria | C13: Carrer Boters, s/n | D13: Les Roquetes | E13: 2 | F13: 0 | G13: 0 | I13: =(E13*$E$97)+(F13*$E$96)+(G13*$E$95) -> 122.77771
A14: 9 | B14: Magatzem neteja i jardineria | C14: Parc Pompeu Fabra, s/n | D14: Les Roquetes | E14: 0 | F14: 0 | G14: 0 | I14: =(E14*$E$97)+(F14*$E$96)+(G14*$E$95) -> 0 | J14: =SUM(I6:I14) -> 13084.921
B16: BENESTAR SOCIAL 11100 231 21300
A17: 10 | B17: Casal avis Ribes | C17: Carrer Nou, 40-46 | D17: Ribes | E17: 8 | F17: 2 | G17: 0 | I17: =(E17*$E$97)+(F17*$E$96)+(G17*$E$95) -> 707.10866
A18: 11 | B18: Casal avis Roquetes | C18: Carrer Roger de Flor, 53 | D18: Les Roquetes | E18: 10 | F18: 0 | G18: 1 | I18: =(E18*$E$97)+(F18*$E$96)+(G18*$E$95) -> 1079.9891
A19: 12 | B19: Centre de dia | C19: Carrer Roger de Flor, 53 | D19: Les Roquetes | E19: 10 | F19: 0 | G19: 1 | I19: =(E19*$E$97)+(F19*$E$96)+(G19*$E$95) -> 1079.9891
A20: 13 | B20: Centre obert grup joves | C20: Carrer Gaudi, 1, local 11 | D20: Les Roquetes | E20: 2 | F20: 0 | G20: 0 | I20: =(E20*$E$97)+(F20*$E$96)+(G20*$E$95) -> 122.77771
A21: 14 | B21: Local Creu Roja | C21: Carrer Miquel Servet | D21: Les Roquetes | E21: 2 | F21: 0 | G21: 0 | I21: =(E21*$E$97)+(F21*$E$96)+(G21*$E$95) -> 122.77771
A22: 15 | B22: Banc d'aliments | C22: Plaça Vinya d'en Petaca, 2 local 1 | D22: Les Roquetes | E22: 0 | F22: 0 | G22: 0 | I22: =(E22*$E$97)+(F22*$E$96)+(G22*$E$95) -> 0 | J22: =SUM(I17:I22) -> 3112.6423
B24: PROMOCIÓ ECONÒMICA 35000 433 21300
A25: 16 | B25: Casa del terme | C25: Sota-ribes | D25: Ribes | E25: 0 | F25: 2 | G25: 0 | I25: =(E25*$E$97)+(F25*$E$96)+(G25*$E$95) -> 215.99782
A26: 17 | B26: Centre interpretació americanos | C26: Plaça de la Vila, 3 | D26: Ribes | E26: 0 | F26: 1 | G26: 0 | I26: =(E26*$E$97)+(F26*$E$96)+(G26*$E$95) -> 107.99891
A27: 18 | B27: Espai Cuina | C27: Carrer de Roger de Flor, 31 | D27: Ribes | E27: 0 | F27: 0 | G27: 0 | I27: =(E27*$E$97)+(F27*$E$96)+(G27*$E$95) -> 0
A28: 19 | B28: Espai empresa Roquetes | C28: Carrer Gaudi, 5 | D28: Les Roquetes | E28: 1 | F28: 0 | G28: 0 | I28: =(E28*$E$97)+(F28*$E$96)+(G28*$E$95) -> 61.388855 | J28: =SUM(I25:I28) -> 385.38559
B30: CULTURA BIBLIOTEQUES 12100 3321 21300
A31: 20 | B31: Biblioteca Manel de Pedrolo | C31: Plaça poeta Maria Mercè Marçal, 1 | D31: Ribes | E31: 3 | F31: 4 | G31: 0 | I31: =(E31*$E$97)+(F31*$E$96)+(G31*$E$95) -> 616.16221
A32: 21 | B32: Biblioteca Josep Pla | C32: Carrer Gaudi, 1 | D32: Les Roquetes | E32: 4 | F32: 7 | G32: 1 | I32: =(E32*$E$97)+(F32*$E$96)+(G32*$E$95) -> 1467.6484 | J32: =SUM(I31:I32) -> 2083.8106
B34: CULTURA EL LOCAL 12100 333 21300 Projecte 2021_02_0018
A35: 22 | B35: El Local | C35: Carrer Eduard Maristany | D35: Ribes | E35: 7 | F35: 0 | G35: 1 | I35: =(E35*$E$97)+(F35*$E$96)+(G35*$E$95) -> 895.82255 | J35: =SUM(I35) -> 895.82255
B37: CULTURA L'ESPAI 12100 333 21300 Projecte 2021_02_0017
A38: 23 | B38: Centre Civic L'espai | C38: Parc Pompeu Fabra, s/n | D38: Les Roquetes | E38: 13 | F38: 0 | G38: 3 | I38: =(E38*$E$97)+(F38*$E$96)+(G38*$E$95) -> 2196.3568 | J38: =SUM(I38) -> 2196.3568
B40: CULTURA LA BÒBILA 12100 333 21300 Projecte 2021_02_0015
A41: 24 | B41: Teatre La Bòbila | C41: Carrer Hernán Cortés, 14 | D41: Les Roquetes | E41: 2 | F41: 2 | G41: 2 | I41: =(E41*$E$97)+(F41*$E$96)+(G41*$E$95) -> 1270.9767 | J41: =SUM(I41) -> 1270.9767
B43: CULTURA PATRIMONI 12100 336 21300 Projecte 2021_02_0016
A44: 25 | B44: Museu del Castell | C44: Sota-ribes | D44: Ribes | E44: 1 | F44: 1 | G44: 0 | I44: =(E44*$E$97)+(F44*$E$96)+(G44*$E$95) -> 169.38777
A45: 26 | B45: Ermita Sant Pau | C45: Sant Pau | D45: Ribes | E45: 0 | F45: 0 | G45: 0 | I45: =(E45*$E$97)+(F45*$E$96)+(G45*$E$95) -> 0 | J45: =SUM(I44:I45) -> 169.38777
B47: CULTURA ALTRES EQUIPAMENTS 12100 333 21300
A48: 27 | B48: Antic Escorxador | C48: Carrer Escorxador, 7 | D48: Ribes | E48: 5 | F48: 0 | G48: 0 | I48: =(E48*$E$97)+(F48*$E$96)+(G48*$E$95) -> 306.94427
A49: 28 | B49: Local de Cultura-Antic CAP | C49: Carrer Antoni Maria Claret, 3 baixos | D49: Ribes | E49: 4 | F49: 0 | G49: 0 | I49: =(E49*$E$97)+(F49*$E$96)+(G49*$E$95) -> 245.55542
A50: 29 | B50: Centre Puigmoltó | C50: Puigmoltó, 9 | D50: Ribes | E50: 0 | F50: 0 | G50: 0 | I50: =(E50*$E$97)+(F50*$E$96)+(G50*$E$95) -> 0
A51: 30 | B51: Casa Andalusia / Penya / UCER | C51: Carrer Miquel Àngel, 24, locals | D51: Les Roquetes | E51: 3 | F51: 0 | G51: 0 | I51: =(E51*$E$97)+(F51*$E$96)+(G51*$E$95) -> 184.16656 | J51: =SUM(I48:I51) -> 736.66626
B53: JOVENTUT 12200 334 21300
A54: 31 | B54: Espai Jove | C54: Plaça Jaume Gomez i Puig, 4, local | D54: Ribes | E54: 2 | F54: 5 | G54: 0 | I54: =(E54*$E$97)+(F54*$E$96)+(G54*$E$95) -> 662.77226 | J54: =SUM(I54) -> 662.77226
B56: ESPORTS 13100 340 21300
A57: 32 | B57: Camp de futbol de Ribes | C57: Passeig Circumval·lació, s/n | D57: Ribes | E57: 0 | F57: 0 | G57: 0 | I57: =(E57*$E$97)+(F57*$E$96)+(G57*$E$95) -> 0
A58: 33 | B58: Pistes camp de futbol de Ribes | C58: Passeig Circumval·lació, s/n | D58: Ribes | E58: 0 | F58: 0 | G58: 0 | I58: =(E58*$E$97)+(F58*$E$96)+(G58*$E$95) -> 0
A59: 34 | B59: Bar pistes camp de futbol Ribes | C59: Passeig Circumval·lació, s/n | D59: Ribes | E59: 0 | F59: 0 | G59: 0 | I59: =(E59*$E$97)+(F59*$E$96)+(G59*$E$95) -> 0
A60: 35 | B60: Pavelló de Ribes | C60: Carrer Cristofor Mestres, s/n | D60: Ribes | E60: 1 | F60: 1 | G60: 0 | I60: =(E60*$E$97)+(F60*$E$96)+(G60*$E$95) -> 169.38777
A61: 36 | B61: Pistes de tennis Ribes | C61: Carrer Blades, 3 (Can Macià) | D61: Ribes | E61: 1 | F61: 0 | G61: 0 | I61: =(E61*$E$97)+(F61*$E$96)+(G61*$E$95) -> 61.388855
A62: 37 | B62: Camp de futbol de Roquetes | C62: Carrer Puigmal, s/n | D62: Les Roquetes | E62: 0 | F62: 0 | G62: 0 | I62: =(E62*$E$97)+(F62*$E$96)+(G62*$E$95) -> 0
A63: 38 | B63: Pavelló de Roquetes | C63: Passeig Manel Cid, s/n | D63: Les Roquetes | E63: 1 | F63: 1 | G63: 0 | I63: =(E63*$E$97)+(F63*$E$96)+(G63*$E$95) -> 169.38777
A64: 39 | B64: Piscines i tennis Roquetes | C64: Carrer Miguel Servet, s/n | D64: Les Roquetes | E64: 0 | F64: 0 | G64: 0 | I64: =(E64*$E$97)+(F64*$E$96)+(G64*$E$95) -> 0
A65: 40 | B65: Pistes Sant Agustí | C65: Carrer Àngel Guimerà, 72 | D65: Les Roquetes | E65: 0 | F65: 0 | G65: 0 | I65: =(E65*$E$97)+(F65*$E$96)+(G65*$E$95) -> 0
A66: 41 | B66: Piscina de Ribes (Espai Blau) | C66: Passeig de Circumvaŀlació, s/n, | D66: Ribes | E66: 0 | F66: 0 | G66: 0 | I66: =(E66*$E$97)+(F66*$E$96)+(G66*$E$95) -> 0
A67: 42 | B67: Pícnic | C67: Carrer Boters, Vilanoveta | D67: Les Roquetes | E67: 0 | F67: 0 | G67: 0 | I67: =(E67*$E$97)+(F67*$E$96)+(G67*$E$95) -> 0 | J67: =SUM(I57:I67) -> 400.16439
B69: EDUCACIÓ 14100 320 21300
A70: 43 | B70: CEIP Els Costarets | C70: Carretera dels carç, 102 | D70: Ribes | E70: 7 | F70: 0 | G70: 0 | I70: =(E70*$E$97)+(F70*$E$96)+(G70*$E$95) -> 429.72198
A71: 44 | B71: CEIP La Riera | C71: Avinguda Onze de setembre, s/n | D71: Ribes | E71: 0 | F71: 0 | G71: 0 | I71: =(E71*$E$97)+(F71*$E$96)+(G71*$E$95) -> 0
A72: 45 | B72: CEIP El Pi | C72: Carrer Ildefons Cerdà, 3 | D72: Ribes | E72: 0 | F72: 0 | G72: 0 | I72: =(E72*$E$97)+(F72*$E$96)+(G72*$E$95) -> 0
A73: 46 | B73: CEIP Parellades | C73: Carrer Margarida Xirgu, 11 | D73: Ribes | E73: 0 | F73: 0 | G73: 0 | I73: =(E73*$E$97)+(F73*$E$96)+(G73*$E$95) -> 0
A74: 47 | B74: Llar infants El Cargol | C74: Carretera del Carç, 100 | D74: Ribes | E74: 8 | F74: 0 | G74: 0 | I74: =(E74*$E$97)+(F74*$E$96)+(G74*$E$95) -> 491.11084
A75: 48 | B75: Llar infants l'Espígol | C75: Carrer Margarida Xirgu, s/n | D75: Ribes | E75: 6 | F75: 0 | G75: 0 | I75: =(E75*$E$97)+(F75*$E$96)+(G75*$E$95) -> 368.33313
A76: 49 | B76: CEIP Santa Eulàlia | C76: Carrer Puigmal, s/n | D76: Les Roquetes | E76: 0 | F76: 0 | G76: 0 | I76: =(E76*$E$97)+(F76*$E$96)+(G76*$E$95) -> 0
A77: 50 | B77: CEIP Les Roquetes | C77: Carrer Miguel Servet, s/n | D77: Les Roquetes | E77: 0 | F77: 0 | G77: 0 | I77: =(E77*$E$97)+(F77*$E$96)+(G77*$E$95) -> 0
A78: 51 | B78: CEIP Mediterrànea | C78: Ronda de la Masia Nova, 7 | D78: Les Roquetes | E78: 0 | F78: 0 | G78: 0 | I78: =(E78*$E$97)+(F78*$E$96)+(G78*$E$95) -> 0
A79: 52 | B79: Llar infants Els tres pins | C79: Carrer Miquel Àngel, s/n | D79: Les Roquetes | E79: 17 | F79: 0 | G79: 0 | I79: =(E79*$E$97)+(F79*$E$96)+(G79*$E$95) -> 1043.6105 | J79: =SUM(I70:I79) -> 2332.7765
B81: EDIFICI PROGRAMA SEFED 34000 326 21300
A82: 53 | B82: SEFED Can Puig | C82: Carrer Major, 110 | D82: Ribes | E82: 4 | F82: 0 | G82: 0 | I82: =(E82*$E$97)+(F82*$E$96)+(G82*$E$95) -> 245.55542 | J82: =SUM(I82) -> 245.55542
B84: Departament de la Dona 12300 231 21300
A85: 54 | B85: Can Salvador Miret | C85: Carrer Nou, 40 | D85: Ribes | E85: 6 | F85: 0 | G85: 0 | I85: =(E85*$E$97)+(F85*$E$96)+(G85*$E$95) -> 368.33313 | J85: =SUM(I85) -> 368.33313
B87: Ocupació
A88: 55 | B88: Taller de perruqueria i estètica | C88: Plaça Vinya d'en Petaca,núm. 5 L6 | D88: Les Roquetes | E88: 2 | F88: 0 | G88: 0 | I88: =(E88*$E$97)+(F88*$E$96)+(G88*$E$95) -> 122.77771
A89: 56 | B89: Aulari Blanc | C89: Carrer Miguel Servet, s/n | D89: Les Roquetes | E89: 11 | F89: 0 | G89: 0 | I89: =(E89*$E$97)+(F89*$E$96)+(G89*$E$95) -> 675.2774 | J89: =SUM(I88:I89) -> 798.05511
B91: TOTAL INSTAL·LACIONS CLIMATITZACIÓ EDIFICIS I EQUIPAMENTS MUNICIPALS | E91: =SUM(E6:E90) -> 336 | F91: =SUM(F6:F90) -> 32 | G91: =SUM(G6:G90) -> 10 | J91: =SUM(J6:J90) -> 28743.626
B94: PREUS UNITARIS ANUALS DELS COMPONENTS DE LA PRESTACIÓ P1 (sense IVA) | E94: € / ut licitació
A95: P5 | B95: Preu anual manteniment P1 instal·lació climatització tipus +70 | E95: 466.10056
A96: P6 | B96: Preu anual manteniment P1 instal·lació climatització tipus +12 | E96: 107.99891
A97: P7 | B97: Preu anual manteniment P1 instal·lació climatització tipus -12 | E97: 61.388855

Sheet Gas
B2: Edifici / Equipament | C2: Adreça | D2: Nucli | E2: Gas | G2: Cost edifici | H2: Cost total
E3: Electricitat > 50
B5: EDIFICIS MUNICIPALS 32200 920 21300
A6: 1 | B6: Casa de la Vila | C6: Plaça de la Vila, 1 | D6: Ribes | E6: 0 | G6: =(E6*$E$95) -> 0
A7: 2 | B7: Can Puig | C7: Carrer Major, 110 | D7: Ribes | E7: 1 | G7: =(E7*$E$95) -> 170.5246
A8: 3 | B8: Jutjat de Pau | C8: Carrer Eduard Maristany, 14 | D8: Ribes | E8: 0 | G8: =(E8*$E$95) -> 0
A9: 4 | B9: Can Pau Roig | C9: Carrer de la torreta, 15 | D9: Ribes | E9: 0 | G9: =(E9*$E$95) -> 0
A10: 5 | B10: Antena informàtica i policia | C10: Montgròs | D10: Ribes | E10: 0 | G10: =(E10*$E$95) -> 0
A11: 6 | B11: Edifici Vinya d'en Petaca | C11: Plaça Vinya d'en Petaca, s/n | D11: Les Roquetes | E11: 0 | G11: =(E11*$E$95) -> 0
A12: 7 | B12: Local magatzem neteja viària | C12: Plaça Vinya d'en Petaca, local 7 | D12: Les Roquetes | E12: 0 | G12: =(E12*$E$95) -> 0
A13: 8 | B13: Nau brigada / serveis / deixalleria | C13: Carrer Boters, s/n | D13: Les Roquetes | E13: 0 | G13: =(E13*$E$95) -> 0
A14: 9 | B14: Magatzem neteja i jardineria | C14: Parc Pompeu Fabra, s/n | D14: Les Roquetes | E14: 0 | G14: =(E14*$E$95) -> 0 | H14: =SUM(G6:G14) -> 170.5246
B16: BENESTAR SOCIAL 11100 231 21300
A17: 10 | B17: Casal avis Ribes | C17: Carrer Nou, 40-46 | D17: Ribes | E17: 0 | G17: =(E17*$E$95) -> 0
A18: 11 | B18: Casal avis Roquetes | C18: Carrer Roger de Flor, 53 | D18: Les Roquetes | E18: 0 | G18: =(E18*$E$95) -> 0
A19: 12 | B19: Centre de dia | C19: Carrer Roger de Flor, 53 | D19: Les Roquetes | E19: 0 | G19: =(E19*$E$95) -> 0
A20: 13 | B20: Centre obert grup joves | C20: Carrer Gaudi, 1, local 11 | D20: Les Roquetes | E20: 0 | G20: =(E20*$E$95) -> 0
A21: 14 | B21: Local Creu Roja | C21: Carrer Miquel Servet | D21: Les Roquetes | E21: 0 | G21: =(E21*$E$95) -> 0
A22: 15 | B22: Banc d'aliments | C22: Plaça Vinya d'en Petaca, 2 local 1 | D22: Les Roquetes | E22: 0 | G22: =(E22*$E$95) -> 0 | H22: =SUM(G17:G22) -> 0
B24: PROMOCIÓ ECONÒMICA 35000 433 21300
A25: 16 | B25: Casa del terme | C25: Sota-ribes | D25: Ribes | E25: 0 | G25: =(E25*$E$95) -> 0
A26: 17 | B26: Centre interpretació americanos | C26: Plaça de la Vila, 3 | D26: Ribes | E26: 0 | G26: =(E26*$E$95) -> 0
A27: 18 | B27: Espai Cuina | C27: Carrer de Roger de Flor, 31 | D27: Ribes | E27: 0 | G27: =(E27*$E$95) -> 0
A28: 19 | B28: Espai empresa Roquetes | C28: Carrer Gaudi, 5 | D28: Les Roquetes | E28: 0 | G28: =(E28*$E$95) -> 0 | H28: =SUM(G25:G28) -> 0
B30: CULTURA BIBLIOTEQUES 12100 3321 21300
A31: 20 | B31: Biblioteca Manel de Pedrolo | C31: Plaça poeta Maria Mercè Marçal, 1 | D31: Ribes | E31: 0 | G31: =(E31*$E$95) -> 0
A32: 21 | B32: Biblioteca Josep Pla | C32: Carrer Gaudi, 1 | D32: Les Roquetes | E32: 0 | G32: =(E32*$E$95) -> 0 | H32: =SUM(G31:G32) -> 0
B34: CULTURA EL LOCAL 12100 333 21300 Projecte 2021_02_0018
A35: 22 | B35: El Local | C35: Carrer Eduard Maristany | D35: Ribes | E35: 0 | G35: =(E35*$E$95) -> 0 | H35: =SUM(G35) -> 0
G36: =(E36*$E$95) -> 0
B37: CULTURA L'ESPAI 12100 333 21300 Projecte 2021_02_0017 | G37: =(E37*$E$95) -> 0
A38: 23 | B38: Centre Civic L'espai | C38: Parc Pompeu Fabra, s/n | D38: Les Roquetes | E38: 0 | G38: =(E38*$E$95) -> 0 | H38: =SUM(G38) -> 0
B40: CULTURA LA BÒBILA 12100 333 21300 Projecte 2021_02_0015
A41: 24 | B41: Teatre La Bòbila | C41: Carrer Hernán Cortés, 14 | D41: Les Roquetes | E41: 0 | G41: =(E41*$E$95) -> 0 | H41: =SUM(G41) -> 0
B43: CULTURA PATRIMONI 12100 336 21300 Projecte 2021_02_0016
A44: 25 | B44: Museu del Castell | C44: Sota-ribes | D44: Ribes | E44: 0 | G44: =(E44*$E$95) -> 0
A45: 26 | B45: Ermita Sant Pau | C45: Sant Pau | D45: Ribes | E45: 0 | G45: =(E45*$E$95) -> 0 | H45: =SUM(G44:G45) -> 0
B47: CULTURA ALTRES EQUIPAMENTS 12100 333 21300
A48: 27 | B48: Antic Escorxador | C48: Carrer Escorxador, 7 | D48: Ribes | E48: 0 | G48: =(E48*$E$95) -> 0
A49: 28 | B49: Local de Cultura-Antic CAP | C49: Carrer Antoni Maria Claret, 3 baixos | D49: Ribes | E49: 1 | G49: =(E49*$E$95) -> 170.5246
A50: 29 | B50: Centre Puigmoltó | C50: Puigmoltó, 9 | D50: Ribes | E50: 0 | G50: =(E50*$E$95) -> 0
A51: 30 | B51: Casa Andalusia / Penya / UCER | C51: Carrer Miquel Àngel, 24, locals | D51: Les Roquetes | E51: 0 | G51: =(E51*$E$95) -> 0 | H51: =SUM(G48:G51) -> 170.5246
B53: JOVENTUT 12200 334 21300
A54: 31 | B54: Espai Jove | C54: Plaça Jaume Gomez i Puig, 4, local | D54: Ribes | E54: 0 | G54: =(E54*$E$95) -> 0 | H54: =SUM(G54) -> 0
B56: ESPORTS 13100 340 21300
A57: 32 | B57: Camp de futbol de Ribes | C57: Passeig Circumval·lació, s/n | D57: Ribes | E57: 1 | G57: =(E57*$E$95) -> 170.5246
A58: 33 | B58: Pistes camp de futbol de Ribes | C58: Passeig Circumval·lació, s/n | D58: Ribes | E58: 0 | G58: =(E58*$E$95) -> 0
A59: 34 | B59: Bar pistes camp de futbol Ribes | C59: Passeig Circumval·lació, s/n | D59: Ribes | E59: 0 | G59: =(E59*$E$95) -> 0
A60: 35 | B60: Pavelló de Ribes | C60: Carrer Cristofor Mestres, s/n | D60: Ribes | E60: 1 | G60: =(E60*$E$95) -> 170.5246
A61: 36 | B61: Pistes de tennis Ribes | C61: Carrer Blades, 3 (Can Macià) | D61: Ribes | E61: 1 | G61: =(E61*$E$95) -> 170.5246
A62: 37 | B62: Camp de futbol de Roquetes | C62: Carrer Puigmal, s/n | D62: Les Roquetes | E62: 1 | G62: =(E62*$E$95) -> 170.5246
A63: 38 | B63: Pavelló de Roquetes | C63: Passeig Manel Cid, s/n | D63: Les Roquetes | E63: 1 | G63: =(E63*$E$95) -> 170.5246
A64: 39 | B64: Piscines i tennis Roquetes | C64: Carrer Miguel Servet, s/n | D64: Les Roquetes | E64: 0 | G64: =(E64*$E$95) -> 0
A65: 40 | B65: Pistes Sant Agustí | C65: Carrer Àngel Guimerà, 72 | D65: Les Roquetes | E65: 0 | G65: =(E65*$E$95) -> 0
A66: 41 | B66: Piscina de Ribes (Espai Blau) | C66: Passeig de Circumvaŀlació, s/n, | D66: Ribes | E66: 0
A67: 42 | B67: Pícnic | C67: Carrer Boters, Vilanoveta | D67: Les Roquetes | E67: 0 | G67: =(E67*$E$95) -> 0 | H67: =SUM(G57:G67) -> 852.62298
B69: EDUCACIÓ 14100 320 21300
A70: 43 | B70: CEIP Els Costarets | C70: Carretera dels carç, 102 | D70: Ribes | E70: 1 | G70: =(E70*$E$95) -> 170.5246
A71: 44 | B71: CEIP La Riera | C71: Avinguda Onze de setembre, s/n | D71: Ribes | E71: 1 | G71: =(E71*$E$95) -> 170.5246
A72: 45 | B72: CEIP El Pi | C72: Carrer Ildefons Cerdà, 3 | D72: Ribes | E72: 1 | G72: =(E72*$E$95) -> 170.5246
A73: 46 | B73: CEIP Parellades | C73: Carrer Margarida Xirgu, 11 | D73: Ribes | E73: 1 | G73: =(E73*$E$95) -> 170.5246
A74: 47 | B74: Llar infants El Cargol | C74: Carretera del Carç, 100 | D74: Ribes | E74: 1 | G74: =(E74*$E$95) -> 170.5246
A75: 48 | B75: Llar infants l'Espígol | C75: Carrer Margarida Xirgu, s/n | D75: Ribes | E75: 1 | G75: =(E75*$E$95) -> 170.5246
A76: 49 | B76: CEIP Santa Eulàlia | C76: Carrer Puigmal, s/n | D76: Les Roquetes | E76: 1 | G76: =(E76*$E$95) -> 170.5246
A77: 50 | B77: CEIP Les Roquetes | C77: Carrer Miguel Servet, s/n | D77: Les Roquetes | E77: 3 | G77: =(E77*$E$95) -> 511.57379
A78: 51 | B78: CEIP Mediterrànea | C78: Ronda de la Masia Nova, 7 | D78: Les Roquetes | E78: 1 | G78: =(E78*$E$95) -> 170.5246
A79: 52 | B79: Llar infants Els tres pins | C79: Carrer Miquel Àngel, s/n | D79: Les Roquetes | E79: 1 | G79: =(E79*$E$95) -> 170.5246 | H79: =SUM(G70:G79) -> 2046.2952
B81: EDIFICI PROGRAMA SEFED 34000 326 21300
A82: 53 | B82: SEFED Can Puig | C82: Carrer Major, 110 | D82: Ribes | E82: 1 | G82: =(E82*$E$95) -> 170.5246 | H82: =SUM(G82) -> 170.5246
B84: Departament de la Dona 12300 231 21300
A85: 54 | B85: Can Salvador Miret | C85: Carrer Nou, 40 | D85: Ribes | E85: 0 | G85: =(E85*$E$95) -> 0 | H85: =SUM(G85) -> 0
B87: Ocupació
A88: 55 | B88: Taller de perruqueria i estètica | C88: Plaça Vinya d'en Petaca,núm. 5 L6 | D88: Les Roquetes | E88: 0 | G88: =(E88*$E$95) -> 0
A89: 56 | B89: Aulari Blanc | C89: Carrer Miguel Servet, s/n | D89: Les Roquetes | E89: 1 | G89: =(E89*$E$95) -> 170.5246 | H89: =SUM(G88:G89) -> 170.5246
B91: TOTAL INSTAL·LACIONS GAS EDIFICIS I EQUIPAMENTS MUNICIPALS | E91: =SUM(E6:E90) -> 21 | H91: =SUM(H6:H90) -> 3581.0165
B94: PREUS UNITARIS ANUALS DELS COMPONENTS DE LA PRESTACIÓ P1 (sense IVA) | E94: € / ut licitació
A95: P8 | B95: Preu anual manteniment P1 instal·lació gas natural | E95: 170.5246

Sheet Calderes
B2: Edifici / Equipament | C2: Adreça | D2: Nucli | E2: Calderes =< 70 | F2: Calderes > 70 | H2: Cost edifici | I2: Cost total
B5: EDIFICIS MUNICIPALS 32200 920 21300
A6: 1 | B6: Casa de la Vila | C6: Plaça de la Vila, 1 | D6: Ribes | E6: 0 | F6: 0 | H6: =(E6*$E$96)+(F6*$E$95) -> 0
A7: 2 | B7: Can Puig | C7: Carrer Major, 110 | D7: Ribes | E7: 0 | F7: 0 | H7: =(E7*$E$96)+(F7*$E$95) -> 0
A8: 3 | B8: Jutjat de Pau | C8: Carrer Eduard Maristany, 14 | D8: Ribes | E8: 0 | F8: 0 | H8: =(E8*$E$96)+(F8*$E$95) -> 0
A9: 4 | B9: Can Pau Roig | C9: Carrer de la torreta, 15 | D9: Ribes | E9: 0 | F9: 0 | H9: =(E9*$E$96)+(F9*$E$95) -> 0
A10: 5 | B10: Antena informàtica i policia | C10: Montgròs | D10: Ribes | E10: 0 | F10: 0 | H10: =(E10*$E$96)+(F10*$E$95) -> 0
A11: 6 | B11: Edifici Vinya d'en Petaca | C11: Plaça Vinya d'en Petaca, s/n | D11: Les Roquetes | E11: 0 | F11: 0 | H11: =(E11*$E$96)+(F11*$E$95) -> 0
A12: 7 | B12: Local magatzem neteja viària | C12: Plaça Vinya d'en Petaca, local 7 | D12: Les Roquetes | E12: 0 | F12: 0 | H12: =(E12*$E$96)+(F12*$E$95) -> 0
A13: 8 | B13: Nau brigada / serveis / deixalleria | C13: Carrer Boters, s/n | D13: Les Roquetes | E13: 0 | F13: 0 | H13: =(E13*$E$96)+(F13*$E$95) -> 0
A14: 9 | B14: Magatzem neteja i jardineria | C14: Parc Pompeu Fabra, s/n | D14: Les Roquetes | E14: 0 | F14: 0 | H14: =(E14*$E$96)+(F14*$E$95) -> 0 | I14: =SUM(H6:H14) -> 0
B16: BENESTAR SOCIAL 11100 231 21300
A17: 10 | B17: Casal avis Ribes | C17: Carrer Nou, 40-46 | D17: Ribes | E17: 0 | F17: 0 | H17: =(E17*$E$96)+(F17*$E$95) -> 0
A18: 11 | B18: Casal avis Roquetes | C18: Carrer Roger de Flor, 53 | D18: Les Roquetes | E18: 0 | F18: 0 | H18: =(E18*$E$96)+(F18*$E$95) -> 0
A19: 12 | B19: Centre de dia | C19: Carrer Roger de Flor, 53 | D19: Les Roquetes | E19: 0 | F19: 0 | H19: =(E19*$E$96)+(F19*$E$95) -> 0
A20: 13 | B20: Centre obert grup joves | C20: Carrer Gaudi, 1, local 11 | D20: Les Roquetes | E20: 0 | F20: 0 | H20: =(E20*$E$96)+(F20*$E$95) -> 0
A21: 14 | B21: Local Creu Roja | C21: Carrer Miquel Servet | D21: Les Roquetes | E21: 0 | F21: 0 | H21: =(E21*$E$96)+(F21*$E$95) -> 0
A22: 15 | B22: Banc d'aliments | C22: Plaça Vinya d'en Petaca, 2 local 1 | D22: Les Roquetes | E22: 0 | F22: 0 | H22: =(E22*$E$96)+(F22*$E$95) -> 0 | I22: =SUM(H17:H22) -> 0
B24: PROMOCIÓ ECONÒMICA 35000 433 21300
A25: 16 | B25: Casa del terme | C25: Sota-ribes | D25: Ribes | E25: 0 | F25: 0 | H25: =(E25*$E$96)+(F25*$E$95) -> 0
A26: 17 | B26: Centre interpretació americanos | C26: Plaça de la Vila, 3 | D26: Ribes | E26: 0 | F26: 0 | H26: =(E26*$E$96)+(F26*$E$95) -> 0
A27: 18 | B27: Espai Cuina | C27: Carrer de Roger de Flor, 31 | D27: Ribes | E27: 0 | F27: 0 | H27: =(E27*$E$96)+(F27*$E$95) -> 0
A28: 19 | B28: Espai empresa Roquetes | C28: Carrer Gaudi, 5 | D28: Les Roquetes | E28: 0 | F28: 0 | H28: =(E28*$E$96)+(F28*$E$95) -> 0 | I28: =SUM(H25:H28) -> 0
B30: CULTURA BIBLIOTEQUES 12100 3321 21300
A31: 20 | B31: Biblioteca Manel de Pedrolo | C31: Plaça poeta Maria Mercè Marçal, 1 | D31: Ribes | E31: 0 | F31: 0 | H31: =(E31*$E$96)+(F31*$E$95) -> 0
A32: 21 | B32: Biblioteca Josep Pla | C32: Carrer Gaudi, 1 | D32: Les Roquetes | E32: 0 | F32: 0 | H32: =(E32*$E$96)+(F32*$E$95) -> 0 | I32: =SUM(H31:H32) -> 0
B34: CULTURA EL LOCAL 12100 333 21300 Projecte 2021_02_0018
A35: 22 | B35: El Local | C35: Carrer Eduard Maristany | D35: Ribes | E35: 0 | F35: 0 | H35: =(E35*$E$96)+(F35*$E$95) -> 0 | I35: =SUM(H35) -> 0
B37: CULTURA L'ESPAI 12100 333 21300 Projecte 2021_02_0017
A38: 23 | B38: Centre Civic L'espai | C38: Parc Pompeu Fabra, s/n | D38: Les Roquetes | E38: 0 | F38: 0 | H38: =(E38*$E$96)+(F38*$E$95) -> 0 | I38: =SUM(H38) -> 0
B40: CULTURA LA BÒBILA 12100 333 21300 Projecte 2021_02_0015
A41: 24 | B41: Teatre La Bòbila | C41: Carrer Hernán Cortés, 14 | D41: Les Roquetes | E41: 0 | F41: 0 | H41: =(E41*$E$96)+(F41*$E$95) -> 0 | I41: =SUM(H41) -> 0
B43: CULTURA PATRIMONI 12100 336 21300 Projecte 2021_02_0016
A44: 25 | B44: Museu del Castell | C44: Sota-ribes | D44: Ribes | E44: 0 | F44: 0 | H44: =(E44*$E$96)+(F44*$E$95) -> 0
A45: 26 | B45: Ermita Sant Pau | C45: Sant Pau | D45: Ribes | E45: 0 | F45: 0 | H45: =(E45*$E$96)+(F45*$E$95) -> 0 | I45: =SUM(H44:H45) -> 0
B47: CULTURA ALTRES EQUIPAMENTS 12100 333 21300
A48: 27 | B48: Antic Escorxador | C48: Carrer Escorxador, 7 | D48: Ribes | E48: 0 | F48: 0 | H48: =(E48*$E$96)+(F48*$E$95) -> 0
A49: 28 | B49: Local de Cultura-Antic CAP | C49: Carrer Antoni Maria Claret, 3 baixos | D49: Ribes | E49: 0 | F49: 0 | H49: =(E49*$E$96)+(F49*$E$95) -> 0
A50: 29 | B50: Centre Puigmoltó | C50: Puigmoltó, 9 | D50: Ribes | E50: 0 | F50: 0 | H50: =(E50*$E$96)+(F50*$E$95) -> 0
A51: 30 | B51: Casa Andalusia / Penya / UCER | C51: Carrer Miquel Àngel, 24, locals | D51: Les Roquetes | E51: 0 | F51: 0 | H51: =(E51*$E$96)+(F51*$E$95) -> 0 | I51: =SUM(H48:H51) -> 0
B53: JOVENTUT 12200 334 21300
A54: 31 | B54: Espai Jove | C54: Plaça Jaume Gomez i Puig, 4, local | D54: Ribes | E54: 0 | F54: 0 | H54: =(E54*$E$96)+(F54*$E$95) -> 0 | I54: =SUM(H54) -> 0
B56: ESPORTS 13100 340 21300
A57: 32 | B57: Camp de futbol de Ribes | C57: Passeig Circumval·lació, s/n | D57: Ribes | E57: 1 | F57: 0 | H57: =(E57*$E$96)+(F57*$E$95) -> 159.15629
A58: 33 | B58: Pistes camp de futbol de Ribes | C58: Passeig Circumval·lació, s/n | D58: Ribes | E58: 0 | F58: 0 | H58: =(E58*$E$96)+(F58*$E$95) -> 0
A59: 34 | B59: Bar pistes camp de futbol Ribes | C59: Passeig Circumval·lació, s/n | D59: Ribes | E59: 0 | F59: 0 | H59: =(E59*$E$96)+(F59*$E$95) -> 0
A60: 35 | B60: Pavelló de Ribes | C60: Carrer Cristofor Mestres, s/n | D60: Ribes | E60: 3 | F60: 0 | H60: =(E60*$E$96)+(F60*$E$95) -> 477.46887
A61: 36 | B61: Pistes de tennis Ribes | C61: Carrer Blades, 3 (Can Macià) | D61: Ribes | E61: 1 | F61: 0 | H61: =(E61*$E$96)+(F61*$E$95) -> 159.15629
A62: 37 | B62: Camp de futbol de Roquetes | C62: Carrer Puigmal, s/n | D62: Les Roquetes | E62: 1 | F62: 0 | H62: =(E62*$E$96)+(F62*$E$95) -> 159.15629
A63: 38 | B63: Pavelló de Roquetes | C63: Passeig Manel Cid, s/n | D63: Les Roquetes | E63: 2 | F63: 1 | H63: =(E63*$E$96)+(F63*$E$95) -> 937.88528
A64: 39 | B64: Piscines i tennis Roquetes | C64: Carrer Miguel Servet, s/n | D64: Les Roquetes | E64: 0 | F64: 0 | H64: =(E64*$E$96)+(F64*$E$95) -> 0
A65: 40 | B65: Pistes Sant Agustí | C65: Carrer Àngel Guimerà, 72 | D65: Les Roquetes | E65: 0 | F65: 0 | H65: =(E65*$E$96)+(F65*$E$95) -> 0
A66: 41 | B66: Piscina de Ribes (Espai Blau) | C66: Passeig de Circumvaŀlació, s/n, | D66: Ribes | E66: 0 | F66: 0 | H66: =(E66*$E$96)+(F66*$E$95) -> 0
A67: 42 | B67: Pícnic | C67: Carrer Boters, Vilanoveta | D67: Les Roquetes | E67: 0 | F67: 0 | H67: =(E67*$E$96)+(F67*$E$95) -> 0 | I67: =SUM(H57:H67) -> 1892.823
B69: EDUCACIÓ 14100 320 21300
A70: 43 | B70: CEIP Els Costarets | C70: Carretera dels carç, 102 | D70: Ribes | E70: 0 | F70: 2 | H70: =(E70*$E$96)+(F70*$E$95) -> 1239.1454
A71: 44 | B71: CEIP La Riera | C71: Avinguda Onze de setembre, s/n | D71: Ribes | E71: 0 | F71: 1 | H71: =(E71*$E$96)+(F71*$E$95) -> 619.5727
A72: 45 | B72: CEIP El Pi | C72: Carrer Ildefons Cerdà, 3 | D72: Ribes | E72: 1 | F72: 1 | H72: =(E72*$E$96)+(F72*$E$95) -> 778.72899
A73: 46 | B73: CEIP Parellades | C73: Carrer Margarida Xirgu, 11 | D73: Ribes | E73: 0 | F73: 0 | H73: =(E73*$E$96)+(F73*$E$95) -> 0
A74: 47 | B74: Llar infants El Cargol | C74: Carretera del Carç, 100 | D74: Ribes | E74: 1 | F74: 0 | H74: =(E74*$E$96)+(F74*$E$95) -> 159.15629
A75: 48 | B75: Llar infants l'Espígol | C75: Carrer Margarida Xirgu, s/n | D75: Ribes | E75: 2 | F75: 0 | H75: =(E75*$E$96)+(F75*$E$95) -> 318.31258
A76: 49 | B76: CEIP Santa Eulàlia | C76: Carrer Puigmal, s/n | D76: Les Roquetes | E76: 0 | F76: 2 | H76: =(E76*$E$96)+(F76*$E$95) -> 1239.1454
A77: 50 | B77: CEIP Les Roquetes | C77: Carrer Miguel Servet, s/n | D77: Les Roquetes | E77: 2 | F77: 3 | H77: =(E77*$E$96)+(F77*$E$95) -> 2177.0307
A78: 51 | B78: CEIP Mediterrànea | C78: Ronda de la Masia Nova, 7 | D78: Les Roquetes | E78: 0 | F78: 0 | H78: =(E78*$E$96)+(F78*$E$95) -> 0
A79: 52 | B79: Llar infants Els tres pins | C79: Carrer Miquel Àngel, s/n | D79: Les Roquetes | E79: 2 | F79: 0 | H79: =(E79*$E$96)+(F79*$E$95) -> 318.31258 | I79: =SUM(H70:H79) -> 6849.4046
B81: EDIFICI PROGRAMA SEFED 34000 326 21300
A82: 53 | B82: SEFED Can Puig | C82: Carrer Major, 110 | D82: Ribes | E82: 0 | F82: 0 | H82: =(E82*$E$96)+(F82*$E$95) -> 0 | I82: =SUM(H82) -> 0
B84: Departament de la Dona 12300 231 21300
A85: 54 | B85: Can Salvador Miret | C85: Carrer Nou, 40 | D85: Ribes | E85: 0 | F85: 0 | H85: =(E85*$E$96)+(F85*$E$95) -> 0 | I85: =SUM(H85) -> 0
B87: Ocupació
A88: 55 | B88: Taller de perruqueria i estètica | C88: Plaça Vinya d'en Petaca,núm. 5 L6 | D88: Les Roquetes | E88: 0 | F88: 0 | H88: =(E88*$E$96)+(F88*$E$95) -> 0
A89: 56 | B89: Aulari Blanc | C89: Carrer Miguel Servet, s/n | D89: Les Roquetes | E89: 1 | F89: 0 | H89: =(E89*$E$96)+(F89*$E$95) -> 159.15629 | I89: =SUM(H88:H89) -> 159.15629
B91: TOTAL INSTAL·LACIONS CALEFACCIÓ I ACS EDIFICIS I EQUIPAMENTS MUNICIPALS | E91: =SUM(E6:E90) -> 17 | F91: =SUM(F6:F90) -> 10 | I91: =SUM(I6:I90) -> 8901.3839
B94: PREUS UNITARIS ANUALS DELS COMPONENTS DE LA PRESTACIÓ P1 (sense IVA) | E94: € / ut licitació
A95: P9 | B95: Preu anual manteniment P1 caldera calefacció tipus +70 | E95: 619.5727
A96: P10 | B96: Preu anual manteniment P1 caldera calefacció tipus -70 | E96: 159.15629

Sheet Solar
B2: Edifici / Equipament | C2: Adreça | D2: Nucli | E2: Solar =< 14 | F2: Solar > 14 | H2: Cost edifici | I2: Cost total
B5: EDIFICIS MUNICIPALS 32200 920 21300
A6: 1 | B6: Casa de la Vila | C6: Plaça de la Vila, 1 | D6: Ribes | E6: 0 | F6: 0 | H6: =(E6*$E$96)+(F6*$E$95) -> 0
A7: 2 | B7: Can Puig | C7: Carrer Major, 110 | D7: Ribes | E7: 0 | F7: 0 | H7: =(E7*$E$96)+(F7*$E$95) -> 0
A8: 3 | B8: Jutjat de Pau | C8: Carrer Eduard Maristany, 14 | D8: Ribes | E8: 0 | F8: 0 | H8: =(E8*$E$96)+(F8*$E$95) -> 0
A9: 4 | B9: Can Pau Roig | C9: Carrer de la torreta, 15 | D9: Ribes | E9: 0 | F9: 0 | H9: =(E9*$E$96)+(F9*$E$95) -> 0
A10: 5 | B10: Antena informàtica i policia | C10: Montgròs | D10: Ribes | E10: 0 | F10: 0 | H10: =(E10*$E$96)+(F10*$E$95) -> 0
A11: 6 | B11: Edifici Vinya d'en Petaca | C11: Plaça Vinya d'en Petaca, s/n | D11: Les Roquetes | E11: 0 | F11: 0 | H11: =(E11*$E$96)+(F11*$E$95) -> 0
A12: 7 | B12: Local magatzem neteja viària | C12: Plaça Vinya d'en Petaca, local 7 | D12: Les Roquetes | E12: 0 | F12: 0 | H12: =(E12*$E$96)+(F12*$E$95) -> 0
A13: 8 | B13: Nau brigada / serveis / deixalleria | C13: Carrer Boters, s/n | D13: Les Roquetes | E13: 0 | F13: 0 | H13: =(E13*$E$96)+(F13*$E$95) -> 0
A14: 9 | B14: Magatzem neteja i jardineria | C14: Parc Pompeu Fabra, s/n | D14: Les Roquetes | E14: 0 | F14: 0 | H14: =(E14*$E$96)+(F14*$E$95) -> 0 | I14: =SUM(H6:H14) -> 0
B16: BENESTAR SOCIAL 11100 231 21300
A17: 10 | B17: Casal avis Ribes | C17: Carrer Nou, 40-46 | D17: Ribes | E17: 0 | F17: 0 | H17: =(E17*$E$96)+(F17*$E$95) -> 0
A18: 11 | B18: Casal avis Roquetes | C18: Carrer Roger de Flor, 53 | D18: Les Roquetes | E18: 0 | F18: 0 | H18: =(E18*$E$96)+(F18*$E$95) -> 0
A19: 12 | B19: Centre de dia | C19: Carrer Roger de Flor, 53 | D19: Les Roquetes | E19: 0 | F19: 0 | H19: =(E19*$E$96)+(F19*$E$95) -> 0
A20: 13 | B20: Centre obert grup joves | C20: Carrer Gaudi, 1, local 11 | D20: Les Roquetes | E20: 0 | F20: 0 | H20: =(E20*$E$96)+(F20*$E$95) -> 0
A21: 14 | B21: Local Creu Roja | C21: Carrer Miquel Servet | D21: Les Roquetes | E21: 0 | F21: 0 | H21: =(E21*$E$96)+(F21*$E$95) -> 0
A22: 15 | B22: Banc d'aliments | C22: Plaça Vinya d'en Petaca, 2 local 1 | D22: Les Roquetes | E22: 0 | F22: 0 | H22: =(E22*$E$96)+(F22*$E$95) -> 0 | I22: =SUM(H17:H22) -> 0
B24: PROMOCIÓ ECONÒMICA 35000 433 21300
A25: 16 | B25: Casa del terme | C25: Sota-ribes | D25: Ribes | E25: 0 | F25: 0 | H25: =(E25*$E$96)+(F25*$E$95) -> 0
A26: 17 | B26: Centre interpretació americanos | C26: Plaça de la Vila, 3 | D26: Ribes | E26: 0 | F26: 0 | H26: =(E26*$E$96)+(F26*$E$95) -> 0
A27: 18 | B27: Espai Cuina | C27: Carrer de Roger de Flor, 31 | D27: Ribes | E27: 0 | F27: 0 | H27: =(E27*$E$96)+(F27*$E$95) -> 0
A28: 19 | B28: Espai empresa Roquetes | C28: Carrer Gaudi, 5 | D28: Les Roquetes | E28: 0 | F28: 0 | H28: =(E28*$E$96)+(F28*$E$95) -> 0 | I28: =SUM(H25:H28) -> 0
B30: CULTURA BIBLIOTEQUES 12100 3321 21300
A31: 20 | B31: Biblioteca Manel de Pedrolo | C31: Plaça poeta Maria Mercè Marçal, 1 | D31: Ribes | E31: 0 | F31: 0 | H31: =(E31*$E$96)+(F31*$E$95) -> 0
A32: 21 | B32: Biblioteca Josep Pla | C32: Carrer Gaudi, 1 | D32: Les Roquetes | E32: 0 | F32: 0 | H32: =(E32*$E$96)+(F32*$E$95) -> 0 | I32: =SUM(H31:H32) -> 0
B34: CULTURA EL LOCAL 12100 333 21300 Projecte 2021_02_0018
A35: 22 | B35: El Local | C35: Carrer Eduard Maristany | D35: Ribes | E35: 0 | F35: 0 | H35: =(E35*$E$96)+(F35*$E$95) -> 0 | I35: =SUM(H35) -> 0
B37: CULTURA L'ESPAI 12100 333 21300 Projecte 2021_02_0017
A38: 23 | B38: Centre Civic L'espai | C38: Parc Pompeu Fabra, s/n | D38: Les Roquetes | E38: 0 | F38: 0 | H38: =(E38*$E$96)+(F38*$E$95) -> 0 | I38: =SUM(H38) -> 0
B40: CULTURA LA BÒBILA 12100 333 21300 Projecte 2021_02_0015
A41: 24 | B41: Teatre La Bòbila | C41: Carrer Hernán Cortés, 14 | D41: Les Roquetes | E41: 0 | F41: 0 | H41: =(E41*$E$96)+(F41*$E$95) -> 0 | I41: =SUM(H41) -> 0
B43: CULTURA PATRIMONI 12100 336 21300 Projecte 2021_02_0016
A44: 25 | B44: Museu del Castell | C44: Sota-ribes | D44: Ribes | E44: 0 | F44: 0 | H44: =(E44*$E$96)+(F44*$E$95) -> 0
A45: 26 | B45: Ermita Sant Pau | C45: Sant Pau | D45: Ribes | E45: 0 | F45: 0 | H45: =(E45*$E$96)+(F45*$E$95) -> 0 | I45: =SUM(H44:H45) -> 0
B47: CULTURA ALTRES EQUIPAMENTS 12100 333 21300
A48: 27 | B48: Antic Escorxador | C48: Carrer Escorxador, 7 | D48: Ribes | E48: 0 | F48: 0 | H48: =(E48*$E$96)+(F48*$E$95) -> 0
A49: 28 | B49: Local de Cultura-Antic CAP | C49: Carrer Antoni Maria Claret, 3 baixos | D49: Ribes | E49: 0 | F49: 0 | H49: =(E49*$E$96)+(F49*$E$95) -> 0
A50: 29 | B50: Centre Puigmoltó | C50: Puigmoltó, 9 | D50: Ribes | E50: 0 | F50: 0 | H50: =(E50*$E$96)+(F50*$E$95) -> 0
A51: 30 | B51: Casa Andalusia / Penya / UCER | C51: Carrer Miquel Àngel, 24, locals | D51: Les Roquetes | E51: 0 | F51: 0 | H51: =(E51*$E$96)+(F51*$E$95) -> 0 | I51: =SUM(H48:H51) -> 0
B53: JOVENTUT 12200 334 21300
A54: 31 | B54: Espai Jove | C54: Plaça Jaume Gomez i Puig, 4, local | D54: Ribes | E54: 0 | F54: 0 | H54: =(E54*$E$96)+(F54*$E$95) -> 0 | I54: =SUM(H54) -> 0
B56: ESPORTS 13100 340 21300
A57: 32 | B57: Camp de futbol de Ribes | C57: Passeig Circumval·lació, s/n | D57: Ribes | E57: 0 | F57: 1 | H57: =(E57*$E$96)+(F57*$E$95) -> 653.67762
A58: 33 | B58: Pistes camp de futbol de Ribes | C58: Passeig Circumval·lació, s/n | D58: Ribes | E58: 0 | F58: 0 | H58: =(E58*$E$96)+(F58*$E$95) -> 0
A59: 34 | B59: Bar pistes camp de futbol Ribes | C59: Passeig Circumval·lació, s/n | D59: Ribes | E59: 0 | F59: 0 | H59: =(E59*$E$96)+(F59*$E$95) -> 0
A60: 35 | B60: Pavelló de Ribes | C60: Carrer Cristofor Mestres, s/n | D60: Ribes | E60: 0 | F60: 1 | H60: =(E60*$E$96)+(F60*$E$95) -> 653.67762
A61: 36 | B61: Pistes de tennis Ribes | C61: Carrer Blades, 3 (Can Macià) | D61: Ribes | E61: 0 | F61: 0 | H61: =(E61*$E$96)+(F61*$E$95) -> 0
A62: 37 | B62: Camp de futbol de Roquetes | C62: Carrer Puigmal, s/n | D62: Les Roquetes | E62: 0 | F62: 1 | H62: =(E62*$E$96)+(F62*$E$95) -> 653.67762
A63: 38 | B63: Pavelló de Roquetes | C63: Passeig Manel Cid, s/n | D63: Les Roquetes | E63: 0 | F63: 1 | H63: =(E63*$E$96)+(F63*$E$95) -> 653.67762
A64: 39 | B64: Piscines i tennis Roquetes | C64: Carrer Miguel Servet, s/n | D64: Les Roquetes | E64: 0 | F64: 0 | H64: =(E64*$E$96)+(F64*$E$95) -> 0
A65: 40 | B65: Pistes Sant Agustí | C65: Carrer Àngel Guimerà, 72 | D65: Les Roquetes | E65: 0 | F65: 0 | H65: =(E65*$E$96)+(F65*$E$95) -> 0
A66: 41 | B66: Piscina de Ribes (Espai Blau) | C66: Passeig de Circumvaŀlació, s/n, | D66: Ribes | E66: 0 | F66: 0 | H66: =(E66*$E$96)+(F66*$E$95) -> 0
A67: 42 | B67: Pícnic | C67: Carrer Boters, Vilanoveta | D67: Les Roquetes | E67: 0 | F67: 0 | H67: =(E67*$E$96)+(F67*$E$95) -> 0 | I67: =SUM(H57:H67) -> 2614.7105
B69: EDUCACIÓ 14100 320 21300
A70: 43 | B70: CEIP Els Costarets | C70: Carretera dels carç, 102 | D70: Ribes | E70: 0 | F70: 1 | H70: =(E70*$E$96)+(F70*$E$95) -> 653.67762 | L70: Emplaçament Instal·lació | M70: Nucli | N70: kWp Instal·lats | O70: kWn Nominals | P70: Bateries | Q70: Número de Plaques | R70: Model de Placa
A71: 44 | B71: CEIP La Riera | C71: Avinguda Onze de setembre, s/n | D71: Ribes | E71: 0 | F71: 1 | H71: =(E71*$E$96)+(F71*$E$95) -> 653.67762 | J71: Pista coberta=Pavelló?? | K71: 1 | L71: Pista coberta Ribes | M71: Ribes | N71: 121.6 | O71: 100 | P71: SÍ | Q71: 304 | R71: Trinasolar TSM-400 DE09.08
A72: 45 | B72: CEIP El Pi | C72: Carrer Ildefons Cerdà, 3 | D72: Ribes | E72: 0 | F72: 0 | H72: =(E72*$E$96)+(F72*$E$95) -> 0 | K72: 2 | L72: Espai Cuina (col·lectiva) | M72: Roquetes | N72: 70.5 | O72: 66 | P72: SÍ | Q72: 141 | R72: JA Solar JAM66S30-500/MR
A73: 46 | B73: CEIP Parellades | C73: Carrer Margarida Xirgu, 11 | D73: Ribes | E73: 0 | F73: 0 | H73: =(E73*$E$96)+(F73*$E$95) -> 0 | K73: 3 | L73: CEIP El Pi | M73: Ribes | N73: 46.08 | O73: 40 (50) | P73: NO | Q73: 96 | R73: ASTRONERGY CHSM60N(DG)/F-HC 480W
A74: 47 | B74: Llar infants El Cargol | C74: Carretera del Carç, 100 | D74: Ribes | E74: 0 | F74: 0 | H74: =(E74*$E$96)+(F74*$E$95) -> 0 | K74: 4 | L74: Piscina de Ribes (Espai Blau) | M74: Ribes | N74: 110.4 | O74: 100 | P74: SÍ | Q74: 230 | R74: ASTRONERGY CHSM60N(DG)/F-HC 480W
A75: 48 | B75: Llar infants l'Espígol | C75: Carrer Margarida Xirgu, s/n | D75: Ribes | E75: 1 | F75: 0 | H75: =(E75*$E$96)+(F75*$E$95) -> 295.5696 | K75: 5 | L75: CEIP Santa Eulàlia | M75: Roquetes | N75: 46.08 | O75: 45 (50) | P75: NO | Q75: 113 | R75: ASTRONERGY CHSM60N(DG)/F-HC 480W
A76: 49 | B76: CEIP Santa Eulàlia | C76: Carrer Puigmal, s/n | D76: Les Roquetes | E76: 0 | F76: 0 | H76: =(E76*$E$96)+(F76*$E$95) -> 0 | K76: 6 | L76: Aulari Blanc | M76: Roquetes | N76: 38.64 | O76: 40 | P76: SÍ | Q76: 84 | R76: Longi LR4-72HPH-455M 455 Wp
A77: 50 | B77: CEIP Les Roquetes | C77: Carrer Miguel Servet, s/n | D77: Les Roquetes | E77: 0 | F77: 1 | H77: =(E77*$E$96)+(F77*$E$95) -> 653.67762 | K77: 7 | L77: Llar d'infants Els Tres Pins | M77: Roquetes | N77: 41.28 | O77: 40 | P77: SÍ | Q77: 86 | R77: ASTRONERGY CHSM60N(DG)/F-HC 480W
A78: 51 | B78: CEIP Mediterrànea | C78: Ronda de la Masia Nova, 7 | D78: Les Roquetes | E78: 0 | F78: 0 | H78: =(E78*$E$96)+(F78*$E$95) -> 0 | K78: 8 | L78: Tennis Ribes (indiv.) | M78: Ribes | N78: 23.2 | O78: 25 | P78: SÍ | Q78: 40 | R78: Hi-MO LR5-72HTH 580M W
A79: 52 | B79: Llar infants Els tres pins | C79: Carrer Miquel Àngel, s/n | D79: Les Roquetes | E79: 1 | F79: 0 | H79: =(E79*$E$96)+(F79*$E$95) -> 295.5696 | I79: =SUM(H70:H79) -> 2552.1721 | K79: 9 | L79: Can Puig (indiv.) | M79: Ribes | N79: 21.6 | O79: 20 | P79: NO | Q79: 40 | R79: JAM 72S30 540/MR
B81: EDIFICI PROGRAMA SEFED 34000 326 21300
A82: 53 | B82: SEFED Can Puig | C82: Carrer Major, 110 | D82: Ribes | E82: 0 | F82: 0 | H82: =(E82*$E$96)+(F82*$E$95) -> 0 | I82: =SUM(H82) -> 0
B84: Departament de la Dona 12300 231 21300
A85: 54 | B85: Can Salvador Miret | C85: Carrer Nou, 40 | D85: Ribes | E85: 0 | F85: 0 | H85: =(E85*$E$96)+(F85*$E$95) -> 0 | I85: =SUM(H85) -> 0
B87: Ocupació
A88: 55 | B88: Taller de perruqueria i estètica | C88: Plaça Vinya d'en Petaca,núm. 5 L6 | D88: Les Roquetes | E88: 0 | F88: 0 | H88: =(E88*$E$96)+(F88*$E$95) -> 0
A89: 56 | B89: Aulari Blanc | C89: Carrer Miguel Servet, s/n | D89: Les Roquetes | E89: 0 | F89: 0 | H89: =(E89*$E$96)+(F89*$E$95) -> 0 | I89: =SUM(H88:H89) -> 0
B91: TOTAL INSTAL·LACIONS ENERGIA SOLAR EDIFICIS I EQUIPAMENTS MUNICIPALS | E91: =SUM(E6:E90) -> 2 | F91: =SUM(F6:F90) -> 7 | I91: =SUM(I6:I90) -> 5166.8825
B94: PREUS UNITARIS ANUALS DELS COMPONENTS DE LA PRESTACIÓ P1 (sense IVA) | E94: € / ut licitació
A95: P11 | B95: Preu anual manteniment P1 instal·lació energia solar tipus +14 | E95: 653.67762
A96: P12 | B96: Preu anual manteniment P1 instal·lació energia solar tipus -14 | E96: 295.5696

Sheet Fotovoltaica
B2: Edifici / Equipament | C2: Adreça | D2: Nucli | E2: Kwn Fotovoltaiques | G2: Cost edifici | H2: Cost total
E3: Electricitat > 50
B5: EDIFICIS MUNICIPALS 32200 920 21300
A6: 1 | B6: Casa de la Vila | C6: Plaça de la Vila, 1 | D6: Ribes | E6: 0 | G6: =(E6*$E$95) -> 0
A7: 2 | B7: Can Puig | C7: Carrer Major, 110 | D7: Ribes | E7: 0 | G7: =(E7*$E$95) -> 0
A8: 3 | B8: Jutjat de Pau | C8: Carrer Eduard Maristany, 14 | D8: Ribes | E8: 0 | G8: =(E8*$E$95) -> 0
A9: 4 | B9: Can Pau Roig | C9: Carrer de la torreta, 15 | D9: Ribes | E9: 0 | G9: =(E9*$E$95) -> 0
A10: 5 | B10: Antena informàtica i policia | C10: Montgròs | D10: Ribes | E10: 0 | G10: =(E10*$E$95) -> 0
A11: 6 | B11: Edifici Vinya d'en Petaca | C11: Plaça Vinya d'en Petaca, s/n | D11: Les Roquetes | E11: 0 | G11: =(E11*$E$95) -> 0
A12: 7 | B12: Local magatzem neteja viària | C12: Plaça Vinya d'en Petaca, local 7 | D12: Les Roquetes | E12: 0 | G12: =(E12*$E$95) -> 0
A13: 8 | B13: Nau brigada / serveis / deixalleria | C13: Carrer Boters, s/n | D13: Les Roquetes | E13: 0 | G13: =(E13*$E$95) -> 0
A14: 9 | B14: Magatzem neteja i jardineria | C14: Parc Pompeu Fabra, s/n | D14: Les Roquetes | E14: 0 | G14: =(E14*$E$95) -> 0 | H14: =SUM(G6:G14) -> 0
B16: BENESTAR SOCIAL 11100 231 21300
A17: 10 | B17: Casal avis Ribes | C17: Carrer Nou, 40-46 | D17: Ribes | E17: 0 | G17: =(E17*$E$95) -> 0
A18: 11 | B18: Casal avis Roquetes | C18: Carrer Roger de Flor, 53 | D18: Les Roquetes | E18: 0 | G18: =(E18*$E$95) -> 0
A19: 12 | B19: Centre de dia | C19: Carrer Roger de Flor, 53 | D19: Les Roquetes | E19: 0 | G19: =(E19*$E$95) -> 0
A20: 13 | B20: Centre obert grup joves | C20: Carrer Gaudi, 1, local 11 | D20: Les Roquetes | E20: 0 | G20: =(E20*$E$95) -> 0
A21: 14 | B21: Local Creu Roja | C21: Carrer Miquel Servet | D21: Les Roquetes | E21: 0 | G21: =(E21*$E$95) -> 0
A22: 15 | B22: Banc d'aliments | C22: Plaça Vinya d'en Petaca, 2 local 1 | D22: Les Roquetes | E22: 0 | G22: =(E22*$E$95) -> 0 | H22: =SUM(G17:G22) -> 0
B24: PROMOCIÓ ECONÒMICA 35000 433 21300
A25: 16 | B25: Casa del terme | C25: Sota-ribes | D25: Ribes | E25: 0 | G25: =(E25*$E$95) -> 0
A26: 17 | B26: Centre interpretació americanos | C26: Plaça de la Vila, 3 | D26: Ribes | E26: 0 | G26: =(E26*$E$95) -> 0
A27: 18 | B27: Espai Cuina | C27: Carrer de Roger de Flor, 31 | D27: Ribes | E27: =30+60 -> 90 | G27: =(E27*$E$95) -> 2878.235
A28: 19 | B28: Espai empresa Roquetes | C28: Carrer Gaudi, 5 | D28: Les Roquetes | E28: 0 | G28: =(E28*$E$95) -> 0 | H28: =SUM(G25:G28) -> 2878.235
B30: CULTURA BIBLIOTEQUES 12100 3321 21300
A31: 20 | B31: Biblioteca Manel de Pedrolo | C31: Plaça poeta Maria Mercè Marçal, 1 | D31: Ribes | E31: 0 | G31: =(E31*$E$95) -> 0
A32: 21 | B32: Biblioteca Josep Pla | C32: Carrer Gaudi, 1 | D32: Les Roquetes | E32: 0 | G32: =(E32*$E$95) -> 0 | H32: =SUM(G31:G32) -> 0
B34: CULTURA EL LOCAL 12100 333 21300 Projecte 2021_02_0018
A35: 22 | B35: El Local | C35: Carrer Eduard Maristany | D35: Ribes | E35: 0 | G35: =(E35*$E$95) -> 0 | H35: =SUM(G35) -> 0
G36: =(E36*$E$95) -> 0
B37: CULTURA L'ESPAI 12100 333 21300 Projecte 2021_02_0017 | G37: =(E37*$E$95) -> 0
A38: 23 | B38: Centre Civic L'espai | C38: Parc Pompeu Fabra, s/n | D38: Les Roquetes | E38: 0 | G38: =(E38*$E$95) -> 0 | H38: =SUM(G38) -> 0
B40: CULTURA LA BÒBILA 12100 333 21300 Projecte 2021_02_0015
A41: 24 | B41: Teatre La Bòbila | C41: Carrer Hernán Cortés, 14 | D41: Les Roquetes | E41: 0 | G41: =(E41*$E$95) -> 0 | H41: =SUM(G41) -> 0
B43: CULTURA PATRIMONI 12100 336 21300 Projecte 2021_02_0016
A44: 25 | B44: Museu del Castell | C44: Sota-ribes | D44: Ribes | E44: 0 | G44: =(E44*$E$95) -> 0
A45: 26 | B45: Ermita Sant Pau | C45: Sant Pau | D45: Ribes | E45: 0 | G45: =(E45*$E$95) -> 0 | H45: =SUM(G44:G45) -> 0
B47: CULTURA ALTRES EQUIPAMENTS 12100 333 21300
A48: 27 | B48: Antic Escorxador | C48: Carrer Escorxador, 7 | D48: Ribes | E48: 0 | G48: =(E48*$E$95) -> 0
A49: 28 | B49: Local de Cultura-Antic CAP | C49: Carrer Antoni Maria Claret, 3 baixos | D49: Ribes | E49: 0 | G49: =(E49*$E$95) -> 0
A50: 29 | B50: Centre Puigmoltó | C50: Puigmoltó, 9 | D50: Ribes | E50: 0 | G50: =(E50*$E$95) -> 0
A51: 30 | B51: Casa Andalusia / Penya / UCER | C51: Carrer Miquel Àngel, 24, locals | D51: Les Roquetes | E51: 0 | G51: =(E51*$E$95) -> 0 | H51: =SUM(G48:G51) -> 0
B53: JOVENTUT 12200 334 21300
A54: 31 | B54: Espai Jove | C54: Plaça Jaume Gomez i Puig, 4, local | D54: Ribes | E54: 0 | G54: =(E54*$E$95) -> 0 | H54: =SUM(G54) -> 0
B56: ESPORTS 13100 340 21300
A57: 32 | B57: Camp de futbol de Ribes | C57: Passeig Circumval·lació, s/n | D57: Ribes | E57: 0 | G57: =(E57*$E$95) -> 0
A58: 33 | B58: Pistes camp de futbol de Ribes | C58: Passeig Circumval·lació, s/n | D58: Ribes | E58: 0 | G58: =(E58*$E$95) -> 0
A59: 34 | B59: Bar pistes camp de futbol Ribes | C59: Passeig Circumval·lació, s/n | D59: Ribes | E59: 0 | G59: =(E59*$E$95) -> 0
A60: 35 | B60: Pavelló de Ribes | C60: Carrer Cristofor Mestres, s/n | D60: Ribes | E60: 100 | G60: =(E60*$E$95) -> 3198.0389
A61: 36 | B61: Pistes de tennis Ribes | C61: Carrer Blades, 3 (Can Macià) | D61: Ribes | E61: 30 | G61: =(E61*$E$95) -> 959.41167
A62: 37 | B62: Camp de futbol de Roquetes | C62: Carrer Puigmal, s/n | D62: Les Roquetes | E62: 0 | G62: =(E62*$E$95) -> 0
A63: 38 | B63: Pavelló de Roquetes | C63: Passeig Manel Cid, s/n | D63: Les Roquetes | E63: 0 | G63: =(E63*$E$95) -> 0
A64: 39 | B64: Piscines i tennis Roquetes | C64: Carrer Miguel Servet, s/n | D64: Les Roquetes | E64: 0 | G64: =(E64*$E$95) -> 0
A65: 40 | B65: Pistes Sant Agustí | C65: Carrer Àngel Guimerà, 72 | D65: Les Roquetes | E65: 0 | G65: =(E65*$E$95) -> 0
A66: 41 | B66: Piscina de Ribes (Espai Blau) | C66: Passeig de Circumvaŀlació, s/n, | D66: Ribes | E66: 100 | G66: =(E66*$E$95) -> 3198.0389
A67: 42 | B67: Pícnic | C67: Carrer Boters, Vilanoveta | D67: Les Roquetes | E67: 0 | G67: =(E67*$E$95) -> 0 | H67: =SUM(G57:G67) -> 7355.4895
B69: EDUCACIÓ 14100 320 21300
A70: 43 | B70: CEIP Els Costarets | C70: Carretera dels carç, 102 | D70: Ribes | E70: 0 | G70: =(E70*$E$95) -> 0
A71: 44 | B71: CEIP La Riera | C71: Avinguda Onze de setembre, s/n | D71: Ribes | E71: 0 | G71: =(E71*$E$95) -> 0
A72: 45 | B72: CEIP El Pi | C72: Carrer Ildefons Cerdà, 3 | D72: Ribes | E72: 40 | G72: =(E72*$E$95) -> 1279.2156
A73: 46 | B73: CEIP Parellades | C73: Carrer Margarida Xirgu, 11 | D73: Ribes | E73: 0 | G73: =(E73*$E$95) -> 0
A74: 47 | B74: Llar infants El Cargol | C74: Carretera del Carç, 100 | D74: Ribes | E74: 0 | G74: =(E74*$E$95) -> 0
A75: 48 | B75: Llar infants l'Espígol | C75: Carrer Margarida Xirgu, s/n | D75: Ribes | E75: 0 | G75: =(E75*$E$95) -> 0
A76: 49 | B76: CEIP Santa Eulàlia | C76: Carrer Puigmal, s/n | D76: Les Roquetes | E76: 45 | G76: =(E76*$E$95) -> 1439.1175
A77: 50 | B77: CEIP Les Roquetes | C77: Carrer Miguel Servet, s/n | D77: Les Roquetes | E77: 0 | G77: =(E77*$E$95) -> 0
A78: 51 | B78: CEIP Mediterrànea | C78: Ronda de la Masia Nova, 7 | D78: Les Roquetes | E78: 0 | G78: =(E78*$E$95) -> 0
A79: 52 | B79: Llar infants Els tres pins | C79: Carrer Miquel Àngel, s/n | D79: Les Roquetes | E79: 40 | G79: =(E79*$E$95) -> 1279.2156 | H79: =SUM(G70:G79) -> 3997.5486
B81: EDIFICI PROGRAMA SEFED 34000 326 21300
A82: 53 | B82: SEFED Can Puig | C82: Carrer Major, 110 | D82: Ribes | E82: 0 | G82: =(E82*$E$95) -> 0 | H82: =SUM(G82) -> 0
B84: Departament de la Dona 12300 231 21300
A85: 54 | B85: Can Salvador Miret | C85: Carrer Nou, 40 | D85: Ribes | E85: 0 | G85: =(E85*$E$95) -> 0 | H85: =SUM(G85) -> 0
B87: Ocupació
A88: 55 | B88: Taller de perruqueria i estètica | C88: Plaça Vinya d'en Petaca,núm. 5 L6 | D88: Les Roquetes | E88: 0 | G88: =(E88*$E$95) -> 0
A89: 56 | B89: Aulari Blanc | C89: Carrer Miguel Servet, s/n | D89: Les Roquetes | E89: 40 | G89: =(E89*$E$95) -> 1279.2156 | H89: =SUM(G88:G89) -> 1279.2156
B91: TOTAL INSTAL·LACIONS FOTOVOLTAIQUES EDIFICIS I EQUIPAMENTS MUNICIPALS | E91: =SUM(E6:E90) -> 485 | H91: =SUM(H6:H90) -> 15510.489
B94: PREUS UNITARIS ANUALS DELS COMPONENTS DE LA PRESTACIÓ P1 (sense IVA) | E94: € / ut licitació
A95: P19 | B95: Fotovoltaiques en funció del kWn instal.lats amb o sense bateries. | E95: 31.980389

Sheet Fontaneria
B2: Edifici / Equipament | C2: Adreça | D2: Nucli | E2: Fontaneria 1 | F2: Fontaneria 2 | G2: Fontaneria 3 | I2: Cost edifici | J2: Cost total
B5: EDIFICIS MUNICIPALS 32200 920 21300
A6: 1 | B6: Casa de la Vila | C6: Plaça de la Vila, 1 | D6: Ribes | E6: 0 | F6: 1 | G6: 0 | I6: =(E6*$E$95)+(F6*$E$96)+(G6*$E$97) -> 85.262298
A7: 2 | B7: Can Puig | C7: Carrer Major, 110 | D7: Ribes | E7: 1 | F7: 0 | G7: 0 | I7: =(E7*$E$95)+(F7*$E$96)+(G7*$E$97) -> 170.5246
A8: 3 | B8: Jutjat de Pau | C8: Carrer Eduard Maristany, 14 | D8: Ribes | E8: 0 | F8: 1 | G8: 0 | I8: =(E8*$E$95)+(F8*$E$96)+(G8*$E$97) -> 85.262298
A9: 4 | B9: Can Pau Roig | C9: Carrer de la torreta, 15 | D9: Ribes | E9: 0 | F9: 0 | G9: 1 | I9: =(E9*$E$95)+(F9*$E$96)+(G9*$E$97) -> 56.841532
A10: 5 | B10: Antena informàtica i policia | C10: Montgròs | D10: Ribes | E10: 0 | F10: 0 | G10: 0 | I10: =(E10*$E$95)+(F10*$E$96)+(G10*$E$97) -> 0
A11: 6 | B11: Edifici Vinya d'en Petaca | C11: Plaça Vinya d'en Petaca, s/n | D11: Les Roquetes | E11: 1 | F11: 0 | G11: 0 | I11: =(E11*$E$95)+(F11*$E$96)+(G11*$E$97) -> 170.5246
A12: 7 | B12: Local magatzem neteja viària | C12: Plaça Vinya d'en Petaca, local 7 | D12: Les Roquetes | E12: 0 | F12: 0 | G12: 1 | I12: =(E12*$E$95)+(F12*$E$96)+(G12*$E$97) -> 56.841532
A13: 8 | B13: Nau brigada / serveis / deixalleria | C13: Carrer Boters, s/n | D13: Les Roquetes | E13: 0 | F13: 1 | G13: 0 | I13: =(E13*$E$95)+(F13*$E$96)+(G13*$E$97) -> 85.262298
A14: 9 | B14: Magatzem neteja i jardineria | C14: Parc Pompeu Fabra, s/n | D14: Les Roquetes | E14: 0 | F14: 0 | G14: 1 | I14: =(E14*$E$95)+(F14*$E$96)+(G14*$E$97) -> 56.841532 | J14: =SUM(I6:I14) -> 767.36068
B16: BENESTAR SOCIAL 11100 231 21300
A17: 10 | B17: Casal avis Ribes | C17: Carrer Nou, 40-46 | D17: Ribes | E17: 0 | F17: 1 | G17: 0 | I17: =(E17*$E$95)+(F17*$E$96)+(G17*$E$97) -> 85.262298
A18: 11 | B18: Casal avis Roquetes | C18: Carrer Roger de Flor, 53 | D18: Les Roquetes | E18: 1 | F18: 0 | G18: 0 | I18: =(E18*$E$95)+(F18*$E$96)+(G18*$E$97) -> 170.5246
A19: 12 | B19: Centre de dia | C19: Carrer Roger de Flor, 53 | D19: Les Roquetes | E19: 1 | F19: 0 | G19: 0 | I19: =(E19*$E$95)+(F19*$E$96)+(G19*$E$97) -> 170.5246
A20: 13 | B20: Centre obert grup joves | C20: Carrer Gaudi, 1, local 11 | D20: Les Roquetes | E20: 0 | F20: 1 | G20: 0 | I20: =(E20*$E$95)+(F20*$E$96)+(G20*$E$97) -> 85.262298
A21: 14 | B21: Local Creu Roja | C21: Carrer Miquel Servet | D21: Les Roquetes | E21: 0 | F21: 1 | G21: 0 | I21: =(E21*$E$95)+(F21*$E$96)+(G21*$E$97) -> 85.262298
A22: 15 | B22: Banc d'aliments | C22: Plaça Vinya d'en Petaca, 2 local 1 | D22: Les Roquetes | E22: 0 | F22: 0 | G22: 1 | I22: =(E22*$E$95)+(F22*$E$96)+(G22*$E$97) -> 56.841532 | J22: =SUM(I17:I22) -> 653.67762
B24: PROMOCIÓ ECONÒMICA 35000 433 21300
A25: 16 | B25: Casa del terme | C25: Sota-ribes | D25: Ribes | E25: 0 | F25: 1 | G25: 0 | I25: =(E25*$E$95)+(F25*$E$96)+(G25*$E$97) -> 85.262298
A26: 17 | B26: Centre interpretació americanos | C26: Plaça de la Vila, 3 | D26: Ribes | E26: 0 | F26: 1 | G26: 0 | I26: =(E26*$E$95)+(F26*$E$96)+(G26*$E$97) -> 85.262298
A27: 18 | B27: Espai Cuina | C27: Carrer de Roger de Flor, 31 | D27: Ribes | E27: 0 | F27: 0 | G27: 0 | I27: =(E27*$E$95)+(F27*$E$96)+(G27*$E$97) -> 0
A28: 19 | B28: Espai empresa Roquetes | C28: Carrer Gaudi, 5 | D28: Les Roquetes | E28: 0 | F28: 1 | G28: 0 | I28: =(E28*$E$95)+(F28*$E$96)+(G28*$E$97) -> 85.262298 | J28: =SUM(I25:I28) -> 255.78689
B30: CULTURA BIBLIOTEQUES 12100 3321 21300
A31: 20 | B31: Biblioteca Manel de Pedrolo | C31: Plaça poeta Maria Mercè Marçal, 1 | D31: Ribes | E31: 0 | F31: 1 | G31: 0 | I31: =(E31*$E$95)+(F31*$E$96)+(G31*$E$97) -> 85.262298
A32: 21 | B32: Biblioteca Josep Pla | C32: Carrer Gaudi, 1 | D32: Les Roquetes | E32: 0 | F32: 1 | G32: 0 | I32: =(E32*$E$95)+(F32*$E$96)+(G32*$E$97) -> 85.262298 | J32: =SUM(I31:I32) -> 170.5246
B34: CULTURA EL LOCAL 12100 333 21300 Projecte 2021_02_0018
A35: 22 | B35: El Local | C35: Carrer Eduard Maristany | D35: Ribes | E35: 0 | F35: 1 | G35: 0 | I35: =(E35*$E$95)+(F35*$E$96)+(G35*$E$97) -> 85.262298 | J35: =SUM(I35) -> 85.262298
B37: CULTURA L'ESPAI 12100 333 21300 Projecte 2021_02_0017
A38: 23 | B38: Centre Civic L'espai | C38: Parc Pompeu Fabra, s/n | D38: Les Roquetes | E38: 1 | F38: 0 | G38: 0 | I38: =(E38*$E$95)+(F38*$E$96)+(G38*$E$97) -> 170.5246 | J38: =SUM(I38) -> 170.5246
B40: CULTURA LA BÒBILA 12100 333 21300 Projecte 2021_02_0015
A41: 24 | B41: Teatre La Bòbila | C41: Carrer Hernán Cortés, 14 | D41: Les Roquetes | E41: 0 | F41: 1 | G41: 0 | I41: =(E41*$E$95)+(F41*$E$96)+(G41*$E$97) -> 85.262298 | J41: =SUM(I41) -> 85.262298
B43: CULTURA PATRIMONI 12100 336 21300 Projecte 2021_02_0016
A44: 25 | B44: Museu del Castell | C44: Sota-ribes | D44: Ribes | E44: 0 | F44: 1 | G44: 0 | I44: =(E44*$E$95)+(F44*$E$96)+(G44*$E$97) -> 85.262298
A45: 26 | B45: Ermita Sant Pau | C45: Sant Pau | D45: Ribes | E45: 0 | F45: 1 | G45: 0 | I45: =(E45*$E$95)+(F45*$E$96)+(G45*$E$97) -> 85.262298 | J45: =SUM(I44:I45) -> 170.5246
B47: CULTURA ALTRES EQUIPAMENTS 12100 333 21300
A48: 27 | B48: Antic Escorxador | C48: Carrer Escorxador, 7 | D48: Ribes | E48: 0 | F48: 1 | G48: 0 | I48: =(E48*$E$95)+(F48*$E$96)+(G48*$E$97) -> 85.262298
A49: 28 | B49: Local de Cultura-Antic CAP | C49: Carrer Antoni Maria Claret, 3 baixos | D49: Ribes | E49: 0 | F49: 1 | G49: 0 | I49: =(E49*$E$95)+(F49*$E$96)+(G49*$E$97) -> 85.262298
A50: 29 | B50: Centre Puigmoltó | C50: Puigmoltó, 9 | D50: Ribes | E50: 0 | F50: 1 | G50: 0 | I50: =(E50*$E$95)+(F50*$E$96)+(G50*$E$97) -> 85.262298
A51: 30 | B51: Casa Andalusia / Penya / UCER | C51: Carrer Miquel Àngel, 24, locals | D51: Les Roquetes | E51: 0 | F51: 1 | G51: 0 | I51: =(E51*$E$95)+(F51*$E$96)+(G51*$E$97) -> 85.262298 | J51: =SUM(I48:I51) -> 341.04919
B53: JOVENTUT 12200 334 21300
A54: 31 | B54: Espai Jove | C54: Plaça Jaume Gomez i Puig, 4, local | D54: Ribes | E54: 0 | F54: 1 | G54: 0 | I54: =(E54*$E$95)+(F54*$E$96)+(G54*$E$97) -> 85.262298 | J54: =SUM(I54) -> 85.262298
B56: ESPORTS 13100 340 21300
A57: 32 | B57: Camp de futbol de Ribes | C57: Passeig Circumval·lació, s/n | D57: Ribes | E57: 0 | F57: 2 | G57: 0 | I57: =(E57*$E$95)+(F57*$E$96)+(G57*$E$97) -> 170.5246
A58: 33 | B58: Pistes camp de futbol de Ribes | C58: Passeig Circumval·lació, s/n | D58: Ribes | E58: 0 | F58: 1 | G58: 0 | I58: =(E58*$E$95)+(F58*$E$96)+(G58*$E$97) -> 85.262298
A59: 34 | B59: Bar pistes camp de futbol Ribes | C59: Passeig Circumval·lació, s/n | D59: Ribes | E59: 0 | F59: 1 | G59: 0 | I59: =(E59*$E$95)+(F59*$E$96)+(G59*$E$97) -> 85.262298
A60: 35 | B60: Pavelló de Ribes | C60: Carrer Cristofor Mestres, s/n | D60: Ribes | E60: 0 | F60: 2 | G60: 0 | I60: =(E60*$E$95)+(F60*$E$96)+(G60*$E$97) -> 170.5246
A61: 36 | B61: Pistes de tennis Ribes | C61: Carrer Blades, 3 (Can Macià) | D61: Ribes | E61: 0 | F61: 1 | G61: 0 | I61: =(E61*$E$95)+(F61*$E$96)+(G61*$E$97) -> 85.262298
A62: 37 | B62: Camp de futbol de Roquetes | C62: Carrer Puigmal, s/n | D62: Les Roquetes | E62: 0 | F62: 1 | G62: 0 | I62: =(E62*$E$95)+(F62*$E$96)+(G62*$E$97) -> 85.262298
A63: 38 | B63: Pavelló de Roquetes | C63: Passeig Manel Cid, s/n | D63: Les Roquetes | E63: 0 | F63: 1 | G63: 0 | I63: =(E63*$E$95)+(F63*$E$96)+(G63*$E$97) -> 85.262298
A64: 39 | B64: Piscines i tennis Roquetes | C64: Carrer Miguel Servet, s/n | D64: Les Roquetes | E64: 0 | F64: 1 | G64: 0 | I64: =(E64*$E$95)+(F64*$E$96)+(G64*$E$97) -> 85.262298
A65: 40 | B65: Pistes Sant Agustí | C65: Carrer Àngel Guimerà, 72 | D65: Les Roquetes | E65: 0 | F65: 0 | G65: 1 | I65: =(E65*$E$95)+(F65*$E$96)+(G65*$E$97) -> 56.841532
A66: 41 | B66: Piscina de Ribes (Espai Blau) | C66: Passeig de Circumvaŀlació, s/n, | D66: Ribes | E66: 0 | F66: 0 | G66: 0 | I66: =(E66*$E$95)+(F66*$E$96)+(G66*$E$97) -> 0
A67: 42 | B67: Pícnic | C67: Carrer Boters, Vilanoveta | D67: Les Roquetes | E67: 0 | F67: 1 | G67: 0 | I67: =(E67*$E$95)+(F67*$E$96)+(G67*$E$97) -> 85.262298 | J67: =SUM(I57:I67) -> 994.72681
B69: EDUCACIÓ 14100 320 21300
A70: 43 | B70: CEIP Els Costarets | C70: Carretera dels carç, 102 | D70: Ribes | E70: 1 | F70: 0 | G70: 0 | I70: =(E70*$E$95)+(F70*$E$96)+(G70*$E$97) -> 170.5246
A71: 44 | B71: CEIP La Riera | C71: Avinguda Onze de setembre, s/n | D71: Ribes | E71: 1 | F71: 0 | G71: 0 | I71: =(E71*$E$95)+(F71*$E$96)+(G71*$E$97) -> 170.5246
A72: 45 | B72: CEIP El Pi | C72: Carrer Ildefons Cerdà, 3 | D72: Ribes | E72: 1 | F72: 0 | G72: 0 | I72: =(E72*$E$95)+(F72*$E$96)+(G72*$E$97) -> 170.5246
A73: 46 | B73: CEIP Parellades | C73: Carrer Margarida Xirgu, 11 | D73: Ribes | E73: 1 | F73: 0 | G73: 0 | I73: =(E73*$E$95)+(F73*$E$96)+(G73*$E$97) -> 170.5246
A74: 47 | B74: Llar infants El Cargol | C74: Carretera del Carç, 100 | D74: Ribes | E74: 1 | F74: 0 | G74: 0 | I74: =(E74*$E$95)+(F74*$E$96)+(G74*$E$97) -> 170.5246
A75: 48 | B75: Llar infants l'Espígol | C75: Carrer Margarida Xirgu, s/n | D75: Ribes | E75: 1 | F75: 0 | G75: 0 | I75: =(E75*$E$95)+(F75*$E$96)+(G75*$E$97) -> 170.5246
A76: 49 | B76: CEIP Santa Eulàlia | C76: Carrer Puigmal, s/n | D76: Les Roquetes | E76: 1 | F76: 0 | G76: 0 | I76: =(E76*$E$95)+(F76*$E$96)+(G76*$E$97) -> 170.5246
A77: 50 | B77: CEIP Les Roquetes | C77: Carrer Miguel Servet, s/n | D77: Les Roquetes | E77: 1 | F77: 0 | G77: 0 | I77: =(E77*$E$95)+(F77*$E$96)+(G77*$E$97) -> 170.5246
A78: 51 | B78: CEIP Mediterrànea | C78: Ronda de la Masia Nova, 7 | D78: Les Roquetes | E78: 1 | F78: 0 | G78: 0 | I78: =(E78*$E$95)+(F78*$E$96)+(G78*$E$97) -> 170.5246
A79: 52 | B79: Llar infants Els tres pins | C79: Carrer Miquel Àngel, s/n | D79: Les Roquetes | E79: 1 | F79: 0 | G79: 0 | I79: =(E79*$E$95)+(F79*$E$96)+(G79*$E$97) -> 170.5246 | J79: =SUM(I70:I79) -> 1705.246
B81: EDIFICI PROGRAMA SEFED 34000 326 21300
A82: 53 | B82: SEFED Can Puig | C82: Carrer Major, 110 | D82: Ribes | E82: 0 | F82: 1 | G82: 0 | I82: =(E82*$E$95)+(F82*$E$96)+(G82*$E$97) -> 85.262298 | J82: =SUM(I82) -> 85.262298
B84: Departament de la Dona 12300 231 21300
A85: 54 | B85: Can Salvador Miret | C85: Carrer Nou, 40 | D85: Ribes | E85: 0 | F85: 1 | G85: 0 | I85: =(E85*$E$95)+(F85*$E$96)+(G85*$E$97) -> 85.262298 | J85: =SUM(I85) -> 85.262298
B87: Ocupació
A88: 55 | B88: Taller de perruqueria i estètica | C88: Plaça Vinya d'en Petaca,núm. 5 L6 | D88: Les Roquetes | E88: 0 | F88: 1 | G88: 0 | I88: =(E88*$E$95)+(F88*$E$96)+(G88*$E$97) -> 85.262298
A89: 56 | B89: Aulari Blanc | C89: Carrer Miguel Servet, s/n | D89: Les Roquetes | E89: 0 | F89: 1 | G89: 0 | I89: =(E89*$E$95)+(F89*$E$96)+(G89*$E$97) -> 85.262298 | J89: =SUM(I88:I89) -> 170.5246
B91: TOTAL INSTAL·LACIONS FONTANERIA EDIFICIS I EQUIPAMENTS MUNICIPALS | E91: =SUM(E6:E90) -> 15 | F91: =SUM(F6:F90) -> 35 | G91: =SUM(G6:G90) -> 5 | J91: =SUM(J6:J90) -> 5826.257
B94: PREUS UNITARIS ANUALS DELS COMPONENTS DE LA PRESTACIÓ P1 (sense IVA) | E94: € / ut licitació
A95: P13 | B95: Preu anual manteniment P1 instal·lació fontaneria tipus 1 | E95: 170.5246
A96: P14 | B96: Preu anual manteniment P1 instal·lació fontaneria tipus 2 | E96: 85.262298
A97: P15 | B97: Preu anual manteniment P1 instal·lació fontaneria tipus 3 | E97: 56.841532

Sheet Generadors
B2: Edifici / Equipament | C2: Adreça | D2: Nucli | E2: Anual grups electrògens | F2: Semestral grups electrògens | G2: Bianual grups electrògens | I2: Cost edifici | J2: Cost total
B5: EDIFICIS MUNICIPALS 32200 920 21300
A6: 1 | B6: Casa de la Vila | C6: Plaça de la Vila, 1 | D6: Ribes | E6: 1 | F6: 2 | G6: 2 | I6: =(E6*$E$95)+(F6*$E$96)+(G6*$E$97) -> 1175
A7: 2 | B7: Can Puig | C7: Carrer Major, 110 | D7: Ribes | E7: 0 | F7: 0 | G7: 0 | I7: =(E7*$E$95)+(F7*$E$96)+(G7*$E$97) -> 0
A8: 3 | B8: Jutjat de Pau | C8: Carrer Eduard Maristany, 14 | D8: Ribes | E8: 0 | F8: 0 | G8: 0 | I8: =(E8*$E$95)+(F8*$E$96)+(G8*$E$97) -> 0
A9: 4 | B9: Can Pau Roig | C9: Carrer de la torreta, 15 | D9: Ribes | E9: 0 | F9: 0 | G9: 0 | I9: =(E9*$E$95)+(F9*$E$96)+(G9*$E$97) -> 0
A10: 5 | B10: Antena informàtica i policia | C10: Montgròs | D10: Ribes | E10: 0 | F10: 0 | G10: 0 | I10: =(E10*$E$95)+(F10*$E$96)+(G10*$E$97) -> 0
A11: 6 | B11: Edifici Vinya d'en Petaca | C11: Plaça Vinya d'en Petaca, s/n | D11: Les Roquetes | E11: 0 | F11: 0 | G11: 0 | I11: =(E11*$E$95)+(F11*$E$96)+(G11*$E$97) -> 0
A12: 7 | B12: Local magatzem neteja viària | C12: Plaça Vinya d'en Petaca, local 7 | D12: Les Roquetes | E12: 0 | F12: 0 | G12: 0 | I12: =(E12*$E$95)+(F12*$E$96)+(G12*$E$97) -> 0
A13: 8 | B13: Nau brigada / serveis / deixalleria | C13: Carrer Boters, s/n | D13: Les Roquetes | E13: 0 | F13: 0 | G13: 0 | I13: =(E13*$E$95)+(F13*$E$96)+(G13*$E$97) -> 0
A14: 9 | B14: Magatzem neteja i jardineria | C14: Parc Pompeu Fabra, s/n | D14: Les Roquetes | E14: 0 | F14: 0 | G14: 0 | I14: =(E14*$E$95)+(F14*$E$96)+(G14*$E$97) -> 0 | J14: =SUM(I6:I14) -> 1175
B16: BENESTAR SOCIAL 11100 231 21300
A17: 10 | B17: Casal avis Ribes | C17: Carrer Nou, 40-46 | D17: Ribes | E17: 0 | F17: 0 | G17: 0 | I17: =(E17*$E$95)+(F17*$E$96)+(G17*$E$97) -> 0
A18: 11 | B18: Casal avis Roquetes | C18: Carrer Roger de Flor, 53 | D18: Les Roquetes | E18: 0 | F18: 0 | G18: 0 | I18: =(E18*$E$95)+(F18*$E$96)+(G18*$E$97) -> 0
A19: 12 | B19: Centre de dia | C19: Carrer Roger de Flor, 53 | D19: Les Roquetes | E19: 0 | F19: 0 | G19: 0 | I19: =(E19*$E$95)+(F19*$E$96)+(G19*$E$97) -> 0
A20: 13 | B20: Centre obert grup joves | C20: Carrer Gaudi, 1, local 11 | D20: Les Roquetes | E20: 0 | F20: 0 | G20: 0 | I20: =(E20*$E$95)+(F20*$E$96)+(G20*$E$97) -> 0
A21: 14 | B21: Local Creu Roja | C21: Carrer Miquel Servet | D21: Les Roquetes | E21: 0 | F21: 0 | G21: 0 | I21: =(E21*$E$95)+(F21*$E$96)+(G21*$E$97) -> 0
A22: 15 | B22: Banc d'aliments | C22: Plaça Vinya d'en Petaca, 2 local 1 | D22: Les Roquetes | E22: 0 | F22: 0 | G22: 0 | I22: =(E22*$E$95)+(F22*$E$96)+(G22*$E$97) -> 0 | J22: =SUM(I17:I22) -> 0
B24: PROMOCIÓ ECONÒMICA 35000 433 21300
A25: 16 | B25: Casa del terme | C25: Sota-ribes | D25: Ribes | E25: 0 | F25: 0 | G25: 0 | I25: =(E25*$E$95)+(F25*$E$96)+(G25*$E$97) -> 0
A26: 17 | B26: Centre interpretació americanos | C26: Plaça de la Vila, 3 | D26: Ribes | E26: 0 | F26: 0 | G26: 0 | I26: =(E26*$E$95)+(F26*$E$96)+(G26*$E$97) -> 0
A27: 18 | B27: Espai Cuina | C27: Carrer de Roger de Flor, 31 | D27: Ribes | E27: 0 | F27: 0 | G27: 0 | I27: =(E27*$E$95)+(F27*$E$96)+(G27*$E$97) -> 0
A28: 19 | B28: Espai empresa Roquetes | C28: Carrer Gaudi, 5 | D28: Les Roquetes | E28: 0 | F28: 0 | G28: 0 | I28: =(E28*$E$95)+(F28*$E$96)+(G28*$E$97) -> 0 | J28: =SUM(I25:I28) -> 0
B30: CULTURA BIBLIOTEQUES 12100 3321 21300
A31: 20 | B31: Biblioteca Manel de Pedrolo | C31: Plaça poeta Maria Mercè Marçal, 1 | D31: Ribes | E31: 0 | F31: 0 | G31: 0 | I31: =(E31*$E$95)+(F31*$E$96)+(G31*$E$97) -> 0
A32: 21 | B32: Biblioteca Josep Pla | C32: Carrer Gaudi, 1 | D32: Les Roquetes | E32: 0 | F32: 0 | G32: 0 | I32: =(E32*$E$95)+(F32*$E$96)+(G32*$E$97) -> 0 | J32: =SUM(I31:I32) -> 0
B34: CULTURA EL LOCAL 12100 333 21300 Projecte 2021_02_0018
A35: 22 | B35: El Local | C35: Carrer Eduard Maristany | D35: Ribes | E35: 0 | F35: 0 | G35: 0 | I35: =(E35*$E$95)+(F35*$E$96)+(G35*$E$97) -> 0 | J35: =SUM(I35) -> 0
B37: CULTURA L'ESPAI 12100 333 21300 Projecte 2021_02_0017
A38: 23 | B38: Centre Civic L'espai | C38: Parc Pompeu Fabra, s/n | D38: Les Roquetes | E38: 0 | F38: 0 | G38: 0 | I38: =(E38*$E$95)+(F38*$E$96)+(G38*$E$97) -> 0 | J38: =SUM(I38) -> 0
B40: CULTURA LA BÒBILA 12100 333 21300 Projecte 2021_02_0015
A41: 24 | B41: Teatre La Bòbila | C41: Carrer Hernán Cortés, 14 | D41: Les Roquetes | E41: 1 | F41: 2 | G41: 2 | I41: =(E41*$E$95)+(F41*$E$96)+(G41*$E$97) -> 1175 | J41: =SUM(I41) -> 1175
B43: CULTURA PATRIMONI 12100 336 21300 Projecte 2021_02_0016
A44: 25 | B44: Museu del Castell | C44: Sota-ribes | D44: Ribes | E44: 0 | F44: 0 | G44: 0 | I44: =(E44*$E$95)+(F44*$E$96)+(G44*$E$97) -> 0
A45: 26 | B45: Ermita Sant Pau | C45: Sant Pau | D45: Ribes | E45: 0 | F45: 0 | G45: 0 | I45: =(E45*$E$95)+(F45*$E$96)+(G45*$E$97) -> 0 | J45: =SUM(I44:I45) -> 0
B47: CULTURA ALTRES EQUIPAMENTS 12100 333 21300
A48: 27 | B48: Antic Escorxador | C48: Carrer Escorxador, 7 | D48: Ribes | E48: 0 | F48: 0 | G48: 0 | I48: =(E48*$E$95)+(F48*$E$96)+(G48*$E$97) -> 0
A49: 28 | B49: Local de Cultura-Antic CAP | C49: Carrer Antoni Maria Claret, 3 baixos | D49: Ribes | E49: 0 | F49: 0 | G49: 0 | I49: =(E49*$E$95)+(F49*$E$96)+(G49*$E$97) -> 0
A50: 29 | B50: Centre Puigmoltó | C50: Puigmoltó, 9 | D50: Ribes | E50: 0 | F50: 0 | G50: 0 | I50: =(E50*$E$95)+(F50*$E$96)+(G50*$E$97) -> 0
A51: 30 | B51: Casa Andalusia / Penya / UCER | C51: Carrer Miquel Àngel, 24, locals | D51: Les Roquetes | E51: 0 | F51: 0 | G51: 0 | I51: =(E51*$E$95)+(F51*$E$96)+(G51*$E$97) -> 0 | J51: =SUM(I48:I51) -> 0
B53: JOVENTUT 12200 334 21300
A54: 31 | B54: Espai Jove | C54: Plaça Jaume Gomez i Puig, 4, local | D54: Ribes | E54: 0 | F54: 0 | G54: 0 | I54: =(E54*$E$95)+(F54*$E$96)+(G54*$E$97) -> 0 | J54: =SUM(I54) -> 0
B56: ESPORTS 13100 340 21300
A57: 32 | B57: Camp de futbol de Ribes | C57: Passeig Circumval·lació, s/n | D57: Ribes | E57: 0 | F57: 0 | G57: 0 | I57: =(E57*$E$95)+(F57*$E$96)+(G57*$E$97) -> 0
A58: 33 | B58: Pistes camp de futbol de Ribes | C58: Passeig Circumval·lació, s/n | D58: Ribes | E58: 0 | F58: 0 | G58: 0 | I58: =(E58*$E$95)+(F58*$E$96)+(G58*$E$97) -> 0
A59: 34 | B59: Bar pistes camp de futbol Ribes | C59: Passeig Circumval·lació, s/n | D59: Ribes | E59: 0 | F59: 0 | G59: 0 | I59: =(E59*$E$95)+(F59*$E$96)+(G59*$E$97) -> 0
A60: 35 | B60: Pavelló de Ribes | C60: Carrer Cristofor Mestres, s/n | D60: Ribes | E60: 0 | F60: 0 | G60: 0 | I60: =(E60*$E$95)+(F60*$E$96)+(G60*$E$97) -> 0
A61: 36 | B61: Pistes de tennis Ribes | C61: Carrer Blades, 3 (Can Macià) | D61: Ribes | E61: 0 | F61: 0 | G61: 0 | I61: =(E61*$E$95)+(F61*$E$96)+(G61*$E$97) -> 0
A62: 37 | B62: Camp de futbol de Roquetes | C62: Carrer Puigmal, s/n | D62: Les Roquetes | E62: 0 | F62: 0 | G62: 0 | I62: =(E62*$E$95)+(F62*$E$96)+(G62*$E$97) -> 0
A63: 38 | B63: Pavelló de Roquetes | C63: Passeig Manel Cid, s/n | D63: Les Roquetes | E63: 0 | F63: 0 | G63: 0 | I63: =(E63*$E$95)+(F63*$E$96)+(G63*$E$97) -> 0
A64: 39 | B64: Piscines i tennis Roquetes | C64: Carrer Miguel Servet, s/n | D64: Les Roquetes | E64: 0 | F64: 0 | G64: 0 | I64: =(E64*$E$95)+(F64*$E$96)+(G64*$E$97) -> 0
A65: 40 | B65: Pistes Sant Agustí | C65: Carrer Àngel Guimerà, 72 | D65: Les Roquetes | E65: 0 | F65: 0 | G65: 0 | I65: =(E65*$E$95)+(F65*$E$96)+(G65*$E$97) -> 0
A66: 41 | B66: Piscina de Ribes (Espai Blau) | C66: Passeig de Circumvaŀlació, s/n, | D66: Ribes | E66: 0 | F66: 0 | G66: 0 | I66: =(E66*$E$95)+(F66*$E$96)+(G66*$E$97) -> 0
A67: 42 | B67: Pícnic | C67: Carrer Boters, Vilanoveta | D67: Les Roquetes | E67: 0 | F67: 0 | G67: 0 | I67: =(E67*$E$95)+(F67*$E$96)+(G67*$E$97) -> 0 | J67: =SUM(I57:I67) -> 0
B69: EDUCACIÓ 14100 320 21300
A70: 43 | B70: CEIP Els Costarets | C70: Carretera dels carç, 102 | D70: Ribes | E70: 0 | F70: 0 | G70: 0 | I70: =(E70*$E$95)+(F70*$E$96)+(G70*$E$97) -> 0
A71: 44 | B71: CEIP La Riera | C71: Avinguda Onze de setembre, s/n | D71: Ribes | E71: 0 | F71: 0 | G71: 0 | I71: =(E71*$E$95)+(F71*$E$96)+(G71*$E$97) -> 0
A72: 45 | B72: CEIP El Pi | C72: Carrer Ildefons Cerdà, 3 | D72: Ribes | E72: 0 | F72: 0 | G72: 0 | I72: =(E72*$E$95)+(F72*$E$96)+(G72*$E$97) -> 0
A73: 46 | B73: CEIP Parellades | C73: Carrer Margarida Xirgu, 11 | D73: Ribes | E73: 0 | F73: 0 | G73: 0 | I73: =(E73*$E$95)+(F73*$E$96)+(G73*$E$97) -> 0
A74: 47 | B74: Llar infants El Cargol | C74: Carretera del Carç, 100 | D74: Ribes | E74: 0 | F74: 0 | G74: 0 | I74: =(E74*$E$95)+(F74*$E$96)+(G74*$E$97) -> 0
A75: 48 | B75: Llar infants l'Espígol | C75: Carrer Margarida Xirgu, s/n | D75: Ribes | E75: 0 | F75: 0 | G75: 0 | I75: =(E75*$E$95)+(F75*$E$96)+(G75*$E$97) -> 0
A76: 49 | B76: CEIP Santa Eulàlia | C76: Carrer Puigmal, s/n | D76: Les Roquetes | E76: 0 | F76: 0 | G76: 0 | I76: =(E76*$E$95)+(F76*$E$96)+(G76*$E$97) -> 0
A77: 50 | B77: CEIP Les Roquetes | C77: Carrer Miguel Servet, s/n | D77: Les Roquetes | E77: 0 | F77: 0 | G77: 0 | I77: =(E77*$E$95)+(F77*$E$96)+(G77*$E$97) -> 0
A78: 51 | B78: CEIP Mediterrànea | C78: Ronda de la Masia Nova, 7 | D78: Les Roquetes | E78: 0 | F78: 0 | G78: 0 | I78: =(E78*$E$95)+(F78*$E$96)+(G78*$E$97) -> 0
A79: 52 | B79: Llar infants Els tres pins | C79: Carrer Miquel Àngel, s/n | D79: Les Roquetes | E79: 0 | F79: 0 | G79: 0 | I79: =(E79*$E$95)+(F79*$E$96)+(G79*$E$97) -> 0 | J79: =SUM(I70:I79) -> 0
B81: EDIFICI PROGRAMA SEFED 34000 326 21300
A82: 53 | B82: SEFED Can Puig | C82: Carrer Major, 110 | D82: Ribes | E82: 0 | F82: 0 | G82: 0 | I82: =(E82*$E$95)+(F82*$E$96)+(G82*$E$97) -> 0 | J82: =SUM(I82) -> 0
B84: Departament de la Dona 12300 231 21300
A85: 54 | B85: Can Salvador Miret | C85: Carrer Nou, 40 | D85: Ribes | E85: 0 | F85: 0 | G85: 0 | I85: =(E85*$E$95)+(F85*$E$96)+(G85*$E$97) -> 0 | J85: =SUM(I85) -> 0
B87: Ocupació
A88: 55 | B88: Taller de perruqueria i estètica | C88: Plaça Vinya d'en Petaca,núm. 5 L6 | D88: Les Roquetes | E88: 0 | F88: 0 | G88: 0 | I88: =(E88*$E$95)+(F88*$E$96)+(G88*$E$97) -> 0
A89: 56 | B89: Aulari Blanc | C89: Carrer Miguel Servet, s/n | D89: Les Roquetes | E89: 0 | F89: 0 | G89: 0 | I89: =(E89*$E$95)+(F89*$E$96)+(G89*$E$97) -> 0 | J89: =SUM(I88:I89) -> 0
B91: TOTAL INSTAL·LACIONS GRUPS ELECTRÒGENS EDIFICIS I EQUIPAMENTS MUNICIPALS | E91: =SUM(E6:E90) -> 2 | F91: =SUM(F6:F90) -> 4 | G91: =SUM(G6:G90) -> 4 | J91: =SUM(J6:J90) -> 2350
B94: PREUS UNITARIS ANUALS DELS COMPONENTS DE LA PRESTACIÓ P1 (sense IVA) | E94: € / ut licitació
A95: P16 | B95: Preu manteniment anual grups electrògens | E95: 375
A96: P17 | B96: Preu manteniment anual grups electrògens | E96: 205
A97: P18 | B97: Preu manteniment anual grups electrògens | E97: 195

Sheet Biomassa
B2: Edifici / Equipament | C2: Adreça | D2: Nucli | E2: Biomassa | G2: Cost edifici | H2: Cost total
E3: Electricitat > 50
B5: EDIFICIS MUNICIPALS 32200 920 21300
A6: 1 | B6: Casa de la Vila | C6: Plaça de la Vila, 1 | D6: Ribes | E6: 0 | G6: =(E6*$E$95) -> 0
A7: 2 | B7: Can Puig | C7: Carrer Major, 110 | D7: Ribes | E7: 0 | G7: =(E7*$E$95) -> 0
A8: 3 | B8: Jutjat de Pau | C8: Carrer Eduard Maristany, 14 | D8: Ribes | E8: 0 | G8: =(E8*$E$95) -> 0
A9: 4 | B9: Can Pau Roig | C9: Carrer de la torreta, 15 | D9: Ribes | E9: 0 | G9: =(E9*$E$95) -> 0
A10: 5 | B10: Antena informàtica i policia | C10: Montgròs | D10: Ribes | E10: 0 | G10: =(E10*$E$95) -> 0
A11: 6 | B11: Edifici Vinya d'en Petaca | C11: Plaça Vinya d'en Petaca, s/n | D11: Les Roquetes | E11: 0 | G11: =(E11*$E$95) -> 0
A12: 7 | B12: Local magatzem neteja viària | C12: Plaça Vinya d'en Petaca, local 7 | D12: Les Roquetes | E12: 0 | G12: =(E12*$E$95) -> 0
A13: 8 | B13: Nau brigada / serveis / deixalleria | C13: Carrer Boters, s/n | D13: Les Roquetes | E13: 0 | G13: =(E13*$E$95) -> 0
A14: 9 | B14: Magatzem neteja i jardineria | C14: Parc Pompeu Fabra, s/n | D14: Les Roquetes | E14: 0 | G14: =(E14*$E$95) -> 0 | H14: =SUM(G6:G14) -> 0
B16: BENESTAR SOCIAL 11100 231 21300
A17: 10 | B17: Casal avis Ribes | C17: Carrer Nou, 40-46 | D17: Ribes | E17: 0 | G17: =(E17*$E$95) -> 0
A18: 11 | B18: Casal avis Roquetes | C18: Carrer Roger de Flor, 53 | D18: Les Roquetes | E18: 0 | G18: =(E18*$E$95) -> 0
A19: 12 | B19: Centre de dia | C19: Carrer Roger de Flor, 53 | D19: Les Roquetes | E19: 0 | G19: =(E19*$E$95) -> 0
A20: 13 | B20: Centre obert grup joves | C20: Carrer Gaudi, 1, local 11 | D20: Les Roquetes | E20: 0 | G20: =(E20*$E$95) -> 0
A21: 14 | B21: Local Creu Roja | C21: Carrer Miquel Servet | D21: Les Roquetes | E21: 0 | G21: =(E21*$E$95) -> 0
A22: 15 | B22: Banc d'aliments | C22: Plaça Vinya d'en Petaca, 2 local 1 | D22: Les Roquetes | E22: 0 | G22: =(E22*$E$95) -> 0 | H22: =SUM(G17:G22) -> 0
B24: PROMOCIÓ ECONÒMICA 35000 433 21300
A25: 16 | B25: Casa del terme | C25: Sota-ribes | D25: Ribes | E25: 0 | G25: =(E25*$E$95) -> 0
A26: 17 | B26: Centre interpretació americanos | C26: Plaça de la Vila, 3 | D26: Ribes | E26: 0 | G26: =(E26*$E$95) -> 0
A27: 18 | B27: Espai Cuina | C27: Carrer de Roger de Flor, 31 | D27: Ribes | E27: 0 | G27: =(E27*$E$95) -> 0
A28: 19 | B28: Espai empresa Roquetes | C28: Carrer Gaudi, 5 | D28: Les Roquetes | E28: 0 | G28: =(E28*$E$95) -> 0 | H28: =SUM(G25:G28) -> 0
B30: CULTURA BIBLIOTEQUES 12100 3321 21300
A31: 20 | B31: Biblioteca Manel de Pedrolo | C31: Plaça poeta Maria Mercè Marçal, 1 | D31: Ribes | E31: 0 | G31: =(E31*$E$95) -> 0
A32: 21 | B32: Biblioteca Josep Pla | C32: Carrer Gaudi, 1 | D32: Les Roquetes | E32: 0 | G32: =(E32*$E$95) -> 0 | H32: =SUM(G31:G32) -> 0
B34: CULTURA EL LOCAL 12100 333 21300 Projecte 2021_02_0018
A35: 22 | B35: El Local | C35: Carrer Eduard Maristany | D35: Ribes | E35: 0 | G35: =(E35*$E$95) -> 0 | H35: =SUM(G35) -> 0
G36: =(E36*$E$95) -> 0
B37: CULTURA L'ESPAI 12100 333 21300 Projecte 2021_02_0017 | G37: =(E37*$E$95) -> 0
A38: 23 | B38: Centre Civic L'espai | C38: Parc Pompeu Fabra, s/n | D38: Les Roquetes | E38: 0 | G38: =(E38*$E$95) -> 0 | H38: =SUM(G38) -> 0
B40: CULTURA LA BÒBILA 12100 333 21300 Projecte 2021_02_0015
A41: 24 | B41: Teatre La Bòbila | C41: Carrer Hernán Cortés, 14 | D41: Les Roquetes | E41: 0 | G41: =(E41*$E$95) -> 0 | H41: =SUM(G41) -> 0
B43: CULTURA PATRIMONI 12100 336 21300 Projecte 2021_02_0016
A44: 25 | B44: Museu del Castell | C44: Sota-ribes | D44: Ribes | E44: 0 | G44: =(E44*$E$95) -> 0
A45: 26 | B45: Ermita Sant Pau | C45: Sant Pau | D45: Ribes | E45: 0 | G45: =(E45*$E$95) -> 0 | H45: =SUM(G44:G45) -> 0
B47: CULTURA ALTRES EQUIPAMENTS 12100 333 21300
A48: 27 | B48: Antic Escorxador | C48: Carrer Escorxador, 7 | D48: Ribes | E48: 0 | G48: =(E48*$E$95) -> 0
A49: 28 | B49: Local de Cultura-Antic CAP | C49: Carrer Antoni Maria Claret, 3 baixos | D49: Ribes | E49: 0 | G49: =(E49*$E$95) -> 0
A50: 29 | B50: Centre Puigmoltó | C50: Puigmoltó, 9 | D50: Ribes | E50: 0 | G50: =(E50*$E$95) -> 0
A51: 30 | B51: Casa Andalusia / Penya / UCER | C51: Carrer Miquel Àngel, 24, locals | D51: Les Roquetes | E51: 0 | G51: =(E51*$E$95) -> 0 | H51: =SUM(G48:G51) -> 0
B53: JOVENTUT 12200 334 21300
A54: 31 | B54: Espai Jove | C54: Plaça Jaume Gomez i Puig, 4, local | D54: Ribes | E54: 0 | G54: =(E54*$E$95) -> 0 | H54: =SUM(G54) -> 0
B56: ESPORTS 13100 340 21300
A57: 32 | B57: Camp de futbol de Ribes | C57: Passeig Circumval·lació, s/n | D57: Ribes | E57: 0 | G57: =(E57*$E$95) -> 0
A58: 33 | B58: Pistes camp de futbol de Ribes | C58: Passeig Circumval·lació, s/n | D58: Ribes | E58: 0 | G58: =(E58*$E$95) -> 0
A59: 34 | B59: Bar pistes camp de futbol Ribes | C59: Passeig Circumval·lació, s/n | D59: Ribes | E59: 0 | G59: =(E59*$E$95) -> 0
A60: 35 | B60: Pavelló de Ribes | C60: Carrer Cristofor Mestres, s/n | D60: Ribes | E60: 0 | G60: =(E60*$E$95) -> 0
A61: 36 | B61: Pistes de tennis Ribes | C61: Carrer Blades, 3 (Can Macià) | D61: Ribes | E61: 0 | G61: =(E61*$E$95) -> 0
A62: 37 | B62: Camp de futbol de Roquetes | C62: Carrer Puigmal, s/n | D62: Les Roquetes | E62: 0 | G62: =(E62*$E$95) -> 0
A63: 38 | B63: Pavelló de Roquetes | C63: Passeig Manel Cid, s/n | D63: Les Roquetes | E63: 0 | G63: =(E63*$E$95) -> 0
A64: 39 | B64: Piscines i tennis Roquetes | C64: Carrer Miguel Servet, s/n | D64: Les Roquetes | E64: 0 | G64: =(E64*$E$95) -> 0
A65: 40 | B65: Pistes Sant Agustí | C65: Carrer Àngel Guimerà, 72 | D65: Les Roquetes | E65: 0 | G65: =(E65*$E$95) -> 0
A66: 41 | B66: Piscina de Ribes (Espai Blau) | C66: Passeig de Circumvaŀlació, s/n, | D66: Ribes | E66: 0
A67: 42 | B67: Pícnic | C67: Carrer Boters, Vilanoveta | D67: Les Roquetes | E67: 0 | G67: =(E67*$E$95) -> 0 | H67: =SUM(G57:G67) -> 0
B69: EDUCACIÓ 14100 320 21300
A70: 43 | B70: CEIP Els Costarets | C70: Carretera dels carç, 102 | D70: Ribes | E70: 0 | G70: =(E70*$E$95) -> 0
A71: 44 | B71: CEIP La Riera | C71: Avinguda Onze de setembre, s/n | D71: Ribes | E71: 0 | G71: =(E71*$E$95) -> 0
A72: 45 | B72: CEIP El Pi | C72: Carrer Ildefons Cerdà, 3 | D72: Ribes | E72: 0 | G72: =(E72*$E$95) -> 0
A73: 46 | B73: CEIP Parellades | C73: Carrer Margarida Xirgu, 11 | D73: Ribes | E73: 0 | G73: =(E73*$E$95) -> 0
A74: 47 | B74: Llar infants El Cargol | C74: Carretera del Carç, 100 | D74: Ribes | E74: 0 | G74: =(E74*$E$95) -> 0
A75: 48 | B75: Llar infants l'Espígol | C75: Carrer Margarida Xirgu, s/n | D75: Ribes | E75: 0 | G75: =(E75*$E$95) -> 0
A76: 49 | B76: CEIP Santa Eulàlia | C76: Carrer Puigmal, s/n | D76: Les Roquetes | E76: 0.33333333 | G76: =(E76*$E$95) -> 2673.58
A77: 50 | B77: CEIP Les Roquetes | C77: Carrer Miguel Servet, s/n | D77: Les Roquetes | E77: 0.33333333 | G77: =(E77*$E$95) -> 2673.58
A78: 51 | B78: CEIP Mediterrànea | C78: Ronda de la Masia Nova, 7 | D78: Les Roquetes | E78: 0 | G78: =(E78*$E$95) -> 0
A79: 52 | B79: Llar infants Els tres pins | C79: Carrer Miquel Àngel, s/n | D79: Les Roquetes | E79: 0 | G79: =(E79*$E$95) -> 0 | H79: =SUM(G70:G79) -> 5347.16
B81: EDIFICI PROGRAMA SEFED 34000 326 21300
A82: 53 | B82: SEFED Can Puig | C82: Carrer Major, 110 | D82: Ribes | E82: 0 | G82: =(E82*$E$95) -> 0 | H82: =SUM(G82) -> 0
B84: Departament de la Dona 12300 231 21300
A85: 54 | B85: Can Salvador Miret | C85: Carrer Nou, 40 | D85: Ribes | E85: 0 | G85: =(E85*$E$95) -> 0 | H85: =SUM(G85) -> 0
B87: Ocupació
A88: 55 | B88: Taller de perruqueria i estètica | C88: Plaça Vinya d'en Petaca,núm. 5 L6 | D88: Les Roquetes | E88: 0 | G88: =(E88*$E$95) -> 0
A89: 56 | B89: Aulari Blanc | C89: Carrer Miguel Servet, s/n | D89: Les Roquetes | E89: 0.33333333 | G89: =(E89*$E$95) -> 2673.58 | H89: =SUM(G88:G89) -> 2673.58
B91: TOTAL INSTAL·LACIONS BIOMASSA EDIFICIS I EQUIPAMENTS MUNICIPALS | E91: =SUM(E6:E90) -> 1 | H91: =SUM(H6:H90) -> 8020.74
B94: PREUS UNITARIS ANUALS DELS COMPONENTS DE LA PRESTACIÓ P1 (sense IVA) | E94: € / ut licitació
A95: P20 | B95: Instal.lació biomassa centres educatius Roquetes (totes les instal.lacions) | E95: 8020.74

Sheet Ascensors
B2: Edifici / Equipament | C2: Adreça | D2: Nucli | E2: ASCENSOR | F2: MUNTACÀRREGUES | G2: PORTA AUTOMÀTICA | H2: MUNTAPLATS | J2: Cost edifici | K2: Cost total
B5: EDIFICIS MUNICIPALS 32200 920 21300
A6: 1 | B6: Casa de la Vila | C6: Plaça de la Vila, 1 | D6: Ribes | E6: 1 | F6: 0 | G6: 2 | H6: 0 | J6: =(E6*$E$95)+(F6*$E$96)+(G6*$E$97)+(H6*$E$98) -> 1970
A7: 2 | B7: Can Puig | C7: Carrer Major, 110 | D7: Ribes | E7: 1 | F7: 0 | G7: 2 | H7: 0 | J7: =(E7*$E$95)+(F7*$E$96)+(G7*$E$97)+(H7*$E$98) -> 1970
A8: 3 | B8: Jutjat de Pau | C8: Carrer Eduard Maristany, 14 | D8: Ribes | E8: 0 | F8: 0 | G8: 0 | H8: 0 | J8: =(E8*$E$95)+(F8*$E$96)+(G8*$E$97)+(H8*$E$98) -> 0
A9: 4 | B9: Can Pau Roig | C9: Carrer de la torreta, 15 | D9: Ribes | E9: 0 | F9: 0 | G9: 0 | H9: 0 | J9: =(E9*$E$95)+(F9*$E$96)+(G9*$E$97)+(H9*$E$98) -> 0
A10: 5 | B10: Antena informàtica i policia | C10: Montgròs | D10: Ribes | E10: 0 | F10: 0 | G10: 0 | H10: 0 | J10: =(E10*$E$95)+(F10*$E$96)+(G10*$E$97)+(H10*$E$98) -> 0
A11: 6 | B11: Edifici Vinya d'en Petaca | C11: Plaça Vinya d'en Petaca, s/n | D11: Les Roquetes | E11: 1 | F11: 0 | G11: 0 | H11: 0 | J11: =(E11*$E$95)+(F11*$E$96)+(G11*$E$97)+(H11*$E$98) -> 870
A12: 7 | B12: Local magatzem neteja viària | C12: Plaça Vinya d'en Petaca, local 7 | D12: Les Roquetes | E12: 0 | F12: 0 | G12: 0 | H12: 0 | J12: =(E12*$E$95)+(F12*$E$96)+(G12*$E$97)+(H12*$E$98) -> 0
A13: 8 | B13: Nau brigada / serveis / deixalleria | C13: Carrer Boters, s/n | D13: Les Roquetes | E13: 0 | F13: 0 | G13: 0 | H13: 0 | J13: =(E13*$E$95)+(F13*$E$96)+(G13*$E$97)+(H13*$E$98) -> 0
A14: 9 | B14: Magatzem neteja i jardineria | C14: Parc Pompeu Fabra, s/n | D14: Les Roquetes | E14: 0 | F14: 0 | G14: 0 | H14: 0 | J14: =(E14*$E$95)+(F14*$E$96)+(G14*$E$97)+(H14*$E$98) -> 0 | K14: =SUM(J6:J14) -> 4810
B16: BENESTAR SOCIAL 11100 231 21300
A17: 10 | B17: Casal avis Ribes | C17: Carrer Nou, 40-46 | D17: Ribes | E17: 1 | F17: 0 | G17: 0 | H17: 0 | J17: =(E17*$E$95)+(F17*$E$96)+(G17*$E$97)+(H17*$E$98) -> 870
A18: 11 | B18: Casal avis Roquetes | C18: Carrer Roger de Flor, 53 | D18: Les Roquetes | E18: 0 | F18: 0 | G18: 0 | H18: 0 | J18: =(E18*$E$95)+(F18*$E$96)+(G18*$E$97)+(H18*$E$98) -> 0
A19: 12 | B19: Centre de dia | C19: Carrer Roger de Flor, 53 | D19: Les Roquetes | E19: 0 | F19: 0 | G19: 0 | H19: 0 | J19: =(E19*$E$95)+(F19*$E$96)+(G19*$E$97)+(H19*$E$98) -> 0
A20: 13 | B20: Centre obert grup joves | C20: Carrer Gaudi, 1, local 11 | D20: Les Roquetes | E20: 0 | F20: 0 | G20: 0 | H20: 0 | J20: =(E20*$E$95)+(F20*$E$96)+(G20*$E$97)+(H20*$E$98) -> 0
A21: 14 | B21: Local Creu Roja | C21: Carrer Miquel Servet | D21: Les Roquetes | E21: 0 | F21: 0 | G21: 0 | H21: 0 | J21: =(E21*$E$95)+(F21*$E$96)+(G21*$E$97)+(H21*$E$98) -> 0
A22: 15 | B22: Banc d'aliments | C22: Plaça Vinya d'en Petaca, 2 local 1 | D22: Les Roquetes | E22: 0 | F22: 1 | G22: 0 | H22: 0 | J22: =(E22*$E$95)+(F22*$E$96)+(G22*$E$97)+(H22*$E$98) -> 600 | K22: =SUM(J17:J22) -> 1470
B24: PROMOCIÓ ECONÒMICA 35000 433 21300
A25: 16 | B25: Casa del terme | C25: Sota-ribes | D25: Ribes | E25: 0 | F25: 0 | G25: 0 | H25: 0 | J25: =(E25*$E$95)+(F25*$E$96)+(G25*$E$97)+(H25*$E$98) -> 0
A26: 17 | B26: Centre interpretació americanos | C26: Plaça de la Vila, 3 | D26: Ribes | E26: 0 | F26: 0 | G26: 1 | H26: 0 | J26: =(E26*$E$95)+(F26*$E$96)+(G26*$E$97)+(H26*$E$98) -> 550
A27: 18 | B27: Espai Cuina | C27: Carrer de Roger de Flor, 31 | D27: Ribes | E27: 0 | F27: 0 | G27: 0 | H27: 0 | J27: =(E27*$E$95)+(F27*$E$96)+(G27*$E$97)+(H27*$E$98) -> 0
A28: 19 | B28: Espai empresa Roquetes | C28: Carrer Gaudi, 5 | D28: Les Roquetes | E28: 0 | F28: 0 | G28: 0 | H28: 0 | J28: =(E28*$E$95)+(F28*$E$96)+(G28*$E$97)+(H28*$E$98) -> 0 | K28: =SUM(J25:J28) -> 550
B30: CULTURA BIBLIOTEQUES 12100 3321 21300
A31: 20 | B31: Biblioteca Manel de Pedrolo | C31: Plaça poeta Maria Mercè Marçal, 1 | D31: Ribes | E31: 1 | F31: 0 | G31: 0 | H31: 0 | J31: =(E31*$E$95)+(F31*$E$96)+(G31*$E$97)+(H31*$E$98) -> 870
A32: 21 | B32: Biblioteca Josep Pla | C32: Carrer Gaudi, 1 | D32: Les Roquetes | E32: 1 | F32: 0 | G32: 1 | H32: 0 | J32: =(E32*$E$95)+(F32*$E$96)+(G32*$E$97)+(H32*$E$98) -> 1420 | K32: =SUM(J31:J32) -> 2290
B34: CULTURA EL LOCAL 12100 333 21300 Projecte 2021_02_0018
A35: 22 | B35: El Local | C35: Carrer Eduard Maristany | D35: Ribes | E35: 1 | F35: 0 | G35: 0 | H35: 0 | J35: =(E35*$E$95)+(F35*$E$96)+(G35*$E$97)+(H35*$E$98) -> 870 | K35: =SUM(J35) -> 870
B37: CULTURA L'ESPAI 12100 333 21300 Projecte 2021_02_0017
A38: 23 | B38: Centre Civic L'espai | C38: Parc Pompeu Fabra, s/n | D38: Les Roquetes | E38: 0 | F38: 0 | G38: 1 | H38: 0 | J38: =(E38*$E$95)+(F38*$E$96)+(G38*$E$97)+(H38*$E$98) -> 550 | K38: =SUM(J38) -> 550
B40: CULTURA LA BÒBILA 12100 333 21300 Projecte 2021_02_0015
A41: 24 | B41: Teatre La Bòbila | C41: Carrer Hernán Cortés, 14 | D41: Les Roquetes | E41: 1 | F41: 0 | G41: 0 | H41: 0 | J41: =(E41*$E$95)+(F41*$E$96)+(G41*$E$97)+(H41*$E$98) -> 870 | K41: =SUM(J41) -> 870
B43: CULTURA PATRIMONI 12100 336 21300 Projecte 2021_02_0016
A44: 25 | B44: Museu del Castell | C44: Sota-ribes | D44: Ribes | E44: 0 | F44: 0 | G44: 0 | H44: 0 | J44: =(E44*$E$95)+(F44*$E$96)+(G44*$E$97)+(H44*$E$98) -> 0
A45: 26 | B45: Ermita Sant Pau | C45: Sant Pau | D45: Ribes | E45: 0 | F45: 0 | G45: 0 | H45: 0 | J45: =(E45*$E$95)+(F45*$E$96)+(G45*$E$97)+(H45*$E$98) -> 0 | K45: =SUM(J44:J45) -> 0
B47: CULTURA ALTRES EQUIPAMENTS 12100 333 21300
A48: 27 | B48: Antic Escorxador | C48: Carrer Escorxador, 7 | D48: Ribes | E48: 0 | F48: 0 | G48: 0 | H48: 0 | J48: =(E48*$E$95)+(F48*$E$96)+(G48*$E$97)+(H48*$E$98) -> 0
A49: 28 | B49: Local de Cultura-Antic CAP | C49: Carrer Antoni Maria Claret, 3 baixos | D49: Ribes | E49: 0 | F49: 0 | G49: 0 | H49: 0 | J49: =(E49*$E$95)+(F49*$E$96)+(G49*$E$97)+(H49*$E$98) -> 0
A50: 29 | B50: Centre Puigmoltó | C50: Puigmoltó, 9 | D50: Ribes | E50: 0 | F50: 0 | G50: 0 | H50: 0 | J50: =(E50*$E$95)+(F50*$E$96)+(G50*$E$97)+(H50*$E$98) -> 0
A51: 30 | B51: Casa Andalusia / Penya / UCER | C51: Carrer Miquel Àngel, 24, locals | D51: Les Roquetes | E51: 0 | F51: 0 | G51: 0 | H51: 0 | J51: =(E51*$E$95)+(F51*$E$96)+(G51*$E$97)+(H51*$E$98) -> 0 | K51: =SUM(J48:J51) -> 0
B53: JOVENTUT 12200 334 21300
A54: 31 | B54: Espai Jove | C54: Plaça Jaume Gomez i Puig, 4, local | D54: Ribes | E54: 0 | F54: 0 | G54: 0 | H54: 0 | J54: =(E54*$E$95)+(F54*$E$96)+(G54*$E$97)+(H54*$E$98) -> 0 | K54: =SUM(J54) -> 0
B56: ESPORTS 13100 340 21300
A57: 32 | B57: Camp de futbol de Ribes | C57: Passeig Circumval·lació, s/n | D57: Ribes | E57: 0 | F57: 0 | G57: 0 | H57: 0 | J57: =(E57*$E$95)+(F57*$E$96)+(G57*$E$97)+(H57*$E$98) -> 0
A58: 33 | B58: Pistes camp de futbol de Ribes | C58: Passeig Circumval·lació, s/n | D58: Ribes | E58: 0 | F58: 0 | G58: 0 | H58: 0 | J58: =(E58*$E$95)+(F58*$E$96)+(G58*$E$97)+(H58*$E$98) -> 0
A59: 34 | B59: Bar pistes camp de futbol Ribes | C59: Passeig Circumval·lació, s/n | D59: Ribes | E59: 0 | F59: 0 | G59: 0 | H59: 0 | J59: =(E59*$E$95)+(F59*$E$96)+(G59*$E$97)+(H59*$E$98) -> 0
A60: 35 | B60: Pavelló de Ribes | C60: Carrer Cristofor Mestres, s/n | D60: Ribes | E60: 0 | F60: 0 | G60: 0 | H60: 0 | J60: =(E60*$E$95)+(F60*$E$96)+(G60*$E$97)+(H60*$E$98) -> 0
A61: 36 | B61: Pistes de tennis Ribes | C61: Carrer Blades, 3 (Can Macià) | D61: Ribes | E61: 0 | F61: 0 | G61: 0 | H61: 0 | J61: =(E61*$E$95)+(F61*$E$96)+(G61*$E$97)+(H61*$E$98) -> 0
A62: 37 | B62: Camp de futbol de Roquetes | C62: Carrer Puigmal, s/n | D62: Les Roquetes | E62: 0 | F62: 0 | G62: 0 | H62: 0 | J62: =(E62*$E$95)+(F62*$E$96)+(G62*$E$97)+(H62*$E$98) -> 0
A63: 38 | B63: Pavelló de Roquetes | C63: Passeig Manel Cid, s/n | D63: Les Roquetes | E63: 0 | F63: 0 | G63: 0 | H63: 0 | J63: =(E63*$E$95)+(F63*$E$96)+(G63*$E$97)+(H63*$E$98) -> 0
A64: 39 | B64: Piscines i tennis Roquetes | C64: Carrer Miguel Servet, s/n | D64: Les Roquetes | E64: 0 | F64: 0 | G64: 0 | H64: 0 | J64: =(E64*$E$95)+(F64*$E$96)+(G64*$E$97)+(H64*$E$98) -> 0
A65: 40 | B65: Pistes Sant Agustí | C65: Carrer Àngel Guimerà, 72 | D65: Les Roquetes | E65: 0 | F65: 0 | G65: 0 | H65: 0 | J65: =(E65*$E$95)+(F65*$E$96)+(G65*$E$97)+(H65*$E$98) -> 0
A66: 41 | B66: Piscina de Ribes (Espai Blau) | C66: Passeig de Circumvaŀlació, s/n, | D66: Ribes | E66: 0 | F66: 0 | G66: 0 | H66: 0 | J66: =(E66*$E$95)+(F66*$E$96)+(G66*$E$97)+(H66*$E$98) -> 0
A67: 42 | B67: Pícnic | C67: Carrer Boters, Vilanoveta | D67: Les Roquetes | E67: 0 | F67: 0 | G67: 0 | H67: 0 | J67: =(E67*$E$95)+(F67*$E$96)+(G67*$E$97)+(H67*$E$98) -> 0 | K67: =SUM(J57:J67) -> 0
B69: EDUCACIÓ 14100 320 21300
A70: 43 | B70: CEIP Els Costarets | C70: Carretera dels carç, 102 | D70: Ribes | E70: 1 | F70: 0 | G70: 0 | H70: 0 | J70: =(E70*$E$95)+(F70*$E$96)+(G70*$E$97)+(H70*$E$98) -> 870
A71: 44 | B71: CEIP La Riera | C71: Avinguda Onze de setembre, s/n | D71: Ribes | E71: 1 | F71: 0 | G71: 0 | H71: 0 | J71: =(E71*$E$95)+(F71*$E$96)+(G71*$E$97)+(H71*$E$98) -> 870
A72: 45 | B72: CEIP El Pi | C72: Carrer Ildefons Cerdà, 3 | D72: Ribes | E72: 1 | F72: 0 | G72: 0 | H72: 0 | J72: =(E72*$E$95)+(F72*$E$96)+(G72*$E$97)+(H72*$E$98) -> 870
A73: 46 | B73: CEIP Parellades | C73: Carrer Margarida Xirgu, 11 | D73: Ribes | E73: 0 | F73: 0 | G73: 0 | H73: 0 | J73: =(E73*$E$95)+(F73*$E$96)+(G73*$E$97)+(H73*$E$98) -> 0
A74: 47 | B74: Llar infants El Cargol | C74: Carretera del Carç, 100 | D74: Ribes | E74: 0 | F74: 0 | G74: 0 | H74: 0 | J74: =(E74*$E$95)+(F74*$E$96)+(G74*$E$97)+(H74*$E$98) -> 0
A75: 48 | B75: Llar infants l'Espígol | C75: Carrer Margarida Xirgu, s/n | D75: Ribes | E75: 0 | F75: 0 | G75: 0 | H75: 0 | J75: =(E75*$E$95)+(F75*$E$96)+(G75*$E$97)+(H75*$E$98) -> 0
A76: 49 | B76: CEIP Santa Eulàlia | C76: Carrer Puigmal, s/n | D76: Les Roquetes | E76: 1 | F76: 0 | G76: 0 | H76: 0 | J76: =(E76*$E$95)+(F76*$E$96)+(G76*$E$97)+(H76*$E$98) -> 870
A77: 50 | B77: CEIP Les Roquetes | C77: Carrer Miguel Servet, s/n | D77: Les Roquetes | E77: 1 | F77: 0 | G77: 0 | H77: 1 | J77: =(E77*$E$95)+(F77*$E$96)+(G77*$E$97)+(H77*$E$98) -> 1420
A78: 51 | B78: CEIP Mediterrànea | C78: Ronda de la Masia Nova, 7 | D78: Les Roquetes | E78: 0 | F78: 0 | G78: 0 | H78: 0 | J78: =(E78*$E$95)+(F78*$E$96)+(G78*$E$97)+(H78*$E$98) -> 0
A79: 52 | B79: Llar infants Els tres pins | C79: Carrer Miquel Àngel, s/n | D79: Les Roquetes | E79: 0 | F79: 0 | G79: 0 | H79: 0 | J79: =(E79*$E$95)+(F79*$E$96)+(G79*$E$97)+(H79*$E$98) -> 0 | K79: =SUM(J70:J79) -> 4900
B81: EDIFICI PROGRAMA SEFED 34000 326 21300
A82: 53 | B82: SEFED Can Puig | C82: Carrer Major, 110 | D82: Ribes | E82: 1 | F82: 0 | G82: 0 | H82: 0 | J82: =(E82*$E$95)+(F82*$E$96)+(G82*$E$97)+(H82*$E$98) -> 870 | K82: =SUM(J82) -> 870
B84: Departament de la Dona 12300 231 21300
A85: 54 | B85: Can Salvador Miret | C85: Carrer Nou, 40 | D85: Ribes | E85: 1 | F85: 0 | G85: 0 | H85: 0 | J85: =(E85*$E$95)+(F85*$E$96)+(G85*$E$97)+(H85*$E$98) -> 870 | K85: =SUM(J85) -> 870
B87: Ocupació
A88: 55 | B88: Taller de perruqueria i estètica | C88: Plaça Vinya d'en Petaca,núm. 5 L6 | D88: Les Roquetes | E88: 0 | F88: 0 | G88: 0 | H88: 0 | J88: =(E88*$E$95)+(F88*$E$96)+(G88*$E$97)+(H88*$E$98) -> 0
A89: 56 | B89: Aulari Blanc | C89: Carrer Miguel Servet, s/n | D89: Les Roquetes | E89: 0 | F89: 0 | G89: 0 | H89: 0 | J89: =(E89*$E$95)+(F89*$E$96)+(G89*$E$97)+(H89*$E$98) -> 0 | K89: =SUM(J88:J89) -> 0
B91: TOTAL INSTAL·LACIONS D'ASCENSORS, MUNTACÀRREGUES, PORTES AUTOMÀTIQUES I MUNTAPLATS | E91: =SUM(E6:E90) -> 15 | F91: =SUM(F6:F90) -> 1 | G91: =SUM(G6:G90) -> 7 | H91: =SUM(H6:H90) -> 1 | K91: =SUM(K6:K90) -> 18050
K93: =18050-K91 -> 0
B94: PREUS UNITARIS ANUALS DELS COMPONENTS DE LA PRESTACIÓ P1 (sense IVA) | E94: € / ut licitació
A95: P21 | B95: Preu anual manteniment semi-risc d'instal.lació d'ascensors i rescat d’ascensors | E95: 870
A96: P22 | B96: Preu anual manteniment semi-risc instal.lació de muntacàrregues | E96: 600
A97: P23 | B97: Preu anual manteniment instal.lació de porta automàtica | E97: 550
A98: P24 | B98: Preu anual instal.lació de muntaplats | E98: 550

Sheet Total
B2: Edifici / Equipament | C2: Adreça | D2: Nucli | F2: Cost edifici | G2: Cost total sense IVA | H2: Cost total IVA inclòs
B5: EDIFICIS MUNICIPALS 32200 920 21300
A6: 1 | B6: Casa de la Vila | C6: Plaça de la Vila, 1 | D6: Ribes | F6: =Electricitat!I6+Parallamps!G6+Climatització!I6+Gas!G6+Calderes!H6+Solar!H6+Fontaneria!I6+Generadors!I6+Fotovoltaica!G6+Biomassa!G6+Ascensors!J6 -> 7060.2447
A7: 2 | B7: Can Puig | C7: Carrer Major, 110 | D7: Ribes | F7: =Electricitat!I7+Parallamps!G7+Climatització!I7+Gas!G7+Calderes!H7+Solar!H7+Fontaneria!I7+Generadors!I7+Fotovoltaica!G7+Biomassa!G7+Ascensors!J7 -> 5540.785
A8: 3 | B8: Jutjat de Pau | C8: Carrer Eduard Maristany, 14 | D8: Ribes | F8: =Electricitat!I8+Parallamps!G8+Climatització!I8+Gas!G8+Calderes!H8+Solar!H8+Fontaneria!I8+Generadors!I8+Fotovoltaica!G8+Biomassa!G8+Ascensors!J8 -> 526.98921
A9: 4 | B9: Can Pau Roig | C9: Carrer de la torreta, 15 | D9: Ribes | F9: =Electricitat!I9+Parallamps!G9+Climatització!I9+Gas!G9+Calderes!H9+Solar!H9+Fontaneria!I9+Generadors!I9+Fotovoltaica!G9+Biomassa!G9+Ascensors!J9 -> 164.84044
A10: 5 | B10: Antena informàtica i policia | C10: Montgròs | D10: Ribes | F10: =Electricitat!I10+Parallamps!G10+Climatització!I10+Gas!G10+Calderes!H10+Solar!H10+Fontaneria!I10+Generadors!I10+Fotovoltaica!G10+Biomassa!G10+Ascensors!J10 -> 261.47105
A11: 6 | B11: Edifici Vinya d'en Petaca | C11: Plaça Vinya d'en Petaca, s/n | D11: Les Roquetes | F11: =Electricitat!I11+Parallamps!G11+Climatització!I11+Gas!G11+Calderes!H11+Solar!H11+Fontaneria!I11+Generadors!I11+Fotovoltaica!G11+Biomassa!G11+Ascensors!J11 -> 8590.2169
A12: 7 | B12: Local magatzem neteja viària | C12: Plaça Vinya d'en Petaca, local 7 | D12: Les Roquetes | F12: =Electricitat!I12+Parallamps!G12+Climatització!I12+Gas!G12+Calderes!H12+Solar!H12+Fontaneria!I12+Generadors!I12+Fotovoltaica!G12+Biomassa!G12+Ascensors!J12 -> 164.84044
A13: 8 | B13: Nau brigada / serveis / deixalleria | C13: Carrer Boters, s/n | D13: Les Roquetes | F13: =Electricitat!I13+Parallamps!G13+Climatització!I13+Gas!G13+Calderes!H13+Solar!H13+Fontaneria!I13+Generadors!I13+Fotovoltaica!G13+Biomassa!G13+Ascensors!J13 -> 316.03892
A14: 9 | B14: Magatzem neteja i jardineria | C14: Parc Pompeu Fabra, s/n | D14: Les Roquetes | F14: =Electricitat!I14+Parallamps!G14+Climatització!I14+Gas!G14+Calderes!H14+Solar!H14+Fontaneria!I14+Generadors!I14+Fotovoltaica!G14+Biomassa!G14+Ascensors!J14 -> 164.84044 | G14: =SUM(F6:F14) -> 22790.267 | H14: =1.21*G14 -> 27576.223
B16: BENESTAR SOCIAL 11100 231 21300
A17: 10 | B17: Casal avis Ribes | C17: Carrer Nou, 40-46 | D17: Ribes | F17: =Electricitat!I17+Parallamps!G17+Climatització!I17+Gas!G17+Calderes!H17+Solar!H17+Fontaneria!I17+Generadors!I17+Fotovoltaica!G17+Biomassa!G17+Ascensors!J17 -> 1858.5425
A18: 11 | B18: Casal avis Roquetes | C18: Carrer Roger de Flor, 53 | D18: Les Roquetes | F18: =Electricitat!I18+Parallamps!G18+Climatització!I18+Gas!G18+Calderes!H18+Solar!H18+Fontaneria!I18+Generadors!I18+Fotovoltaica!G18+Biomassa!G18+Ascensors!J18 -> 1600.1573
A19: 12 | B19: Centre de dia | C19: Carrer Roger de Flor, 53 | D19: Les Roquetes | F19: =Electricitat!I19+Parallamps!G19+Climatització!I19+Gas!G19+Calderes!H19+Solar!H19+Fontaneria!I19+Generadors!I19+Fotovoltaica!G19+Biomassa!G19+Ascensors!J19 -> 1446.6852
A20: 13 | B20: Centre obert grup joves | C20: Carrer Gaudi, 1, local 11 | D20: Les Roquetes | F20: =Electricitat!I20+Parallamps!G20+Climatització!I20+Gas!G20+Calderes!H20+Solar!H20+Fontaneria!I20+Generadors!I20+Fotovoltaica!G20+Biomassa!G20+Ascensors!J20 -> 316.03892
A21: 14 | B21: Local Creu Roja | C21: Carrer Miquel Servet | D21: Les Roquetes | F21: =Electricitat!I21+Parallamps!G21+Climatització!I21+Gas!G21+Calderes!H21+Solar!H21+Fontaneria!I21+Generadors!I21+Fotovoltaica!G21+Biomassa!G21+Ascensors!J21 -> 316.03892
A22: 15 | B22: Banc d'aliments | C22: Plaça Vinya d'en Petaca, 2 local 1 | D22: Les Roquetes | F22: =Electricitat!I22+Parallamps!G22+Climatització!I22+Gas!G22+Calderes!H22+Solar!H22+Fontaneria!I22+Generadors!I22+Fotovoltaica!G22+Biomassa!G22+Ascensors!J22 -> 764.84044 | G22: =SUM(F17:F22) -> 6302.3033 | H22: =1.21*G22 -> 7625.787
B24: PROMOCIÓ ECONÒMICA 35000 433 21300
A25: 16 | B25: Casa del terme | C25: Sota-ribes | D25: Ribes | F25: =Electricitat!I25+Parallamps!G25+Climatització!I25+Gas!G25+Calderes!H25+Solar!H25+Fontaneria!I25+Generadors!I25+Fotovoltaica!G25+Biomassa!G25+Ascensors!J25 -> 409.25903
A26: 17 | B26: Centre interpretació americanos | C26: Plaça de la Vila, 3 | D26: Ribes | F26: =Electricitat!I26+Parallamps!G26+Climatització!I26+Gas!G26+Calderes!H26+Solar!H26+Fontaneria!I26+Generadors!I26+Fotovoltaica!G26+Biomassa!G26+Ascensors!J26 -> 851.26012
A27: 18 | B27: Espai Cuina | C27: Carrer de Roger de Flor, 31 | D27: Ribes | F27: =Electricitat!I27+Parallamps!G27+Climatització!I27+Gas!G27+Calderes!H27+Solar!H27+Fontaneria!I27+Generadors!I27+Fotovoltaica!G27+Biomassa!G27+Ascensors!J27 -> 2878.235
A28: 19 | B28: Espai empresa Roquetes | C28: Carrer Gaudi, 5 | D28: Les Roquetes | F28: =Electricitat!I28+Parallamps!G28+Climatització!I28+Gas!G28+Calderes!H28+Solar!H28+Fontaneria!I28+Generadors!I28+Fotovoltaica!G28+Biomassa!G28+Ascensors!J28 -> 342.82265 | G28: =SUM(F25:F28) -> 4481.5768 | H28: =1.21*G28 -> 5422.708
B30: CULTURA BIBLIOTEQUES 12100 3321 21300
A31: 20 | B31: Biblioteca Manel de Pedrolo | C31: Plaça poeta Maria Mercè Marçal, 1 | D31: Ribes | F31: =Electricitat!I31+Parallamps!G31+Climatització!I31+Gas!G31+Calderes!H31+Solar!H31+Fontaneria!I31+Generadors!I31+Fotovoltaica!G31+Biomassa!G31+Ascensors!J31 -> 2100.0508
A32: 21 | B32: Biblioteca Josep Pla | C32: Carrer Gaudi, 1 | D32: Les Roquetes | F32: =Electricitat!I32+Parallamps!G32+Climatització!I32+Gas!G32+Calderes!H32+Solar!H32+Fontaneria!I32+Generadors!I32+Fotovoltaica!G32+Biomassa!G32+Ascensors!J32 -> 3501.5369 | G32: =SUM(F31:F32) -> 5601.5877 | H32: =1.21*G32 -> 6777.9211
B34: CULTURA EL LOCAL 12100 333 21300 Projecte 2021_02_0018
A35: 22 | B35: El Local | C35: Carrer Eduard Maristany | D35: Ribes | F35: =Electricitat!I35+Parallamps!G35+Climatització!I35+Gas!G35+Calderes!H35+Solar!H35+Fontaneria!I35+Generadors!I35+Fotovoltaica!G35+Biomassa!G35+Ascensors!J35 -> 2379.7111 | G35: =SUM(F35) -> 2379.7111 | H35: =1.21*G35 -> 2879.4504
B37: CULTURA L'ESPAI 12100 333 21300 Projecte 2021_02_0017
A38: 23 | B38: Centre Civic L'espai | C38: Parc Pompeu Fabra, s/n | D38: Les Roquetes | F38: =Electricitat!I38+Parallamps!G38+Climatització!I38+Gas!G38+Calderes!H38+Solar!H38+Fontaneria!I38+Generadors!I38+Fotovoltaica!G38+Biomassa!G38+Ascensors!J38 -> 3445.5076 | G38: =SUM(F38) -> 3445.5076 | H38: =1.21*G38 -> 4169.0643
B40: CULTURA LA BÒBILA 12100 333 21300 Projecte 2021_02_0015
A41: 24 | B41: Teatre La Bòbila | C41: Carrer Hernán Cortés, 14 | D41: Les Roquetes | F41: =Electricitat!I41+Parallamps!G41+Climatització!I41+Gas!G41+Calderes!H41+Solar!H41+Fontaneria!I41+Generadors!I41+Fotovoltaica!G41+Biomassa!G41+Ascensors!J41 -> 4083.3373 | G41: =SUM(F41) -> 4083.3373 | H41: =1.21*G41 -> 4940.8382
B43: CULTURA PATRIMONI 12100 336 21300 Projecte 2021_02_0016
A44: 25 | B44: Museu del Castell | C44: Sota-ribes | D44: Ribes | F44: =Electricitat!I44+Parallamps!G44+Climatització!I44+Gas!G44+Calderes!H44+Solar!H44+Fontaneria!I44+Generadors!I44+Fotovoltaica!G44+Biomassa!G44+Ascensors!J44 -> 604.2937
A45: 26 | B45: Ermita Sant Pau | C45: Sant Pau | D45: Ribes | F45: =Electricitat!I45+Parallamps!G45+Climatització!I45+Gas!G45+Calderes!H45+Solar!H45+Fontaneria!I45+Generadors!I45+Fotovoltaica!G45+Biomassa!G45+Ascensors!J45 -> 281.43379 | G45: =SUM(F44:F45) -> 885.72749 | H45: =1.21*G45 -> 1071.7303
B47: CULTURA ALTRES EQUIPAMENTS 12100 333 21300
A48: 27 | B48: Antic Escorxador | C48: Carrer Escorxador, 7 | D48: Ribes | F48: =Electricitat!I48+Parallamps!G48+Climatització!I48+Gas!G48+Calderes!H48+Solar!H48+Fontaneria!I48+Generadors!I48+Fotovoltaica!G48+Biomassa!G48+Ascensors!J48 -> 588.37807
A49: 28 | B49: Local de Cultura-Antic CAP | C49: Carrer Antoni Maria Claret, 3 baixos | D49: Ribes | F49: =Electricitat!I49+Parallamps!G49+Climatització!I49+Gas!G49+Calderes!H49+Solar!H49+Fontaneria!I49+Generadors!I49+Fotovoltaica!G49+Biomassa!G49+Ascensors!J49 -> 697.51381
A50: 29 | B50: Centre Puigmoltó | C50: Puigmoltó, 9 | D50: Ribes | F50: =Electricitat!I50+Parallamps!G50+Climatització!I50+Gas!G50+Calderes!H50+Solar!H50+Fontaneria!I50+Generadors!I50+Fotovoltaica!G50+Biomassa!G50+Ascensors!J50 -> 193.26121
A51: 30 | B51: Casa Andalusia / Penya / UCER | C51: Carrer Miquel Àngel, 24, locals | D51: Les Roquetes | F51: =Electricitat!I51+Parallamps!G51+Climatització!I51+Gas!G51+Calderes!H51+Solar!H51+Fontaneria!I51+Generadors!I51+Fotovoltaica!G51+Biomassa!G51+Ascensors!J51 -> 465.60036 | G51: =SUM(F48:F51) -> 1944.7534 | H51: =1.21*G51 -> 2353.1517
B53: JOVENTUT 12200 334 21300
A54: 31 | B54: Espai Jove | C54: Plaça Jaume Gomez i Puig, 4, local | D54: Ribes | F54: =Electricitat!I54+Parallamps!G54+Climatització!I54+Gas!G54+Calderes!H54+Solar!H54+Fontaneria!I54+Generadors!I54+Fotovoltaica!G54+Biomassa!G54+Ascensors!J54 -> 944.20606 | G54: =SUM(F54) -> 944.20606 | H54: =1.21*G54 -> 1142.4893
B56: ESPORTS 13100 340 21300
A57: 32 | B57: Camp de futbol de Ribes | C57: Passeig Circumval·lació, s/n | D57: Ribes | F57: =Electricitat!I57+Parallamps!G57+Climatització!I57+Gas!G57+Calderes!H57+Solar!H57+Fontaneria!I57+Generadors!I57+Fotovoltaica!G57+Biomassa!G57+Ascensors!J57 -> 1682.5094
A58: 33 | B58: Pistes camp de futbol de Ribes | C58: Passeig Circumval·lació, s/n | D58: Ribes | F58: =Electricitat!I58+Parallamps!G58+Climatització!I58+Gas!G58+Calderes!H58+Solar!H58+Fontaneria!I58+Generadors!I58+Fotovoltaica!G58+Biomassa!G58+Ascensors!J58 -> 281.43379
A59: 34 | B59: Bar pistes camp de futbol Ribes | C59: Passeig Circumval·lació, s/n | D59: Ribes | F59: =Electricitat!I59+Parallamps!G59+Climatització!I59+Gas!G59+Calderes!H59+Solar!H59+Fontaneria!I59+Generadors!I59+Fotovoltaica!G59+Biomassa!G59+Ascensors!J59 -> 281.43379
A60: 35 | B60: Pavelló de Ribes | C60: Carrer Cristofor Mestres, s/n | D60: Ribes | F60: =Electricitat!I60+Parallamps!G60+Climatització!I60+Gas!G60+Calderes!H60+Solar!H60+Fontaneria!I60+Generadors!I60+Fotovoltaica!G60+Biomassa!G60+Ascensors!J60 -> 5368.2486
A61: 36 | B61: Pistes de tennis Ribes | C61: Carrer Blades, 3 (Can Macià) | D61: Ribes | F61: =Electricitat!I61+Parallamps!G61+Climatització!I61+Gas!G61+Calderes!H61+Solar!H61+Fontaneria!I61+Generadors!I61+Fotovoltaica!G61+Biomassa!G61+Ascensors!J61 -> 1631.9152
A62: 37 | B62: Camp de futbol de Roquetes | C62: Carrer Puigmal, s/n | D62: Les Roquetes | F62: =Electricitat!I62+Parallamps!G62+Climatització!I62+Gas!G62+Calderes!H62+Solar!H62+Fontaneria!I62+Generadors!I62+Fotovoltaica!G62+Biomassa!G62+Ascensors!J62 -> 1597.2471
A63: 38 | B63: Pavelló de Roquetes | C63: Passeig Manel Cid, s/n | D63: Les Roquetes | F63: =Electricitat!I63+Parallamps!G63+Climatització!I63+Gas!G63+Calderes!H63+Solar!H63+Fontaneria!I63+Generadors!I63+Fotovoltaica!G63+Biomassa!G63+Ascensors!J63 -> 2212.9091
A64: 39 | B64: Piscines i tennis Roquetes | C64: Carrer Miguel Servet, s/n | D64: Les Roquetes | F64: =Electricitat!I64+Parallamps!G64+Climatització!I64+Gas!G64+Calderes!H64+Solar!H64+Fontaneria!I64+Generadors!I64+Fotovoltaica!G64+Biomassa!G64+Ascensors!J64 -> 613.88855
A65: 40 | B65: Pistes Sant Agustí | C65: Carrer Àngel Guimerà, 72 | D65: Les Roquetes | F65: =Electricitat!I65+Parallamps!G65+Climatització!I65+Gas!G65+Calderes!H65+Solar!H65+Fontaneria!I65+Generadors!I65+Fotovoltaica!G65+Biomassa!G65+Ascensors!J65 -> 164.84044
A66: 41 | B66: =+Fotovoltaica!B66 -> Piscina de Ribes (Espai Blau) | C66: =+Fotovoltaica!C66 -> Passeig de Circumvaŀlació, s/n, | D66: =+Fotovoltaica!D66 -> Ribes | F66: =Electricitat!I66+Parallamps!G66+Climatització!I66+Gas!G66+Calderes!H66+Solar!H66+Fontaneria!I66+Generadors!I66+Fotovoltaica!G66+Biomassa!G66+Ascensors!J66 -> 3198.0389
A67: 42 | B67: Pícnic | C67: Carrer Boters, Vilanoveta | D67: Les Roquetes | F67: =Electricitat!I67+Parallamps!G67+Climatització!I67+Gas!G67+Calderes!H67+Solar!H67+Fontaneria!I67+Generadors!I67+Fotovoltaica!G67+Biomassa!G67+Ascensors!J67 -> 281.43379 | G67: =SUM(F57:F67) -> 17313.899 | H67: =1.21*G67 -> 20949.817
B69: EDUCACIÓ 14100 320 21300
A70: 43 | B70: CEIP Els Costarets | C70: Carretera dels carç, 102 | D70: Ribes | F70: =Electricitat!I70+Parallamps!G70+Climatització!I70+Gas!G70+Calderes!H70+Solar!H70+Fontaneria!I70+Generadors!I70+Fotovoltaica!G70+Biomassa!G70+Ascensors!J70 -> 4215.6926
A71: 44 | B71: CEIP La Riera | C71: Avinguda Onze de setembre, s/n | D71: Ribes | F71: =Electricitat!I71+Parallamps!G71+Climatització!I71+Gas!G71+Calderes!H71+Solar!H71+Fontaneria!I71+Generadors!I71+Fotovoltaica!G71+Biomassa!G71+Ascensors!J71 -> 3166.3979
A72: 45 | B72: CEIP El Pi | C72: Carrer Ildefons Cerdà, 3 | D72: Ribes | F72: =Electricitat!I72+Parallamps!G72+Climatització!I72+Gas!G72+Calderes!H72+Solar!H72+Fontaneria!I72+Generadors!I72+Fotovoltaica!G72+Biomassa!G72+Ascensors!J72 -> 3951.0921
A73: 46 | B73: CEIP Parellades | C73: Carrer Margarida Xirgu, 11 | D73: Ribes | F73: =Electricitat!I73+Parallamps!G73+Climatització!I73+Gas!G73+Calderes!H73+Solar!H73+Fontaneria!I73+Generadors!I73+Fotovoltaica!G73+Biomassa!G73+Ascensors!J73 -> 869.67544
A74: 47 | B74: Llar infants El Cargol | C74: Carretera del Carç, 100 | D74: Ribes | F74: =Electricitat!I74+Parallamps!G74+Climatització!I74+Gas!G74+Calderes!H74+Solar!H74+Fontaneria!I74+Generadors!I74+Fotovoltaica!G74+Biomassa!G74+Ascensors!J74 -> 1187.4878
A75: 48 | B75: Llar infants l'Espígol | C75: Carrer Margarida Xirgu, s/n | D75: Ribes | F75: =Electricitat!I75+Parallamps!G75+Climatització!I75+Gas!G75+Calderes!H75+Solar!H75+Fontaneria!I75+Generadors!I75+Fotovoltaica!G75+Biomassa!G75+Ascensors!J75 -> 1672.9081
A76: 49 | B76: CEIP Santa Eulàlia | C76: Carrer Puigmal, s/n | D76: Les Roquetes | F76: =Electricitat!I76+Parallamps!G76+Climatització!I76+Gas!G76+Calderes!H76+Solar!H76+Fontaneria!I76+Generadors!I76+Fotovoltaica!G76+Biomassa!G76+Ascensors!J76 -> 7244.9905
A77: 50 | B77: CEIP Les Roquetes | C77: Carrer Miguel Servet, s/n | D77: Les Roquetes | F77: =Electricitat!I77+Parallamps!G77+Climatització!I77+Gas!G77+Calderes!H77+Solar!H77+Fontaneria!I77+Generadors!I77+Fotovoltaica!G77+Biomassa!G77+Ascensors!J77 -> 8288.4851
A78: 51 | B78: CEIP Mediterrànea | C78: Ronda de la Masia Nova, 7 | D78: Les Roquetes | F78: =Electricitat!I78+Parallamps!G78+Climatització!I78+Gas!G78+Calderes!H78+Solar!H78+Fontaneria!I78+Generadors!I78+Fotovoltaica!G78+Biomassa!G78+Ascensors!J78 -> 869.67544
A79: 52 | B79: Llar infants Els tres pins | C79: Carrer Miquel Àngel, s/n | D79: Les Roquetes | F79: =Electricitat!I79+Parallamps!G79+Climatització!I79+Gas!G79+Calderes!H79+Solar!H79+Fontaneria!I79+Generadors!I79+Fotovoltaica!G79+Biomassa!G79+Ascensors!J79 -> 3806.3837 | G79: =SUM(F70:F79) -> 35272.789 | H79: =1.21*G79 -> 42680.074
B81: EDIFICI PROGRAMA SEFED 34000 326 21300
A82: 53 | B82: SEFED Can Puig | C82: Carrer Major, 110 | D82: Ribes | F82: =Electricitat!I82+Parallamps!G82+Climatització!I82+Gas!G82+Calderes!H82+Solar!H82+Fontaneria!I82+Generadors!I82+Fotovoltaica!G82+Biomassa!G82+Ascensors!J82 -> 1479.3412 | G82: =SUM(F82) -> 1479.3412 | H82: =1.21*G82 -> 1790.0029
B84: Departament de la Dona 12300 231 21300
A85: 54 | B85: Can Salvador Miret | C85: Carrer Nou, 40 | D85: Ribes | F85: =Electricitat!I85+Parallamps!G85+Climatització!I85+Gas!G85+Calderes!H85+Solar!H85+Fontaneria!I85+Generadors!I85+Fotovoltaica!G85+Biomassa!G85+Ascensors!J85 -> 1431.5943 | G85: =SUM(F85) -> 1431.5943 | H85: =1.21*G85 -> 1732.2291
B87: Ocupació
A88: 55 | B88: Taller de perruqueria i estètica | C88: Plaça Vinya d'en Petaca,núm. 5 L6 | D88: Les Roquetes | F88: =Electricitat!I88+Parallamps!G88+Climatització!I88+Gas!G88+Calderes!H88+Solar!H88+Fontaneria!I88+Generadors!I88+Fotovoltaica!G88+Biomassa!G88+Ascensors!J88 -> 404.2115
A89: 56 | B89: Aulari Blanc | C89: Carrer Miguel Servet, s/n | D89: Les Roquetes | F89: =Electricitat!I89+Parallamps!G89+Climatització!I89+Gas!G89+Calderes!H89+Solar!H89+Fontaneria!I89+Generadors!I89+Fotovoltaica!G89+Biomassa!G89+Ascensors!J89 -> 5239.1876 | G89: =SUM(F88:F89) -> 5643.3992 | H89: =1.21*G89 -> 6828.513
B91: TOTAL INSTAL·LACIONS EDIFICIS I EQUIPAMENTS MUNICIPALS | G91: =SUM(G6:G90) -> 114000 | H91: =1.21*G91 -> 137940

Sheet Ascensors Original
B2: Edifici / Equipament | C2: Adreça | D2: Nucli | E2: RAE | F2: Nº parades / Kg | G2: ASCENSOR | H2: MUTACÀRREGUES | I2: PORTA AUTOMÀTICA | J2: MUNTAPLATS
B5: EDIFICIS MUNICIPALS 32200 920 21300
A6: 1 | B6: Casa de la Vila | C6: Plaça de la Vila, 1 | D6: Ribes | E6: 1-14-1009719-Q | F6: 6 / 630 | G6: 1 | H6: 0 | I6: 2 | J6: 0 | K6: 799 | L6: 194.4 | N6: =+SUM(G6:J6) -> 3
A7: 2 | B7: Can Puig | C7: Carrer Major, 110 | D7: Ribes | E7: 143742 | F7: 4 / 630 | G7: 1 | H7: 0 | I7: 2 | J7: 0 | K7: 1219 | L7: 194.4 | N7: =+SUM(G7:J7) -> 3
A8: 3 | B8: Edifici Vinya d'en Petaca | C8: Plaça Vinya d'en Petaca, s/n | D8: Les Roquetes | E8: 118709 | F8: 4 / 800 | G8: 1 | H8: 0 | I8: 0 | J8: 0 | K8: 1219 | N8: =+SUM(G8:J8) -> 1
B10: BENESTAR SOCIAL 11100 231 21300
B11: Casal de Ribes | C11: Carrer Nou 44 | D11: Ribes | E11: 1-080072177 | F11: 2/450 | G11: 1 | H11: 0 | I11: 0 | J11: 0 | K11: 799 | N11: =+SUM(G11:J11) -> 1
A12: 4 | B12: Can Salvador Miret | C12: Carrer Nou, 40 | D12: Ribes | E12: 42373510 | F12: 2 / 450 | G12: 1 | H12: 0 | I12: 0 | J12: 0 | K12: 799 | N12: =+SUM(G12:J12) -> 1
A13: 5 | B13: Banc d'aliments | C13: Plaça Vinya d'en Petaca, 2 local 1 | D13: Les Roquetes | E13: 1-14-2003507Q | F13: 2 / 2000 KG | G13: 0 | H13: 1 | I13: 0 | J13: 0 | K13: 504 | N13: =+SUM(G13:J13) -> 1
B15: PROMOCIÓ ECONÒMICA 35000 433 21300
A16: 6 | B16: Centre interpretació americanos | C16: Plaça de la Vila, 3 | D16: Ribes | G16: 0 | H16: 0 | I16: 1 | J16: 0 | L16: 97.2 | N16: =+SUM(G16:J16) -> 1
B18: CULTURA BIBLIOTEQUES 12100 3321 21300
A19: 7 | B19: Biblioteca Manel de Pedrolo | C19: Plaça poeta Maria Mercè Marçal, 1 | D19: Ribes | E19: 89274BA | F19: 2 / 630 | G19: 1 | H19: 0 | I19: 0 | J19: 0 | K19: 799 | N19: =+SUM(G19:J19) -> 1
A20: 8 | B20: Biblioteca Josep Pla | C20: Carrer Gaudi, 1 | D20: Les Roquetes | E20: 1-14-2011111-Q | F20: 2/630 | G20: 1 | H20: 0 | I20: 1 | J20: 0 | K20: 799 | L20: 97.2 | N20: =+SUM(G20:J20) -> 2
B22: CULTURA EL LOCAL 12100 333 21300 Projecte 2021_02_0018 | N22: =+SUM(G22:J22) -> 0
A23: 9 | B23: El Local | C23: Carrer Eduard Maristany | D23: Ribes | E23: PEV | F23: 2 / 380 | G23: 1 | H23: 0 | I23: 0 | J23: 0 | K23: 1219 | N23: =+SUM(G23:J23) -> 1
B25: CULTURA L'ESPAI 12100 333 21300 Projecte 2021_02_0017
A26: 10 | B26: Centre Civic L'espai | C26: Parc Pompeu Fabra, s/n | D26: Les Roquetes | G26: 0 | H26: 0 | I26: 1 | J26: 0 | L26: 97.2 | N26: =+SUM(G26:J26) -> 1
B28: CULTURA LA BÒBILA 12100 333 21300 Projecte 2021_02_0015
A29: 11 | B29: Teatre La Bòbila | C29: Carrer Hernán Cortés, 14 | D29: Les Roquetes | E29: 1-14-1015900-Q | F29: 6/600 | G29: 1 | H29: 0 | I29: 0 | J29: 0 | K29: 799 | N29: =+SUM(G29:J29) -> 1
B32: EDUCACIÓ 14100 320 21300
A33: 12 | B33: CEIP Els Costarets | C33: Carretera dels carç, 102 | D33: Ribes | E33: 133723 | F33: 3 / 630 | G33: 1 | H33: 0 | I33: 0 | J33: 0 | K33: 799 | N33: =+SUM(G33:J33) -> 1
A34: 13 | B34: CEIP La Riera | C34: Avinguda Onze de setembre, s/n | D34: Ribes | E34: 12150213A | F34: 2 / 630 | G34: 1 | H34: 0 | I34: 0 | J34: 0 | K34: 799 | N34: =+SUM(G34:J34) -> 1
A35: 14 | B35: CEIP El Pi | C35: Carrer Ildefons Cerdà, 3 | D35: Ribes | E35: 80681 | F35: 2 / 630 | G35: 1 | H35: 0 | I35: 0 | J35: 0 | K35: 799 | N35: =+SUM(G35:J35) -> 1
A36: 15 | B36: CEIP Santa Eulàlia | C36: Carrer Puigmal, s/n | D36: Les Roquetes | E36: 94866B | F36: 3 / 600 | G36: 1 | H36: 0 | I36: 0 | J36: 0 | K36: 799 | N36: =+SUM(G36:J36) -> 1
A37: 16 | B37: CEIP Les Roquetes | C37: Carrer Miguel Servet, s/n | D37: Les Roquetes | E37: 94866 / 10144330 | F37: 2 / 450 - 2 /100 | G37: 1 | H37: 0 | I37: 0 | J37: 1 | K37: 799 | L37: 299 | N37: =+SUM(G37:J37) -> 2
B39: EDIFICI PROGRAMA SEFED 34000 326 21300
A40: 17 | B40: SEFED Can Puig | C40: Carrer Major, 110 | D40: Ribes | E40: 1-14-1013190-Q | F40: 4/385 | G40: 1 | H40: 0 | I40: 0 | J40: 0 | K40: 799 | N40: =+SUM(G40:J40) -> 1
B42: TOTAL EQUIPS EDIFICIS I EQUIPAMENTS MUNICIPALS | G42: =SUM(G6:G41) -> 15 | H42: =SUM(H6:H41) -> 1 | I42: =SUM(I6:I41) -> 7 | J42: =SUM(J6:J41) -> 1
