Workbook

Sheet Electricitat
B2: Edifici / Equipament | C2: Adreça | D2: Nucli | E2: Electricitat =< 15 | F2: Electricitat > 15 | G2: Electricitat > 50 | I2: Cost edifici | J2: Cost total
E3: Electricitat =< 15 | F3: Electricitat > 15 | G3: Electricitat > 50
B5: EDIFICIS MUNICIPALS 32200 920 21300
A6: 1 | B6: Casa de la Vila | C6: Plaça de la Vila, 1 | D6: Ribes | E6: 0 | F6: 0 | G6: 1 | I6: =(E6*$E$97)+(F6*$E$96)+(G6*$E$95) -> 528.62625
A7: 2 | B7: Can Puig | C7: Carrer Major, 110 | D7: Ribes | E7: 0 | F7: 0 | G7: 1 | I7: =(E7*$E$97)+(F7*$E$96)+(G7*$E$95) -> 528.62625
A8: 3 | B8: Jutjat de Pau | C8: Carrer Eduard Maristany, 14 | D8: Ribes | E8: 0 | F8: 1 | G8: 0 | I8: =(E8*$E$97)+(F8*$E$96)+(G8*$E$95) -> 196.1715
A9: 4 | B9: Can Pau Roig | C9: Carrer de la torreta, 15 | D9: Ribes | E9: 1 | F9: 0 | G9: 0 | I9: =(E9*$E$97)+(F9*$E$96)+(G9*$E$95) -> 107.99891
A10: 5 | B10: Antena informàtica i policia | C10: Montgròs | D10: Ribes | E10: 1 | F10: 0 | G10: 0 | I10: =(E10*$E$97)+(F10*$E$96)+(G10*$E$95) -> 107.99891
A11: 6 | B11: Edifici Vinya d'en Petaca | C11: Plaça Vinya d'en Petaca, s/n | D11: Les Roquetes | E11: 0 | F11: 0 | G11: 1 | I11: =(E11*$E$97)+(F11*$E$96)+(G11*$E$95) -> 528.62625
A12: 7 | B12: Local magatzem neteja viària | C12: Plaça Vinya d'en Petaca, local 7 | D12: Les Roquetes | E12: 1 | F12: 0 | G12: 0 | I12: =(E12*$E$97)+(F12*$E$96)+(G12*$E$95) -> 107.99891
A13: 8 | B13: Nau brigada / serveis / deixalleria | C13: Carrer Boters, s/n | D13: Les Roquetes | E13: 1 | F13: 0 | G13: 0 | I13: =(E13*$E$97)+(F13*$E$96)+(G13*$E$95) -> 107.99891
A14: 9 | B14: Magatzem neteja i jardineria | C14: Parc Pompeu Fabra, s/n | D14: Les Roquetes | E14: 1 | F14: 0 | G14: 0 | I14: =(E14*$E$97)+(F14*$E$96)+(G14*$E$95) -> 107.99891 | J14: =SUM(I6:I14) -> 2322.0448
B16: BENESTAR SOCIAL 11100 231 21300
A17: 10 | B17: Casal avis Ribes | C17: Carrer Nou, 40-46 | D17: Ribes | E17: 0 | F17: 1 | G17: 0 | I17: =(E17*$E$97)+(F17*$E$96)+(G17*$E$95) -> 196.1715
A18: 11 | B18: Casal avis Roquetes | C18: Carrer Roger de Flor, 53 | D18: Les Roquetes | E18: 0 | F18: 1 | G18: 0 | I18: =(E18*$E$97)+(F18*$E$96)+(G18*$E$95) -> 196.1715
A19: 12 | B19: Centre de dia | C19: Carrer Roger de Flor, 53 | D19: Les Roquetes | E19: 0 | F19: 1 | G19: 0 | I19: =(E19*$E$97)+(F19*$E$96)+(G19*$E$95) -> 196.1715
A20: 13 | B20: Centre obert grup joves | C20: Carrer Gaudi, 1, local 11 | D20: Les Roquetes | E20: 1 | F20: 0 | G20: 0 | I20: =(E20*$E$97)+(F20*$E$96)+(G20*$E$95) -> 107.99891
A21: 14 | B21: Local Creu Roja | C21: Carrer Miquel Servet | D21: Les Roquetes | E21: 1 | F21: 0 | G21: 0 | I21: =(E21*$E$97)+(F21*$E$96)+(G21*$E$95) -> 107.99891
A22: 15 | B22: Banc d'aliments | C22: Plaça Vinya d'en Petaca, 2 local 1 | D22: Les Roquetes | E22: 1 | F22: 0 | G22: 0 | I22: =(E22*$E$97)+(F22*$E$96)+(G22*$E$95) -> 107.99891 | J22: =SUM(I17:I22) -> 912.51122
B24: PROMOCIÓ ECONÒMICA 35000 433 21300
A25: 16 | B25: Casa del terme | C25: Sota-ribes | D25: Ribes | E25: 1 | F25: 0 | G25: 0 | I25: =(E25*$E$97)+(F25*$E$96)+(G25*$E$95) -> 107.99891
A26: 17 | B26: Centre interpretació americanos | C26: Plaça de la Vila, 3 | D26: Ribes | E26: 1 | F26: 0 | G26: 0 | I26: =(E26*$E$97)+(F26*$E$96)+(G26*$E$95) -> 107.99891
A27: 18 | B27: Espai Cuina | C27: Carrer de Roger de Flor, 31 | D27: Ribes | E27: 0 | F27: 0 | G27: 0 | I27: =(E27*$E$97)+(F27*$E$96)+(G27*$E$95) -> 0
A28: 19 | B28: Espai empresa Roquetes | C28: Carrer Gaudi, 5 | D28: Les Roquetes | E28: 0 | F28: 1 | G28: 0 | I28: =(E28*$E$97)+(F28*$E$96)+(G28*$E$95) -> 196.1715 | J28: =SUM(I25:I28) -> 412.16932
B30: CULTURA BIBLIOTEQUES 12100 3321 21300
A31: 20 | B31: Biblioteca Manel de Pedrolo | C31: Plaça poeta Maria Mercè Marçal, 1 | D31: Ribes | E31: 0 | F31: 0 | G31: 1 | I31: =(E31*$E$97)+(F31*$E$96)+(G31*$E$95) -> 528.62625
A32: 21 | B32: Biblioteca Josep Pla | C32: Carrer Gaudi, 1 | D32: Les Roquetes | E32: 0 | F32: 0 | G32: 1 | I32: =(E32*$E$97)+(F32*$E$96)+(G32*$E$95) -> 528.62625 | J32: =SUM(I31:I32) -> 1057.2525
B34: CULTURA EL LOCAL 12100 333 21300 Projecte 2021_02_0018
A35: 22 | B35: El Local | C35: Carrer Eduard Maristany | D35: Ribes | E35: 0 | F35: 0 | G35: 1 | I35: =(E35*$E$97)+(F35*$E$96)+(G35*$E$95) -> 528.62625 | J35: =SUM(I35) -> 528.62625
B37: CULTURA L'ESPAI 12100 333 21300 Projecte 2021_02_0017
A38: 23 | B38: Centre Civic L'espai | C38: Parc Pompeu Fabra, s/n | D38: Les Roquetes | E38: 0 | F38: 0 | G38: 1 | I38: =(E38*$E$97)+(F38*$E$96)+(G38*$E$95) -> 528.62625 | J38: =SUM(I38) -> 528.62625
B40: CULTURA LA BÒBILA 12100 333 21300 Projecte 2021_02_0015
A41: 24 | B41: Teatre La Bòbila | C41: Carrer Hernán Cortés, 14 | D41: Les Roquetes | E41: 0 | F41: 0 | G41: 1 | I41: =(E41*$E$97)+(F41*$E$96)+(G41*$E$95) -> 528.62625 | J41: =SUM(I41) -> 528.62625
B43: CULTURA PATRIMONI 12100 336 21300 Projecte 2021_02_0016
A44: 25 | B44: Museu del Castell | C44: Sota-ribes | D44: Ribes | E44: 0 | F44: 1 | G44: 0 | I44: =(E44*$E$97)+(F44*$E$96)+(G44*$E$95) -> 196.1715
A45: 26 | B45: Ermita Sant Pau | C45: Sant Pau | D45: Ribes | E45: 0 | F45: 1 | G45: 0 | I45: =(E45*$E$97)+(F45*$E$96)+(G45*$E$95) -> 196.1715 | J45: =SUM(I44:I45) -> 392.34299
B47: CULTURA ALTRES EQUIPAMENTS 12100 333 21300
A48: 27 | B48: Antic Escorxador | C48: Carrer Escorxador, 7 | D48: Ribes | E48: 0 | F48: 1 | G48: 0 | I48: =(E48*$E$97)+(F48*$E$96)+(G48*$E$95) -> 196.1715
A49: 28 | B49: Local de Cultura-Antic CAP | C49: Carrer Antoni Maria Claret, 3 baixos | D49: Ribes | E49: 0 | F49: 1 | G49: 0 | I49: =(E49*$E$97)+(F49*$E$96)+(G49*$E$95) -> 196.1715
A50: 29 | B50: Centre Puigmoltó | C50: Puigmoltó, 9 | D50: Ribes | E50: 1 | F50: 0 | G50: 0 | I50: =(E50*$E$97)+(F50*$E$96)+(G50*$E$95) -> 107.99891
...

Sheet Parallamps
B2: Edifici / Equipament | C2: Adreça | D2: Nucli | E2: Parallamps | G2: Cost edifici | H2: Cost total
E3: Electricitat > 50
B5: EDIFICIS MUNICIPALS 32200 920 21300
A6: 1 | B6: Casa de la Vila | C6: Plaça de la Vila, 1 | D6: Ribes | E6: 1 | G6: =(E6*$E$95) -> 153.47214
A7: 2 | B7: Can Puig | C7: Carrer Major, 110 | D7: Ribes | E7: 0 | G7: =(E7*$E$95) -> 0
A8: 3 | B8: Jutjat de Pau | C8: Carrer Eduard Maristany, 14 | D8: Ribes | E8: 0 | G8: =(E8*$E$95) -> 0
A9: 4 | B9: Can Pau Roig | C9: Carrer de la torreta, 15 | D9: Ribes | E9: 0 | G9: =(E9*$E$95) -> 0
A10: 5 | B10: Antena informàtica i policia | C10: Montgròs | D10: Ribes | E10: 1 | G10: =(E10*$E$95) -> 153.47214
A11: 6 | B11: Edifici Vinya d'en Petaca | C11: Plaça Vinya d'en Petaca, s/n | D11: Les Roquetes | E11: 1 | G11: =(E11*$E$95) -> 153.47214
A12: 7 | B12: Local magatzem neteja viària | C12: Plaça Vinya d'en Petaca, local 7 | D12: Les Roquetes | E12: 0 | G12: =(E12*$E$95) -> 0
A13: 8 | B13: Nau brigada / serveis / deixalleria | C13: Carrer Boters, s/n | D13: Les Roquetes | E13: 0 | G13: =(E13*$E$95) -> 0
A14: 9 | B14: Magatzem neteja i jardineria | C14: Parc Pompeu Fabra, s/n | D14: Les Roquetes | E14: 0 | G14: =(E14*$E$95) -> 0 | H14: =SUM(G6:G14) -> 460.41641
B16: BENESTAR SOCIAL 11100 231 21300
A17: 10 | B17: Casal avis Ribes | C17: Carrer Nou, 40-46 | D17: Ribes | E17: 0 | G17: =(E17*$E$95) -> 0
A18: 11 | B18: Casal avis Roquetes | C18: Carrer Roger de Flor, 53 | D18: Les Roquetes | E18: 1 | G18: =(E18*$E$95) -> 153.47214
A19: 12 | B19: Centre de dia | C19: Carrer Roger de Flor, 53 | D19: Les Roquetes | E19: 0 | G19: =(E19*$E$95) -> 0
A20: 13 | B20: Centre obert grup joves | C20: Carrer Gaudi, 1, local 11 | D20: Les Roquetes | E20: 0 | G20: =(E20*$E$95) -> 0
A21: 14 | B21: Local Creu Roja | C21: Carrer Miquel Servet | D21: Les Roquetes | E21: 0 | G21: =(E21*$E$95) -> 0
A22: 15 | B22: Banc d'aliments | C22: Plaça Vinya d'en Petaca, 2 local 1 | D22: Les Roquetes | E22: 0 | G22: =(E22*$E$95) -> 0 | H22: =SUM(G17:G22) -> 153.47214
B24: PROMOCIÓ ECONÒMICA 35000 433 21300
A25: 16 | B25: Casa del terme | C25: Sota-ribes | D25: Ribes | E25: 0 | G25: =(E25*$E$95) -> 0
A26: 17 | B26: Centre interpretació americanos | C26: Plaça de la Vila, 3 | D26: Ribes | E26: 0 | G26: =(E26*$E$95) -> 0
A27: 18 | B27: Espai Cuina | C27: Carrer de Roger de Flor, 31 | D27: Ribes | E27: 0 | G27: =(E27*$E$95) -> 0
A28: 19 | B28: Espai empresa Roquetes | C28: Carrer Gaudi, 5 | D28: Les Roquetes | E28: 0 | G28: =(E28*$E$95) -> 0 | H28: =SUM(G25:G28) -> 0
B30: CULTURA BIBLIOTEQUES 12100 3321 21300
A31: 20 | B31: Biblioteca Manel de Pedrolo | C31: Plaça poeta Maria Mercè Marçal, 1 | D31: Ribes | E31: 0 | G31: =(E31*$E$95) -> 0
A32: 21 | B32: Biblioteca Josep Pla | C32: Carrer Gaudi, 1 | D32: Les Roquetes | E32: 0 | G32: =(E32*$E$95) -> 0 | H32: =SUM(G31:G32) -> 0
B34: CULTURA EL LOCAL 12100 333 21300 Projecte 2021_02_0018
A35: 22 | B35: El Local | C35: Carrer Eduard Maristany | D35: Ribes | E35: 0 | G35: =(E35*$E$95) -> 0 | H35: =SUM(G35) -> 0
G36: =(E36*$E$95) -> 0
B37: CULTURA L'ESPAI 12100 333 21300 Projecte 2021_02_0017 | G37: =(E37*$E$95) -> 0
A38: 23 | B38: Centre Civic L'espai | C38: Parc Pompeu Fabra, s/n | D38: Les Roquetes | E38: 0 | G38: =(E38*$E$95) -> 0 | H38: =SUM(G38) -> 0
B40: CULTURA LA BÒBILA 12100 333 21300 Projecte 2021_02_0015
A41: 24 | B41: Teatre La Bòbila | C41: Carrer Hernán Cortés, 14 | D41: Les Roquetes | E41: 1 | G41: =(E41*$E$95) -> 153.47214 | H41: =SUM(G41) -> 153.47214
B43: CULTURA PATRIMONI 12100 336 21300 Projecte 2021_02_0016
A44: 25 | B44: Museu del Castell | C44: Sota-ribes | D44: Ribes | E44: 1 | G44: =(E44*$E$95) -> 153.47214
A45: 26 | B45: Ermita Sant Pau | C45: Sant Pau | D45: Ribes | E45: 0 | G45: =(E45*$E$95) -> 0 | H45: =SUM(G44:G45) -> 153.47214
B47: CULTURA ALTRES EQUIPAMENTS 12100 333 21300
A48: 27 | B48: Antic Escorxador | C48: Carrer Escorxador, 7 | D48: Ribes | E48: 0 | G48: =(E48*$E$95) -> 0
A49: 28 | B49: Local de Cultura-Antic CAP | C49: Carrer Antoni Maria Claret, 3 baixos | D49: Ribes | E49: 0 | G49: =(E49*$E$95) -> 0
...

Sheet Climatització
B2: Edifici / Equipament | C2: Adreça | D2: Nucli | E2: Climatització =< 12 | F2: Climatització > 12 | G2: Climatització > 70 | I2: Cost edifici | J2: Cost total
B5: EDIFICIS MUNICIPALS 32200 920 21300
A6: 1 | B6: Casa de la Vila | C6: Plaça de la Vila, 1 | D6: Ribes | E6: 46 | F6: 3 | G6: 0 | I6: =(E6*$E$97)+(F6*$E$96)+(G6*$E$95) -> 3147.884
A7: 2 | B7: Can Puig | C7: Carrer Major, 110 | D7: Ribes | E7: 44 | F7: 0 | G7: 0 | I7: =(E7*$E$97)+(F7*$E$96)+(G7*$E$95) -> 2701.1096
A8: 3 | B8: Jutjat de Pau | C8: Carrer Eduard Maristany, 14 | D8: Ribes | E8: 4 | F8: 0 | G8: 0 | I8: =(E8*$E$97)+(F8*$E$96)+(G8*$E$95) -> 245.55542
A9: 4 | B9: Can Pau Roig | C9: Carrer de la torreta, 15 | D9: Ribes | E9: 0 | F9: 0 | G9: 0 | I9: =(E9*$E$97)+(F9*$E$96)+(G9*$E$95) -> 0
A10: 5 | B10: Antena informàtica i policia | C10: Montgròs | D10: Ribes | E10: 0 | F10: 0 | G10: 0 | I10: =(E10*$E$97)+(F10*$E$96)+(G10*$E$95) -> 0
A11: 6 | B11: Edifici Vinya d'en Petaca | C11: Plaça Vinya d'en Petaca, s/n | D11: Les Roquetes | E11: 99 | F11: 3 | G11: 1 | I11: =(E11*$E$97)+(F11*$E$96)+(G11*$E$95) -> 6867.5939
A12: 7 | B12: Local magatzem neteja viària | C12: Plaça Vinya d'en Petaca, local 7 | D12: Les Roquetes | E12: 0 | F12: 0 | G12: 0 | I12: =(E12*$E$97)+(F12*$E$96)+(G12*$E$95) -> 0
A13: 8 | B13: Nau brigada / serveis / deixalleria | C13: Carrer Boters, s/n | D13: Les Roquetes | E13: 2 | F13: 0 | G13: 0 | I13: =(E13*$E$97)+(F13*$E$96)+(G13*$E$95) -> 122.77771
A14: 9 | B14: Magatzem neteja i jardineria | C14: Parc Pompeu Fabra, s/n | D14: Les Roquetes | E14: 0 | F14: 0 | G14: 0 | I14: =(E14*$E$97)+(F14*$E$96)+(G14*$E$95) -> 0 | J14: =SUM(I6:I14) -> 13084.921
B16: BENESTAR SOCIAL 11100 231 21300
A17: 10 | B17: Casal avis Ribes | C17: Carrer Nou, 40-46 | D17: Ribes | E17: 8 | F17: 2 | G17: 0 | I17: =(E17*$E$97)+(F17*$E$96)+(G17*$E$95) -> 707.10866
A18: 11 | B18: Casal avis Roquetes | C18: Carrer Roger de Flor, 53 | D18: Les Roquetes | E18: 10 | F18: 0 | G18: 1 | I18: =(E18*$E$97)+(F18*$E$96)+(G18*$E$95) -> 1079.9891
A19: 12 | B19: Centre de dia | C19: Carrer Roger de Flor, 53 | D19: Les Roquetes | E19: 10 | F19: 0 | G19: 1 | I19: =(E19*$E$97)+(F19*$E$96)+(G19*$E$95) -> 1079.9891
A20: 13 | B20: Centre obert grup joves | C20: Carrer Gaudi, 1, local 11 | D20: Les Roquetes | E20: 2 | F20: 0 | G20: 0 | I20: =(E20*$E$97)+(F20*$E$96)+(G20*$E$95) -> 122.77771
A21: 14 | B21: Local Creu Roja | C21: Carrer Miquel Servet | D21: Les Roquetes | E21: 2 | F21: 0 | G21: 0 | I21: =(E21*$E$97)+(F21*$E$96)+(G21*$E$95) -> 122.77771
A22: 15 | B22: Banc d'aliments | C22: Plaça Vinya d'en Petaca, 2 local 1 | D22: Les Roquetes | E22: 0 | F22: 0 | G22: 0 | I22: =(E22*$E$97)+(F22*$E$96)+(G22*$E$95) -> 0 | J22: =SUM(I17:I22) -> 3112.6423
B24: PROMOCIÓ ECONÒMICA 35000 433 21300
A25: 16 | B25: Casa del terme | C25: Sota-ribes | D25: Ribes | E25: 0 | F25: 2 | G25: 0 | I25: =(E25*$E$97)+(F25*$E$96)+(G25*$E$95) -> 215.99782
A26: 17 | B26: Centre interpretació americanos | C26: Plaça de la Vila, 3 | D26: Ribes | E26: 0 | F26: 1 | G26: 0 | I26: =(E26*$E$97)+(F26*$E$96)+(G26*$E$95) -> 107.99891
A27: 18 | B27: Espai Cuina | C27: Carrer de Roger de Flor, 31 | D27: Ribes | E27: 0 | F27: 0 | G27: 0 | I27: =(E27*$E$97)+(F27*$E$96)+(G27*$E$95) -> 0
A28: 19 | B28: Espai empresa Roquetes | C28: Carrer Gaudi, 5 | D28: Les Roquetes | E28: 1 | F28: 0 | G28: 0 | I28: =(E28*$E$97)+(F28*$E$96)+(G28*$E$95) -> 61.388855 | J28: =SUM(I25:I28) -> 385.38559
B30: CULTURA BIBLIOTEQUES 12100 3321 21300
A31: 20 | B31: Biblioteca Manel de Pedrolo | C31: Plaça poeta Maria Mercè Marçal, 1 | D31: Ribes | E31: 3 | F31: 4 | G31: 0 | I31: =(E31*$E$97)+(F31*$E$96)+(G31*$E$95) -> 616.16221
A32: 21 | B32: Biblioteca Josep Pla | C32: Carrer Gaudi, 1 | D32: Les Roquetes | E32: 4 | F32: 7 | G32: 1 | I32: =(E32*$E$97)+(F32*$E$96)+(G32*$E$95) -> 1467.6484 | J32: =SUM(I31:I32) -> 2083.8106
B34: CULTURA EL LOCAL 12100 333 21300 Projecte 2021_02_0018
A35: 22 | B35: El Local | C35: Carrer Eduard Maristany | D35: Ribes | E35: 7 | F35: 0 | G35: 1 | I35: =(E35*$E$97)+(F35*$E$96)+(G35*$E$95) -> 895.82255 | J35: =SUM(I35) -> 895.82255
B37: CULTURA L'ESPAI 12100 333 21300 Projecte 2021_02_0017
A38: 23 | B38: Centre Civic L'espai | C38: Parc Pompeu Fabra, s/n | D38: Les Roquetes | E38: 13 | F38: 0 | G38: 3 | I38: =(E38*$E$97)+(F38*$E$96)+(G38*$E$95) -> 2196.3568 | J38: =SUM(I38) -> 2196.3568
B40: CULTURA LA BÒBILA 12100 333 21300 Projecte 2021_02_0015
A41: 24 | B41: Teatre La Bòbila | C41: Carrer Hernán Cortés, 14 | D41: Les Roquetes | E41: 2 | F41: 2 | G41: 2 | I41: =(E41*$E$97)+(F41*$E$96)+(G41*$E$95) -> 1270.9767 | J41: =SUM(I41) -> 1270.9767
B43: CULTURA PATRIMONI 12100 336 21300 Projecte 2021_02_0016
A44: 25 | B44: Museu del Castell | C44: Sota-ribes | D44: Ribes | E44: 1 | F44: 1 | G44: 0 | I44: =(E44*$E$97)+(F44*$E$96)+(G44*$E$95) -> 169.38777
A45: 26 | B45: Ermita Sant Pau | C45: Sant Pau | D45: Ribes | E45: 0 | F45: 0 | G45: 0 | I45: =(E45*$E$97)+(F45*$E$96)+(G45*$E$95) -> 0 | J45: =SUM(I44:I45) -> 169.38777
B47: CULTURA ALTRES EQUIPAMENTS 12100 333 21300
A48: 27 | B48: Antic Escorxador | C48: Carrer Escorxador, 7 | D48: Ribes | E48: 5 | F48: 0 | G48: 0 | I48: =(E48*$E$97)+(F48*$E$96)+(G48*$E$95) -> 306.94427
A49: 28 | B49: Local de Cultura-Antic CAP | C49: Carrer Antoni Maria Claret, 3 baixos | D49: Ribes | E49: 4 | F49: 0 | G49: 0 | I49: =(E49*$E$97)+(F49*$E$96)+(G49*$E$95) -> 245.55542
A50: 29 | B50: Centre Puigmoltó | C50: Puigmoltó, 9 | D50: Ribes | E50: 0 | F50: 0 | G50: 0 | I50: =(E50*$E$97)+(F50*$E$96)+(G50*$E$95) -> 0
A51: 30 | B51: Casa Andalusia / Penya / UCER | C51: Carrer Miquel Àngel, 24, locals | D51: Les Roquetes | E51: 3 | F51: 0 | G51: 0 | I51: =(E51*$E$97)+(F51*$E$96)+(G51*$E$95) -> 184.16656 | J51: =SUM(I48:I51) -> 736.66626
...

Sheet Gas
B2: Edifici / Equipament | C2: Adreça | D2: Nucli | E2: Gas | G2: Cost edifici | H2: Cost total
E3: Electricitat > 50
B5: EDIFICIS MUNICIPALS 32200 920 21300
A6: 1 | B6: Casa de la Vila | C6: Plaça de la Vila, 1 | D6: Ribes | E6: 0 | G6: =(E6*$E$95) -> 0
A7: 2 | B7: Can Puig | C7: Carrer Major, 110 | D7: Ribes | E7: 1 | G7: =(E7*$E$95) -> 170.5246
A8: 3 | B8: Jutjat de Pau | C8: Carrer Eduard Maristany, 14 | D8: Ribes | E8: 0 | G8: =(E8*$E$95) -> 0
A9: 4 | B9: Can Pau Roig | C9: Carrer de la torreta, 15 | D9: Ribes | E9: 0 | G9: =(E9*$E$95) -> 0
A10: 5 | B10: Antena informàtica i policia | C10: Montgròs | D10: Ribes | E10: 0 | G10: =(E10*$E$95) -> 0
A11: 6 | B11: Edifici Vinya d'en Petaca | C11: Plaça Vinya d'en Petaca, s/n | D11: Les Roquetes | E11: 0 | G11: =(E11*$E$95) -> 0
A12: 7 | B12: Local magatzem neteja viària | C12: Plaça Vinya d'en Petaca, local 7 | D12: Les Roquetes | E12: 0 | G12: =(E12*$E$95) -> 0
A13: 8 | B13: Nau brigada / serveis / deixalleria | C13: Carrer Boters, s/n | D13: Les Roquetes | E13: 0 | G13: =(E13*$E$95) -> 0
A14: 9 | B14: Magatzem neteja i jardineria | C14: Parc Pompeu Fabra, s/n | D14: Les Roquetes | E14: 0 | G14: =(E14*$E$95) -> 0 | H14: =SUM(G6:G14) -> 170.5246
B16: BENESTAR SOCIAL 11100 231 21300
A17: 10 | B17: Casal avis Ribes | C17: Carrer Nou, 40-46 | D17: Ribes | E17: 0 | G17: =(E17*$E$95) -> 0
A18: 11 | B18: Casal avis Roquetes | C18: Carrer Roger de Flor, 53 | D18: Les Roquetes | E18: 0 | G18: =(E18*$E$95) -> 0
A19: 12 | B19: Centre de dia | C19: Carrer Roger de Flor, 53 | D19: Les Roquetes | E19: 0 | G19: =(E19*$E$95) -> 0
A20: 13 | B20: Centre obert grup joves | C20: Carrer Gaudi, 1, local 11 | D20: Les Roquetes | E20: 0 | G20: =(E20*$E$95) -> 0
A21: 14 | B21: Local Creu Roja | C21: Carrer Miquel Servet | D21: Les Roquetes | E21: 0 | G21: =(E21*$E$95) -> 0
A22: 15 | B22: Banc d'aliments | C22: Plaça Vinya d'en Petaca, 2 local 1 | D22: Les Roquetes | E22: 0 | G22: =(E22*$E$95) -> 0 | H22: =SUM(G17:G22) -> 0
B24: PROMOCIÓ ECONÒMICA 35000 433 21300
A25: 16 | B25: Casa del terme | C25: Sota-ribes | D25: Ribes | E25: 0 | G25: =(E25*$E$95) -> 0
A26: 17 | B26: Centre interpretació americanos | C26: Plaça de la Vila, 3 | D26: Ribes | E26: 0 | G26: =(E26*$E$95) -> 0
A27: 18 | B27: Espai Cuina | C27: Carrer de Roger de Flor, 31 | D27: Ribes | E27: 0 | G27: =(E27*$E$95) -> 0
A28: 19 | B28: Espai empresa Roquetes | C28: Carrer Gaudi, 5 | D28: Les Roquetes | E28: 0 | G28: =(E28*$E$95) -> 0 | H28: =SUM(G25:G28) -> 0
B30: CULTURA BIBLIOTEQUES 12100 3321 21300
A31: 20 | B31: Biblioteca Manel de Pedrolo | C31: Plaça poeta Maria Mercè Marçal, 1 | D31: Ribes | E31: 0 | G31: =(E31*$E$95) -> 0
A32: 21 | B32: Biblioteca Josep Pla | C32: Carrer Gaudi, 1 | D32: Les Roquetes | E32: 0 | G32: =(E32*$E$95) -> 0 | H32: =SUM(G31:G32) -> 0
B34: CULTURA EL LOCAL 12100 333 21300 Projecte 2021_02_0018
A35: 22 | B35: El Local | C35: Carrer Eduard Maristany | D35: Ribes | E35: 0 | G35: =(E35*$E$95) -> 0 | H35: =SUM(G35) -> 0
G36: =(E36*$E$95) -> 0
B37: CULTURA L'ESPAI 12100 333 21300 Projecte 2021_02_0017 | G37: =(E37*$E$95) -> 0
A38: 23 | B38: Centre Civic L'espai | C38: Parc Pompeu Fabra, s/n | D38: Les Roquetes | E38: 0 | G38: =(E38*$E$95) -> 0 | H38: =SUM(G38) -> 0
B40: CULTURA LA BÒBILA 12100 333 21300 Projecte 2021_02_0015
A41: 24 | B41: Teatre La Bòbila | C41: Carrer Hernán Cortés, 14 | D41: Les Roquetes | E41: 0 | G41: =(E41*$E$95) -> 0 | H41: =SUM(G41) -> 0
B43: CULTURA PATRIMONI 12100 336 21300 Projecte 2021_02_0016
A44: 25 | B44: Museu del Castell | C44: Sota-ribes | D44: Ribes | E44: 0 | G44: =(E44*$E$95) -> 0
A45: 26 | B45: Ermita Sant Pau | C45: Sant Pau | D45: Ribes | E45: 0 | G45: =(E45*$E$95) -> 0 | H45: =SUM(G44:G45) -> 0
B47: CULTURA ALTRES EQUIPAMENTS 12100 333 21300
A48: 27 | B48: Antic Escorxador | C48: Carrer Escorxador, 7 | D48: Ribes | E48: 0 | G48: =(E48*$E$95) -> 0
A49: 28 | B49: Local de Cultura-Antic CAP | C49: Carrer Antoni Maria Claret, 3 baixos | D49: Ribes | E49: 1 | G49: =(E49*$E$95) -> 170.5246
...

Sheet Calderes
B2: Edifici / Equipament | C2: Adreça | D2: Nucli | E2: Calderes =< 70 | F2: Calderes > 70 | H2: Cost edifici | I2: Cost total
B5: EDIFICIS MUNICIPALS 32200 920 21300
A6: 1 | B6: Casa de la Vila | C6: Plaça de la Vila, 1 | D6: Ribes | E6: 0 | F6: 0 | H6: =(E6*$E$96)+(F6*$E$95) -> 0
A7: 2 | B7: Can Puig | C7: Carrer Major, 110 | D7: Ribes | E7: 0 | F7: 0 | H7: =(E7*$E$96)+(F7*$E$95) -> 0
A8: 3 | B8: Jutjat de Pau | C8: Carrer Eduard Maristany, 14 | D8: Ribes | E8: 0 | F8: 0 | H8: =(E8*$E$96)+(F8*$E$95) -> 0
A9: 4 | B9: Can Pau Roig | C9: Carrer de la torreta, 15 | D9: Ribes | E9: 0 | F9: 0 | H9: =(E9*$E$96)+(F9*$E$95) -> 0
A10: 5 | B10: Antena informàtica i policia | C10: Montgròs | D10: Ribes | E10: 0 | F10: 0 | H10: =(E10*$E$96)+(F10*$E$95) -> 0
A11: 6 | B11: Edifici Vinya d'en Petaca | C11: Plaça Vinya d'en Petaca, s/n | D11: Les Roquetes | E11: 0 | F11: 0 | H11: =(E11*$E$96)+(F11*$E$95) -> 0
A12: 7 | B12: Local magatzem neteja viària | C12: Plaça Vinya d'en Petaca, local 7 | D12: Les Roquetes | E12: 0 | F12: 0 | H12: =(E12*$E$96)+(F12*$E$95) -> 0
A13: 8 | B13: Nau brigada / serveis / deixalleria | C13: Carrer Boters, s/n | D13: Les Roquetes | E13: 0 | F13: 0 | H13: =(E13*$E$96)+(F13*$E$95) -> 0
A14: 9 | B14: Magatzem neteja i jardineria | C14: Parc Pompeu Fabra, s/n | D14: Les Roquetes | E14: 0 | F14: 0 | H14: =(E14*$E$96)+(F14*$E$95) -> 0 | I14: =SUM(H6:H14) -> 0
B16: BENESTAR SOCIAL 11100 231 21300
A17: 10 | B17: Casal avis Ribes | C17: Carrer Nou, 40-46 | D17: Ribes | E17: 0 | F17: 0 | H17: =(E17*$E$96)+(F17*$E$95) -> 0
A18: 11 | B18: Casal avis Roquetes | C18: Carrer Roger de Flor, 53 | D18: Les Roquetes | E18: 0 | F18: 0 | H18: =(E18*$E$96)+(F18*$E$95) -> 0
A19: 12 | B19: Centre de dia | C19: Carrer Roger de Flor, 53 | D19: Les Roquetes | E19: 0 | F19: 0 | H19: =(E19*$E$96)+(F19*$E$95) -> 0
A20: 13 | B20: Centre obert grup joves | C20: Carrer Gaudi, 1, local 11 | D20: Les Roquetes | E20: 0 | F20: 0 | H20: =(E20*$E$96)+(F20*$E$95) -> 0
A21: 14 | B21: Local Creu Roja | C21: Carrer Miquel Servet | D21: Les Roquetes | E21: 0 | F21: 0 | H21: =(E21*$E$96)+(F21*$E$95) -> 0
A22: 15 | B22: Banc d'aliments | C22: Plaça Vinya d'en Petaca, 2 local 1 | D22: Les Roquetes | E22: 0 | F22: 0 | H22: =(E22*$E$96)+(F22*$E$95) -> 0 | I22: =SUM(H17:H22) -> 0
B24: PROMOCIÓ ECONÒMICA 35000 433 21300
A25: 16 | B25: Casa del terme | C25: Sota-ribes | D25: Ribes | E25: 0 | F25: 0 | H25: =(E25*$E$96)+(F25*$E$95) -> 0
A26: 17 | B26: Centre interpretació americanos | C26: Plaça de la Vila, 3 | D26: Ribes | E26: 0 | F26: 0 | H26: =(E26*$E$96)+(F26*$E$95) -> 0
A27: 18 | B27: Espai Cuina | C27: Carrer de Roger de Flor, 31 | D27: Ribes | E27: 0 | F27: 0 | H27: =(E27*$E$96)+(F27*$E$95) -> 0
A28: 19 | B28: Espai empresa Roquetes | C28: Carrer Gaudi, 5 | D28: Les Roquetes | E28: 0 | F28: 0 | H28: =(E28*$E$96)+(F28*$E$95) -> 0 | I28: =SUM(H25:H28) -> 0
B30: CULTURA BIBLIOTEQUES 12100 3321 21300
A31: 20 | B31: Biblioteca Manel de Pedrolo | C31: Plaça poeta Maria Mercè Marçal, 1 | D31: Ribes | E31: 0 | F31: 0 | H31: =(E31*$E$96)+(F31*$E$95) -> 0
A32: 21 | B32: Biblioteca Josep Pla | C32: Carrer Gaudi, 1 | D32: Les Roquetes | E32: 0 | F32: 0 | H32: =(E32*$E$96)+(F32*$E$95) -> 0 | I32: =SUM(H31:H32) -> 0
B34: CULTURA EL LOCAL 12100 333 21300 Projecte 2021_02_0018
A35: 22 | B35: El Local | C35: Carrer Eduard Maristany | D35: Ribes | E35: 0 | F35: 0 | H35: =(E35*$E$96)+(F35*$E$95) -> 0 | I35: =SUM(H35) -> 0
B37: CULTURA L'ESPAI 12100 333 21300 Projecte 2021_02_0017
A38: 23 | B38: Centre Civic L'espai | C38: Parc Pompeu Fabra, s/n | D38: Les Roquetes | E38: 0 | F38: 0 | H38: =(E38*$E$96)+(F38*$E$95) -> 0 | I38: =SUM(H38) -> 0
B40: CULTURA LA BÒBILA 12100 333 21300 Projecte 2021_02_0015
A41: 24 | B41: Teatre La Bòbila | C41: Carrer Hernán Cortés, 14 | D41: Les Roquetes | E41: 0 | F41: 0 | H41: =(E41*$E$96)+(F41*$E$95) -> 0 | I41: =SUM(H41) -> 0
B43: CULTURA PATRIMONI 12100 336 21300 Projecte 2021_02_0016
A44: 25 | B44: Museu del Castell | C44: Sota-ribes | D44: Ribes | E44: 0 | F44: 0 | H44: =(E44*$E$96)+(F44*$E$95) -> 0
A45: 26 | B45: Ermita Sant Pau | C45: Sant Pau | D45: Ribes | E45: 0 | F45: 0 | H45: =(E45*$E$96)+(F45*$E$95) -> 0 | I45: =SUM(H44:H45) -> 0
B47: CULTURA ALTRES EQUIPAMENTS 12100 333 21300
A48: 27 | B48: Antic Escorxador | C48: Carrer Escorxador, 7 | D48: Ribes | E48: 0 | F48: 0 | H48: =(E48*$E$96)+(F48*$E$95) -> 0
A49: 28 | B49: Local de Cultura-Antic CAP | C49: Carrer Antoni Maria Claret, 3 baixos | D49: Ribes | E49: 0 | F49: 0 | H49: =(E49*$E$96)+(F49*$E$95) -> 0
A50: 29 | B50: Centre Puigmoltó | C50: Puigmoltó, 9 | D50: Ribes | E50: 0 | F50: 0 | H50: =(E50*$E$96)+(F50*$E$95) -> 0
A51: 30 | B51: Casa Andalusia / Penya / UCER | C51: Carrer Miquel Àngel, 24, locals | D51: Les Roquetes | E51: 0 | F51: 0 | H51: =(E51*$E$96)+(F51*$E$95) -> 0 | I51: =SUM(H48:H51) -> 0
...

Sheet Solar
B2: Edifici / Equipament | C2: Adreça | D2: Nucli | E2: Solar =< 14 | F2: Solar > 14 | H2: Cost edifici | I2: Cost total
B5: EDIFICIS MUNICIPALS 32200 920 21300
A6: 1 | B6: Casa de la Vila | C6: Plaça de la Vila, 1 | D6: Ribes | E6: 0 | F6: 0 | H6: =(E6*$E$96)+(F6*$E$95) -> 0
A7: 2 | B7: Can Puig | C7: Carrer Major, 110 | D7: Ribes | E7: 0 | F7: 0 | H7: =(E7*$E$96)+(F7*$E$95) -> 0
A8: 3 | B8: Jutjat de Pau | C8: Carrer Eduard Maristany, 14 | D8: Ribes | E8: 0 | F8: 0 | H8: =(E8*$E$96)+(F8*$E$95) -> 0
A9: 4 | B9: Can Pau Roig | C9: Carrer de la torreta, 15 | D9: Ribes | E9: 0 | F9: 0 | H9: =(E9*$E$96)+(F9*$E$95) -> 0
A10: 5 | B10: Antena informàtica i policia | C10: Montgròs | D10: Ribes | E10: 0 | F10: 0 | H10: =(E10*$E$96)+(F10*$E$95) -> 0
A11: 6 | B11: Edifici Vinya d'en Petaca | C11: Plaça Vinya d'en Petaca, s/n | D11: Les Roquetes | E11: 0 | F11: 0 | H11: =(E11*$E$96)+(F11*$E$95) -> 0
A12: 7 | B12: Local magatzem neteja viària | C12: Plaça Vinya d'en Petaca, local 7 | D12: Les Roquetes | E12: 0 | F12: 0 | H12: =(E12*$E$96)+(F12*$E$95) -> 0
A13: 8 | B13: Nau brigada / serveis / deixalleria | C13: Carrer Boters, s/n | D13: Les Roquetes | E13: 0 | F13: 0 | H13: =(E13*$E$96)+(F13*$E$95) -> 0
A14: 9 | B14: Magatzem neteja i jardineria | C14: Parc Pompeu Fabra, s/n | D14: Les Roquetes | E14: 0 | F14: 0 | H14: =(E14*$E$96)+(F14*$E$95) -> 0 | I14: =SUM(H6:H14) -> 0
B16: BENESTAR SOCIAL 11100 231 21300
A17: 10 | B17: Casal avis Ribes | C17: Carrer Nou, 40-46 | D17: Ribes | E17: 0 | F17: 0 | H17: =(E17*$E$96)+(F17*$E$95) -> 0
A18: 11 | B18: Casal avis Roquetes | C18: Carrer Roger de Flor, 53 | D18: Les Roquetes | E18: 0 | F18: 0 | H18: =(E18*$E$96)+(F18*$E$95) -> 0
A19: 12 | B19: Centre de dia | C19: Carrer Roger de Flor, 53 | D19: Les Roquetes | E19: 0 | F19: 0 | H19: =(E19*$E$96)+(F19*$E$95) -> 0
A20: 13 | B20: Centre obert grup joves | C20: Carrer Gaudi, 1, local 11 | D20: Les Roquetes | E20: 0 | F20: 0 | H20: =(E20*$E$96)+(F20*$E$95) -> 0
A21: 14 | B21: Local Creu Roja | C21: Carrer Miquel Servet | D21: Les Roquetes | E21: 0 | F21: 0 | H21: =(E21*$E$96)+(F21*$E$95) -> 0
A22: 15 | B22: Banc d'aliments | C22: Plaça Vinya d'en Petaca, 2 local 1 | D22: Les Roquetes | E22: 0 | F22: 0 | H22: =(E22*$E$96)+(F22*$E$95) -> 0 | I22: =SUM(H17:H22) -> 0
B24: PROMOCIÓ ECONÒMICA 35000 433 21300
A25: 16 | B25: Casa del terme | C25: Sota-ribes | D25: Ribes | E25: 0 | F25: 0 | H25: =(E25*$E$96)+(F25*$E$95) -> 0
A26: 17 | B26: Centre interpretació americanos | C26: Plaça de la Vila, 3 | D26: Ribes | E26: 0 | F26: 0 | H26: =(E26*$E$96)+(F26*$E$95) -> 0
A27: 18 | B27: Espai Cuina | C27: Carrer de Roger de Flor, 31 | D27: Ribes | E27: 0 | F27: 0 | H27: =(E27*$E$96)+(F27*$E$95) -> 0
A28: 19 | B28: Espai empresa Roquetes | C28: Carrer Gaudi, 5 | D28: Les Roquetes | E28: 0 | F28: 0 | H28: =(E28*$E$96)+(F28*$E$95) -> 0 | I28: =SUM(H25:H28) -> 0
B30: CULTURA BIBLIOTEQUES 12100 3321 21300
A31: 20 | B31: Biblioteca Manel de Pedrolo | C31: Plaça poeta Maria Mercè Marçal, 1 | D31: Ribes | E31: 0 | F31: 0 | H31: =(E31*$E$96)+(F31*$E$95) -> 0
A32: 21 | B32: Biblioteca Josep Pla | C32: Carrer Gaudi, 1 | D32: Les Roquetes | E32: 0 | F32: 0 | H32: =(E32*$E$96)+(F32*$E$95) -> 0 | I32: =SUM(H31:H32) -> 0
B34: CULTURA EL LOCAL 12100 333 21300 Projecte 2021_02_0018
A35: 22 | B35: El Local | C35: Carrer Eduard Maristany | D35: Ribes | E35: 0 | F35: 0 | H35: =(E35*$E$96)+(F35*$E$95) -> 0 | I35: =SUM(H35) -> 0
B37: CULTURA L'ESPAI 12100 333 21300 Projecte 2021_02_0017
A38: 23 | B38: Centre Civic L'espai | C38: Parc Pompeu Fabra, s/n | D38: Les Roquetes | E38: 0 | F38: 0 | H38: =(E38*$E$96)+(F38*$E$95) -> 0 | I38: =SUM(H38) -> 0
B40: CULTURA LA BÒBILA 12100 333 21300 Projecte 2021_02_0015
A41: 24 | B41: Teatre La Bòbila | C41: Carrer Hernán Cortés, 14 | D41: Les Roquetes | E41: 0 | F41: 0 | H41: =(E41*$E$96)+(F41*$E$95) -> 0 | I41: =SUM(H41) -> 0
B43: CULTURA PATRIMONI 12100 336 21300 Projecte 2021_02_0016
A44: 25 | B44: Museu del Castell | C44: Sota-ribes | D44: Ribes | E44: 0 | F44: 0 | H44: =(E44*$E$96)+(F44*$E$95) -> 0
A45: 26 | B45: Ermita Sant Pau | C45: Sant Pau | D45: Ribes | E45: 0 | F45: 0 | H45: =(E45*$E$96)+(F45*$E$95) -> 0 | I45: =SUM(H44:H45) -> 0
B47: CULTURA ALTRES EQUIPAMENTS 12100 333 21300
A48: 27 | B48: Antic Escorxador | C48: Carrer Escorxador, 7 | D48: Ribes | E48: 0 | F48: 0 | H48: =(E48*$E$96)+(F48*$E$95) -> 0
A49: 28 | B49: Local de Cultura-Antic CAP | C49: Carrer Antoni Maria Claret, 3 baixos | D49: Ribes | E49: 0 | F49: 0 | H49: =(E49*$E$96)+(F49*$E$95) -> 0
A50: 29 | B50: Centre Puigmoltó | C50: Puigmoltó, 9 | D50: Ribes | E50: 0 | F50: 0 | H50: =(E50*$E$96)+(F50*$E$95) -> 0
A51: 30 | B51: Casa Andalusia / Penya / UCER | C51: Carrer Miquel Àngel, 24, locals | D51: Les Roquetes | E51: 0 | F51: 0 | H51: =(E51*$E$96)+(F51*$E$95) -> 0 | I51: =SUM(H48:H51) -> 0
...

Sheet Fotovoltaica
B2: Edifici / Equipament | C2: Adreça | D2: Nucli | E2: Kwn Fotovoltaiques | G2: Cost edifici | H2: Cost total
E3: Electricitat > 50
B5: EDIFICIS MUNICIPALS 32200 920 21300
A6: 1 | B6: Casa de la Vila | C6: Plaça de la Vila, 1 | D6: Ribes | E6: 0 | G6: =(E6*$E$95) -> 0
A7: 2 | B7: Can Puig | C7: Carrer Major, 110 | D7: Ribes | E7: 0 | G7: =(E7*$E$95) -> 0
A8: 3 | B8: Jutjat de Pau | C8: Carrer Eduard Maristany, 14 | D8: Ribes | E8: 0 | G8: =(E8*$E$95) -> 0
A9: 4 | B9: Can Pau Roig | C9: Carrer de la torreta, 15 | D9: Ribes | E9: 0 | G9: =(E9*$E$95) -> 0
A10: 5 | B10: Antena informàtica i policia | C10: Montgròs | D10: Ribes | E10: 0 | G10: =(E10*$E$95) -> 0
A11: 6 | B11: Edifici Vinya d'en Petaca | C11: Plaça Vinya d'en Petaca, s/n | D11: Les Roquetes | E11: 0 | G11: =(E11*$E$95) -> 0
A12: 7 | B12: Local magatzem neteja viària | C12: Plaça Vinya d'en Petaca, local 7 | D12: Les Roquetes | E12: 0 | G12: =(E12*$E$95) -> 0
A13: 8 | B13: Nau brigada / serveis / deixalleria | C13: Carrer Boters, s/n | D13: Les Roquetes | E13: 0 | G13: =(E13*$E$95) -> 0
A14: 9 | B14: Magatzem neteja i jardineria | C14: Parc Pompeu Fabra, s/n | D14: Les Roquetes | E14: 0 | G14: =(E14*$E$95) -> 0 | H14: =SUM(G6:G14) -> 0
B16: BENESTAR SOCIAL 11100 231 21300
A17: 10 | B17: Casal avis Ribes | C17: Carrer Nou, 40-46 | D17: Ribes | E17: 0 | G17: =(E17*$E$95) -> 0
A18: 11 | B18: Casal avis Roquetes | C18: Carrer Roger de Flor, 53 | D18: Les Roquetes | E18: 0 | G18: =(E18*$E$95) -> 0
A19: 12 | B19: Centre de dia | C19: Carrer Roger de Flor, 53 | D19: Les Roquetes | E19: 0 | G19: =(E19*$E$95) -> 0
A20: 13 | B20: Centre obert grup joves | C20: Carrer Gaudi, 1, local 11 | D20: Les Roquetes | E20: 0 | G20: =(E20*$E$95) -> 0
A21: 14 | B21: Local Creu Roja | C21: Carrer Miquel Servet | D21: Les Roquetes | E21: 0 | G21: =(E21*$E$95) -> 0
A22: 15 | B22: Banc d'aliments | C22: Plaça Vinya d'en Petaca, 2 local 1 | D22: Les Roquetes | E22: 0 | G22: =(E22*$E$95) -> 0 | H22: =SUM(G17:G22) -> 0
B24: PROMOCIÓ ECONÒMICA 35000 433 21300
A25: 16 | B25: Casa del terme | C25: Sota-ribes | D25: Ribes | E25: 0 | G25: =(E25*$E$95) -> 0
A26: 17 | B26: Centre interpretació americanos | C26: Plaça de la Vila, 3 | D26: Ribes | E26: 0 | G26: =(E26*$E$95) -> 0
A27: 18 | B27: Espai Cuina | C27: Carrer de Roger de Flor, 31 | D27: Ribes | E27: =30+60 -> 90 | G27: =(E27*$E$95) -> 2878.235
A28: 19 | B28: Espai empresa Roquetes | C28: Carrer Gaudi, 5 | D28: Les Roquetes | E28: 0 | G28: =(E28*$E$95) -> 0 | H28: =SUM(G25:G28) -> 2878.235
B30: CULTURA BIBLIOTEQUES 12100 3321 21300
A31: 20 | B31: Biblioteca Manel de Pedrolo | C31: Plaça poeta Maria Mercè Marçal, 1 | D31: Ribes | E31: 0 | G31: =(E31*$E$95) -> 0
A32: 21 | B32: Biblioteca Josep Pla | C32: Carrer Gaudi, 1 | D32: Les Roquetes | E32: 0 | G32: =(E32*$E$95) -> 0 | H32: =SUM(G31:G32) -> 0
B34: CULTURA EL LOCAL 12100 333 21300 Projecte 2021_02_0018
A35: 22 | B35: El Local | C35: Carrer Eduard Maristany | D35: Ribes | E35: 0 | G35: =(E35*$E$95) -> 0 | H35: =SUM(G35) -> 0
G36: =(E36*$E$95) -> 0
B37: CULTURA L'ESPAI 12100 333 21300 Projecte 2021_02_0017 | G37: =(E37*$E$95) -> 0
A38: 23 | B38: Centre Civic L'espai | C38: Parc Pompeu Fabra, s/n | D38: Les Roquetes | E38: 0 | G38: =(E38*$E$95) -> 0 | H38: =SUM(G38) -> 0
B40: CULTURA LA BÒBILA 12100 333 21300 Projecte 2021_02_0015
A41: 24 | B41: Teatre La Bòbila | C41: Carrer Hernán Cortés, 14 | D41: Les Roquetes | E41: 0 | G41: =(E41*$E$95) -> 0 | H41: =SUM(G41) -> 0
B43: CULTURA PATRIMONI 12100 336 21300 Projecte 2021_02_0016
A44: 25 | B44: Museu del Castell | C44: Sota-ribes | D44: Ribes | E44: 0 | G44: =(E44*$E$95) -> 0
A45: 26 | B45: Ermita Sant Pau | C45: Sant Pau | D45: Ribes | E45: 0 | G45: =(E45*$E$95) -> 0 | H45: =SUM(G44:G45) -> 0
B47: CULTURA ALTRES EQUIPAMENTS 12100 333 21300
A48: 27 | B48: Antic Escorxador | C48: Carrer Escorxador, 7 | D48: Ribes | E48: 0 | G48: =(E48*$E$95) -> 0
A49: 28 | B49: Local de Cultura-Antic CAP | C49: Carrer Antoni Maria Claret, 3 baixos | D49: Ribes | E49: 0 | G49: =(E49*$E$95) -> 0
...

Sheet Fontaneria
B2: Edifici / Equipament | C2: Adreça | D2: Nucli | E2: Fontaneria 1 | F2: Fontaneria 2 | G2: Fontaneria 3 | I2: Cost edifici | J2: Cost total
B5: EDIFICIS MUNICIPALS 32200 920 21300
A6: 1 | B6: Casa de la Vila | C6: Plaça de la Vila, 1 | D6: Ribes | E6: 0 | F6: 1 | G6: 0 | I6: =(E6*$E$95)+(F6*$E$96)+(G6*$E$97) -> 85.262298
A7: 2 | B7: Can Puig | C7: Carrer Major, 110 | D7: Ribes | E7: 1 | F7: 0 | G7: 0 | I7: =(E7*$E$95)+(F7*$E$96)+(G7*$E$97) -> 170.5246
A8: 3 | B8: Jutjat de Pau | C8: Carrer Eduard Maristany, 14 | D8: Ribes | E8: 0 | F8: 1 | G8: 0 | I8: =(E8*$E$95)+(F8*$E$96)+(G8*$E$97) -> 85.262298
A9: 4 | B9: Can Pau Roig | C9: Carrer de la torreta, 15 | D9: Ribes | E9: 0 | F9: 0 | G9: 1 | I9: =(E9*$E$95)+(F9*$E$96)+(G9*$E$97) -> 56.841532
A10: 5 | B10: Antena informàtica i policia | C10: Montgròs | D10: Ribes | E10: 0 | F10: 0 | G10: 0 | I10: =(E10*$E$95)+(F10*$E$96)+(G10*$E$97) -> 0
A11: 6 | B11: Edifici Vinya d'en Petaca | C11: Plaça Vinya d'en Petaca, s/n | D11: Les Roquetes | E11: 1 | F11: 0 | G11: 0 | I11: =(E11*$E$95)+(F11*$E$96)+(G11*$E$97) -> 170.5246
A12: 7 | B12: Local magatzem neteja viària | C12: Plaça Vinya d'en Petaca, local 7 | D12: Les Roquetes | E12: 0 | F12: 0 | G12: 1 | I12: =(E12*$E$95)+(F12*$E$96)+(G12*$E$97) -> 56.841532
A13: 8 | B13: Nau brigada / serveis / deixalleria | C13: Carrer Boters, s/n | D13: Les Roquetes | E13: 0 | F13: 1 | G13: 0 | I13: =(E13*$E$95)+(F13*$E$96)+(G13*$E$97) -> 85.262298
A14: 9 | B14: Magatzem neteja i jardineria | C14: Parc Pompeu Fabra, s/n | D14: Les Roquetes | E14: 0 | F14: 0 | G14: 1 | I14: =(E14*$E$95)+(F14*$E$96)+(G14*$E$97) -> 56.841532 | J14: =SUM(I6:I14) -> 767.36068
B16: BENESTAR SOCIAL 11100 231 21300
A17: 10 | B17: Casal avis Ribes | C17: Carrer Nou, 40-46 | D17: Ribes | E17: 0 | F17: 1 | G17: 0 | I17: =(E17*$E$95)+(F17*$E$96)+(G17*$E$97) -> 85.262298
A18: 11 | B18: Casal avis Roquetes | C18: Carrer Roger de Flor, 53 | D18: Les Roquetes | E18: 1 | F18: 0 | G18: 0 | I18: =(E18*$E$95)+(F18*$E$96)+(G18*$E$97) -> 170.5246
A19: 12 | B19: Centre de dia | C19: Carrer Roger de Flor, 53 | D19: Les Roquetes | E19: 1 | F19: 0 | G19: 0 | I19: =(E19*$E$95)+(F19*$E$96)+(G19*$E$97) -> 170.5246
A20: 13 | B20: Centre obert grup joves | C20: Carrer Gaudi, 1, local 11 | D20: Les Roquetes | E20: 0 | F20: 1 | G20: 0 | I20: =(E20*$E$95)+(F20*$E$96)+(G20*$E$97) -> 85.262298
A21: 14 | B21: Local Creu Roja | C21: Carrer Miquel Servet | D21: Les Roquetes | E21: 0 | F21: 1 | G21: 0 | I21: =(E21*$E$95)+(F21*$E$96)+(G21*$E$97) -> 85.262298
A22: 15 | B22: Banc d'aliments | C22: Plaça Vinya d'en Petaca, 2 local 1 | D22: Les Roquetes | E22: 0 | F22: 0 | G22: 1 | I22: =(E22*$E$95)+(F22*$E$96)+(G22*$E$97) -> 56.841532 | J22: =SUM(I17:I22) -> 653.67762
B24: PROMOCIÓ ECONÒMICA 35000 433 21300
A25: 16 | B25: Casa del terme | C25: Sota-ribes | D25: Ribes | E25: 0 | F25: 1 | G25: 0 | I25: =(E25*$E$95)+(F25*$E$96)+(G25*$E$97) -> 85.262298
A26: 17 | B26: Centre interpretació americanos | C26: Plaça de la Vila, 3 | D26: Ribes | E26: 0 | F26: 1 | G26: 0 | I26: =(E26*$E$95)+(F26*$E$96)+(G26*$E$97) -> 85.262298
A27: 18 | B27: Espai Cuina | C27: Carrer de Roger de Flor, 31 | D27: Ribes | E27: 0 | F27: 0 | G27: 0 | I27: =(E27*$E$95)+(F27*$E$96)+(G27*$E$97) -> 0
A28: 19 | B28: Espai empresa Roquetes | C28: Carrer Gaudi, 5 | D28: Les Roquetes | E28: 0 | F28: 1 | G28: 0 | I28: =(E28*$E$95)+(F28*$E$96)+(G28*$E$97) -> 85.262298 | J28: =SUM(I25:I28) -> 255.78689
B30: CULTURA BIBLIOTEQUES 12100 3321 21300
A31: 20 | B31: Biblioteca Manel de Pedrolo | C31: Plaça poeta Maria Mercè Marçal, 1 | D31: Ribes | E31: 0 | F31: 1 | G31: 0 | I31: =(E31*$E$95)+(F31*$E$96)+(G31*$E$97) -> 85.262298
A32: 21 | B32: Biblioteca Josep Pla | C32: Carrer Gaudi, 1 | D32: Les Roquetes | E32: 0 | F32: 1 | G32: 0 | I32: =(E32*$E$95)+(F32*$E$96)+(G32*$E$97) -> 85.262298 | J32: =SUM(I31:I32) -> 170.5246
B34: CULTURA EL LOCAL 12100 333 21300 Projecte 2021_02_0018
A35: 22 | B35: El Local | C35: Carrer Eduard Maristany | D35: Ribes | E35: 0 | F35: 1 | G35: 0 | I35: =(E35*$E$95)+(F35*$E$96)+(G35*$E$97) -> 85.262298 | J35: =SUM(I35) -> 85.262298
B37: CULTURA L'ESPAI 12100 333 21300 Projecte 2021_02_0017
A38: 23 | B38: Centre Civic L'espai | C38: Parc Pompeu Fabra, s/n | D38: Les Roquetes | E38: 1 | F38: 0 | G38: 0 | I38: =(E38*$E$95)+(F38*$E$96)+(G38*$E$97) -> 170.5246 | J38: =SUM(I38) -> 170.5246
B40: CULTURA LA BÒBILA 12100 333 21300 Projecte 2021_02_0015
A41: 24 | B41: Teatre La Bòbila | C41: Carrer Hernán Cortés, 14 | D41: Les Roquetes | E41: 0 | F41: 1 | G41: 0 | I41: =(E41*$E$95)+(F41*$E$96)+(G41*$E$97) -> 85.262298 | J41: =SUM(I41) -> 85.262298
B43: CULTURA PATRIMONI 12100 336 21300 Projecte 2021_02_0016
A44: 25 | B44: Museu del Castell | C44: Sota-ribes | D44: Ribes | E44: 0 | F44: 1 | G44: 0 | I44: =(E44*$E$95)+(F44*$E$96)+(G44*$E$97) -> 85.262298
A45: 26 | B45: Ermita Sant Pau | C45: Sant Pau | D45: Ribes | E45: 0 | F45: 1 | G45: 0 | I45: =(E45*$E$95)+(F45*$E$96)+(G45*$E$97) -> 85.262298 | J45: =SUM(I44:I45) -> 170.5246
B47: CULTURA ALTRES EQUIPAMENTS 12100 333 21300
A48: 27 | B48: Antic Escorxador | C48: Carrer Escorxador, 7 | D48: Ribes | E48: 0 | F48: 1 | G48: 0 | I48: =(E48*$E$95)+(F48*$E$96)+(G48*$E$97) -> 85.262298
A49: 28 | B49: Local de Cultura-Antic CAP | C49: Carrer Antoni Maria Claret, 3 baixos | D49: Ribes | E49: 0 | F49: 1 | G49: 0 | I49: =(E49*$E$95)+(F49*$E$96)+(G49*$E$97) -> 85.262298
A50: 29 | B50: Centre Puigmoltó | C50: Puigmoltó, 9 | D50: Ribes | E50: 0 | F50: 1 | G50: 0 | I50: =(E50*$E$95)+(F50*$E$96)+(G50*$E$97) -> 85.262298
A51: 30 | B51: Casa Andalusia / Penya / UCER | C51: Carrer Miquel Àngel, 24, locals | D51: Les Roquetes | E51: 0 | F51: 1 | G51: 0 | I51: =(E51*$E$95)+(F51*$E$96)+(G51*$E$97) -> 85.262298 | J51: =SUM(I48:I51) -> 341.04919
...

Sheet Generadors
B2: Edifici / Equipament | C2: Adreça | D2: Nucli | E2: Anual grups electrògens | F2: Semestral grups electrògens | G2: Bianual grups electrògens | I2: Cost edifici | J2: Cost total
B5: EDIFICIS MUNICIPALS 32200 920 21300
A6: 1 | B6: Casa de la Vila | C6: Plaça de la Vila, 1 | D6: Ribes | E6: 1 | F6: 2 | G6: 2 | I6: =(E6*$E$95)+(F6*$E$96)+(G6*$E$97) -> 1175
A7: 2 | B7: Can Puig | C7: Carrer Major, 110 | D7: Ribes | E7: 0 | F7: 0 | G7: 0 | I7: =(E7*$E$95)+(F7*$E$96)+(G7*$E$97) -> 0
A8: 3 | B8: Jutjat de Pau | C8: Carrer Eduard Maristany, 14 | D8: Ribes | E8: 0 | F8: 0 | G8: 0 | I8: =(E8*$E$95)+(F8*$E$96)+(G8*$E$97) -> 0
A9: 4 | B9: Can Pau Roig | C9: Carrer de la torreta, 15 | D9: Ribes | E9: 0 | F9: 0 | G9: 0 | I9: =(E9*$E$95)+(F9*$E$96)+(G9*$E$97) -> 0
A10: 5 | B10: Antena informàtica i policia | C10: Montgròs | D10: Ribes | E10: 0 | F10: 0 | G10: 0 | I10: =(E10*$E$95)+(F10*$E$96)+(G10*$E$97) -> 0
A11: 6 | B11: Edifici Vinya d'en Petaca | C11: Plaça Vinya d'en Petaca, s/n | D11: Les Roquetes | E11: 0 | F11: 0 | G11: 0 | I11: =(E11*$E$95)+(F11*$E$96)+(G11*$E$97) -> 0
A12: 7 | B12: Local magatzem neteja viària | C12: Plaça Vinya d'en Petaca, local 7 | D12: Les Roquetes | E12: 0 | F12: 0 | G12: 0 | I12: =(E12*$E$95)+(F12*$E$96)+(G12*$E$97) -> 0
A13: 8 | B13: Nau brigada / serveis / deixalleria | C13: Carrer Boters, s/n | D13: Les Roquetes | E13: 0 | F13: 0 | G13: 0 | I13: =(E13*$E$95)+(F13*$E$96)+(G13*$E$97) -> 0
A14: 9 | B14: Magatzem neteja i jardineria | C14: Parc Pompeu Fabra, s/n | D14: Les Roquetes | E14: 0 | F14: 0 | G14: 0 | I14: =(E14*$E$95)+(F14*$E$96)+(G14*$E$97) -> 0 | J14: =SUM(I6:I14) -> 1175
B16: BENESTAR SOCIAL 11100 231 21300
A17: 10 | B17: Casal avis Ribes | C17: Carrer Nou, 40-46 | D17: Ribes | E17: 0 | F17: 0 | G17: 0 | I17: =(E17*$E$95)+(F17*$E$96)+(G17*$E$97) -> 0
A18: 11 | B18: Casal avis Roquetes | C18: Carrer Roger de Flor, 53 | D18: Les Roquetes | E18: 0 | F18: 0 | G18: 0 | I18: =(E18*$E$95)+(F18*$E$96)+(G18*$E$97) -> 0
A19: 12 | B19: Centre de dia | C19: Carrer Roger de Flor, 53 | D19: Les Roquetes | E19: 0 | F19: 0 | G19: 0 | I19: =(E19*$E$95)+(F19*$E$96)+(G19*$E$97) -> 0
A20: 13 | B20: Centre obert grup joves | C20: Carrer Gaudi, 1, local 11 | D20: Les Roquetes | E20: 0 | F20: 0 | G20: 0 | I20: =(E20*$E$95)+(F20*$E$96)+(G20*$E$97) -> 0
A21: 14 | B21: Local Creu Roja | C21: Carrer Miquel Servet | D21: Les Roquetes | E21: 0 | F21: 0 | G21: 0 | I21: =(E21*$E$95)+(F21*$E$96)+(G21*$E$97) -> 0
A22: 15 | B22: Banc d'aliments | C22: Plaça Vinya d'en Petaca, 2 local 1 | D22: Les Roquetes | E22: 0 | F22: 0 | G22: 0 | I22: =(E22*$E$95)+(F22*$E$96)+(G22*$E$97) -> 0 | J22: =SUM(I17:I22) -> 0
B24: PROMOCIÓ ECONÒMICA 35000 433 21300
A25: 16 | B25: Casa del terme | C25: Sota-ribes | D25: Ribes | E25: 0 | F25: 0 | G25: 0 | I25: =(E25*$E$95)+(F25*$E$96)+(G25*$E$97) -> 0
A26: 17 | B26: Centre interpretació americanos | C26: Plaça de la Vila, 3 | D26: Ribes | E26: 0 | F26: 0 | G26: 0 | I26: =(E26*$E$95)+(F26*$E$96)+(G26*$E$97) -> 0
A27: 18 | B27: Espai Cuina | C27: Carrer de Roger de Flor, 31 | D27: Ribes | E27: 0 | F27: 0 | G27: 0 | I27: =(E27*$E$95)+(F27*$E$96)+(G27*$E$97) -> 0
A28: 19 | B28: Espai empresa Roquetes | C28: Carrer Gaudi, 5 | D28: Les Roquetes | E28: 0 | F28: 0 | G28: 0 | I28: =(E28*$E$95)+(F28*$E$96)+(G28*$E$97) -> 0 | J28: =SUM(I25:I28) -> 0
B30: CULTURA BIBLIOTEQUES 12100 3321 21300
A31: 20 | B31: Biblioteca Manel de Pedrolo | C31: Plaça poeta Maria Mercè Marçal, 1 | D31: Ribes | E31: 0 | F31: 0 | G31: 0 | I31: =(E31*$E$95)+(F31*$E$96)+(G31*$E$97) -> 0
A32: 21 | B32: Biblioteca Josep Pla | C32: Carrer Gaudi, 1 | D32: Les Roquetes | E32: 0 | F32: 0 | G32: 0 | I32: =(E32*$E$95)+(F32*$E$96)+(G32*$E$97) -> 0 | J32: =SUM(I31:I32) -> 0
B34: CULTURA EL LOCAL 12100 333 21300 Projecte 2021_02_0018
A35: 22 | B35: El Local | C35: Carrer Eduard Maristany | D35: Ribes | E35: 0 | F35: 0 | G35: 0 | I35: =(E35*$E$95)+(F35*$E$96)+(G35*$E$97) -> 0 | J35: =SUM(I35) -> 0
B37: CULTURA L'ESPAI 12100 333 21300 Projecte 2021_02_0017
A38: 23 | B38: Centre Civic L'espai | C38: Parc Pompeu Fabra, s/n | D38: Les Roquetes | E38: 0 | F38: 0 | G38: 0 | I38: =(E38*$E$95)+(F38*$E$96)+(G38*$E$97) -> 0 | J38: =SUM(I38) -> 0
B40: CULTURA LA BÒBILA 12100 333 21300 Projecte 2021_02_0015
A41: 24 | B41: Teatre La Bòbila | C41: Carrer Hernán Cortés, 14 | D41: Les Roquetes | E41: 1 | F41: 2 | G41: 2 | I41: =(E41*$E$95)+(F41*$E$96)+(G41*$E$97) -> 1175 | J41: =SUM(I41) -> 1175
B43: CULTURA PATRIMONI 12100 336 21300 Projecte 2021_02_0016
A44: 25 | B44: Museu del Castell | C44: Sota-ribes | D44: Ribes | E44: 0 | F44: 0 | G44: 0 | I44: =(E44*$E$95)+(F44*$E$96)+(G44*$E$97) -> 0
A45: 26 | B45: Ermita Sant Pau | C45: Sant Pau | D45: Ribes | E45: 0 | F45: 0 | G45: 0 | I45: =(E45*$E$95)+(F45*$E$96)+(G45*$E$97) -> 0 | J45: =SUM(I44:I45) -> 0
B47: CULTURA ALTRES EQUIPAMENTS 12100 333 21300
A48: 27 | B48: Antic Escorxador | C48: Carrer Escorxador, 7 | D48: Ribes | E48: 0 | F48: 0 | G48: 0 | I48: =(E48*$E$95)+(F48*$E$96)+(G48*$E$97) -> 0
A49: 28 | B49: Local de Cultura-Antic CAP | C49: Carrer Antoni Maria Claret, 3 baixos | D49: Ribes | E49: 0 | F49: 0 | G49: 0 | I49: =(E49*$E$95)+(F49*$E$96)+(G49*$E$97) -> 0
A50: 29 | B50: Centre Puigmoltó | C50: Puigmoltó, 9 | D50: Ribes | E50: 0 | F50: 0 | G50: 0 | I50: =(E50*$E$95)+(F50*$E$96)+(G50*$E$97) -> 0
A51: 30 | B51: Casa Andalusia / Penya / UCER | C51: Carrer Miquel Àngel, 24, locals | D51: Les Roquetes | E51: 0 | F51: 0 | G51: 0 | I51: =(E51*$E$95)+(F51*$E$96)+(G51*$E$97) -> 0 | J51: =SUM(I48:I51) -> 0
...

Sheet Biomassa
B2: Edifici / Equipament | C2: Adreça | D2: Nucli | E2: Biomassa | G2: Cost edifici | H2: Cost total
E3: Electricitat > 50
B5: EDIFICIS MUNICIPALS 32200 920 21300
A6: 1 | B6: Casa de la Vila | C6: Plaça de la Vila, 1 | D6: Ribes | E6: 0 | G6: =(E6*$E$95) -> 0
A7: 2 | B7: Can Puig | C7: Carrer Major, 110 | D7: Ribes | E7: 0 | G7: =(E7*$E$95) -> 0
A8: 3 | B8: Jutjat de Pau | C8: Carrer Eduard Maristany, 14 | D8: Ribes | E8: 0 | G8: =(E8*$E$95) -> 0
A9: 4 | B9: Can Pau Roig | C9: Carrer de la torreta, 15 | D9: Ribes | E9: 0 | G9: =(E9*$E$95) -> 0
A10: 5 | B10: Antena informàtica i policia | C10: Montgròs | D10: Ribes | E10: 0 | G10: =(E10*$E$95) -> 0
A11: 6 | B11: Edifici Vinya d'en Petaca | C11: Plaça Vinya d'en Petaca, s/n | D11: Les Roquetes | E11: 0 | G11: =(E11*$E$95) -> 0
A12: 7 | B12: Local magatzem neteja viària | C12: Plaça Vinya d'en Petaca, local 7 | D12: Les Roquetes | E12: 0 | G12: =(E12*$E$95) -> 0
A13: 8 | B13: Nau brigada / serveis / deixalleria | C13: Carrer Boters, s/n | D13: Les Roquetes | E13: 0 | G13: =(E13*$E$95) -> 0
A14: 9 | B14: Magatzem neteja i jardineria | C14: Parc Pompeu Fabra, s/n | D14: Les Roquetes | E14: 0 | G14: =(E14*$E$95) -> 0 | H14: =SUM(G6:G14) -> 0
B16: BENESTAR SOCIAL 11100 231 21300
A17: 10 | B17: Casal avis Ribes | C17: Carrer Nou, 40-46 | D17: Ribes | E17: 0 | G17: =(E17*$E$95) -> 0
A18: 11 | B18: Casal avis Roquetes | C18: Carrer Roger de Flor, 53 | D18: Les Roquetes | E18: 0 | G18: =(E18*$E$95) -> 0
A19: 12 | B19: Centre de dia | C19: Carrer Roger de Flor, 53 | D19: Les Roquetes | E19: 0 | G19: =(E19*$E$95) -> 0
A20: 13 | B20: Centre obert grup joves | C20: Carrer Gaudi, 1, local 11 | D20: Les Roquetes | E20: 0 | G20: =(E20*$E$95) -> 0
A21: 14 | B21: Local Creu Roja | C21: Carrer Miquel Servet | D21: Les Roquetes | E21: 0 | G21: =(E21*$E$95) -> 0
A22: 15 | B22: Banc d'aliments | C22: Plaça Vinya d'en Petaca, 2 local 1 | D22: Les Roquetes | E22: 0 | G22: =(E22*$E$95) -> 0 | H22: =SUM(G17:G22) -> 0
B24: PROMOCIÓ ECONÒMICA 35000 433 21300
A25: 16 | B25: Casa del terme | C25: Sota-ribes | D25: Ribes | E25: 0 | G25: =(E25*$E$95) -> 0
A26: 17 | B26: Centre interpretació americanos | C26: Plaça de la Vila, 3 | D26: Ribes | E26: 0 | G26: =(E26*$E$95) -> 0
A27: 18 | B27: Espai Cuina | C27: Carrer de Roger de Flor, 31 | D27: Ribes | E27: 0 | G27: =(E27*$E$95) -> 0
A28: 19 | B28: Espai empresa Roquetes | C28: Carrer Gaudi, 5 | D28: Les Roquetes | E28: 0 | G28: =(E28*$E$95) -> 0 | H28: =SUM(G25:G28) -> 0
B30: CULTURA BIBLIOTEQUES 12100 3321 21300
A31: 20 | B31: Biblioteca Manel de Pedrolo | C31: Plaça poeta Maria Mercè Marçal, 1 | D31: Ribes | E31: 0 | G31: =(E31*$E$95) -> 0
A32: 21 | B32: Biblioteca Josep Pla | C32: Carrer Gaudi, 1 | D32: Les Roquetes | E32: 0 | G32: =(E32*$E$95) -> 0 | H32: =SUM(G31:G32) -> 0
B34: CULTURA EL LOCAL 12100 333 21300 Projecte 2021_02_0018
A35: 22 | B35: El Local | C35: Carrer Eduard Maristany | D35: Ribes | E35: 0 | G35: =(E35*$E$95) -> 0 | H35: =SUM(G35) -> 0
G36: =(E36*$E$95) -> 0
B37: CULTURA L'ESPAI 12100 333 21300 Projecte 2021_02_0017 | G37: =(E37*$E$95) -> 0
A38: 23 | B38: Centre Civic L'espai | C38: Parc Pompeu Fabra, s/n | D38: Les Roquetes | E38: 0 | G38: =(E38*$E$95) -> 0 | H38: =SUM(G38) -> 0
B40: CULTURA LA BÒBILA 12100 333 21300 Projecte 2021_02_0015
A41: 24 | B41: Teatre La Bòbila | C41: Carrer Hernán Cortés, 14 | D41: Les Roquetes | E41: 0 | G41: =(E41*$E$95) -> 0 | H41: =SUM(G41) -> 0
B43: CULTURA PATRIMONI 12100 336 21300 Projecte 2021_02_0016
A44: 25 | B44: Museu del Castell | C44: Sota-ribes | D44: Ribes | E44: 0 | G44: =(E44*$E$95) -> 0
A45: 26 | B45: Ermita Sant Pau | C45: Sant Pau | D45: Ribes | E45: 0 | G45: =(E45*$E$95) -> 0 | H45: =SUM(G44:G45) -> 0
B47: CULTURA ALTRES EQUIPAMENTS 12100 333 21300
A48: 27 | B48: Antic Escorxador | C48: Carrer Escorxador, 7 | D48: Ribes | E48: 0 | G48: =(E48*$E$95) -> 0
A49: 28 | B49: Local de Cultura-Antic CAP | C49: Carrer Antoni Maria Claret, 3 baixos | D49: Ribes | E49: 0 | G49: =(E49*$E$95) -> 0
...

Sheet Ascensors
B2: Edifici / Equipament | C2: Adreça | D2: Nucli | E2: ASCENSOR | F2: MUNTACÀRREGUES | G2: PORTA AUTOMÀTICA | H2: MUNTAPLATS | J2: Cost edifici | K2: Cost total
B5: EDIFICIS MUNICIPALS 32200 920 21300
A6: 1 | B6: Casa de la Vila | C6: Plaça de la Vila, 1 | D6: Ribes | E6: 1 | F6: 0 | G6: 2 | H6: 0 | J6: =(E6*$E$95)+(F6*$E$96)+(G6*$E$97)+(H6*$E$98) -> 1970
A7: 2 | B7: Can Puig | C7: Carrer Major, 110 | D7: Ribes | E7: 1 | F7: 0 | G7: 2 | H7: 0 | J7: =(E7*$E$95)+(F7*$E$96)+(G7*$E$97)+(H7*$E$98) -> 1970
A8: 3 | B8: Jutjat de Pau | C8: Carrer Eduard Maristany, 14 | D8: Ribes | E8: 0 | F8: 0 | G8: 0 | H8: 0 | J8: =(E8*$E$95)+(F8*$E$96)+(G8*$E$97)+(H8*$E$98) -> 0
A9: 4 | B9: Can Pau Roig | C9: Carrer de la torreta, 15 | D9: Ribes | E9: 0 | F9: 0 | G9: 0 | H9: 0 | J9: =(E9*$E$95)+(F9*$E$96)+(G9*$E$97)+(H9*$E$98) -> 0
A10: 5 | B10: Antena informàtica i policia | C10: Montgròs | D10: Ribes | E10: 0 | F10: 0 | G10: 0 | H10: 0 | J10: =(E10*$E$95)+(F10*$E$96)+(G10*$E$97)+(H10*$E$98) -> 0
A11: 6 | B11: Edifici Vinya d'en Petaca | C11: Plaça Vinya d'en Petaca, s/n | D11: Les Roquetes | E11: 1 | F11: 0 | G11: 0 | H11: 0 | J11: =(E11*$E$95)+(F11*$E$96)+(G11*$E$97)+(H11*$E$98) -> 870
A12: 7 | B12: Local magatzem neteja viària | C12: Plaça Vinya d'en Petaca, local 7 | D12: Les Roquetes | E12: 0 | F12: 0 | G12: 0 | H12: 0 | J12: =(E12*$E$95)+(F12*$E$96)+(G12*$E$97)+(H12*$E$98) -> 0
A13: 8 | B13: Nau brigada / serveis / deixalleria | C13: Carrer Boters, s/n | D13: Les Roquetes | E13: 0 | F13: 0 | G13: 0 | H13: 0 | J13: =(E13*$E$95)+(F13*$E$96)+(G13*$E$97)+(H13*$E$98) -> 0
A14: 9 | B14: Magatzem neteja i jardineria | C14: Parc Pompeu Fabra, s/n | D14: Les Roquetes | E14: 0 | F14: 0 | G14: 0 | H14: 0 | J14: =(E14*$E$95)+(F14*$E$96)+(G14*$E$97)+(H14*$E$98) -> 0 | K14: =SUM(J6:J14) -> 4810
B16: BENESTAR SOCIAL 11100 231 21300
A17: 10 | B17: Casal avis Ribes | C17: Carrer Nou, 40-46 | D17: Ribes | E17: 1 | F17: 0 | G17: 0 | H17: 0 | J17: =(E17*$E$95)+(F17*$E$96)+(G17*$E$97)+(H17*$E$98) -> 870
A18: 11 | B18: Casal avis Roquetes | C18: Carrer Roger de Flor, 53 | D18: Les Roquetes | E18: 0 | F18: 0 | G18: 0 | H18: 0 | J18: =(E18*$E$95)+(F18*$E$96)+(G18*$E$97)+(H18*$E$98) -> 0
A19: 12 | B19: Centre de dia | C19: Carrer Roger de Flor, 53 | D19: Les Roquetes | E19: 0 | F19: 0 | G19: 0 | H19: 0 | J19: =(E19*$E$95)+(F19*$E$96)+(G19*$E$97)+(H19*$E$98) -> 0
A20: 13 | B20: Centre obert grup joves | C20: Carrer Gaudi, 1, local 11 | D20: Les Roquetes | E20: 0 | F20: 0 | G20: 0 | H20: 0 | J20: =(E20*$E$95)+(F20*$E$96)+(G20*$E$97)+(H20*$E$98) -> 0
A21: 14 | B21: Local Creu Roja | C21: Carrer Miquel Servet | D21: Les Roquetes | E21: 0 | F21: 0 | G21: 0 | H21: 0 | J21: =(E21*$E$95)+(F21*$E$96)+(G21*$E$97)+(H21*$E$98) -> 0
A22: 15 | B22: Banc d'aliments | C22: Plaça Vinya d'en Petaca, 2 local 1 | D22: Les Roquetes | E22: 0 | F22: 1 | G22: 0 | H22: 0 | J22: =(E22*$E$95)+(F22*$E$96)+(G22*$E$97)+(H22*$E$98) -> 600 | K22: =SUM(J17:J22) -> 1470
B24: PROMOCIÓ ECONÒMICA 35000 433 21300
A25: 16 | B25: Casa del terme | C25: Sota-ribes | D25: Ribes | E25: 0 | F25: 0 | G25: 0 | H25: 0 | J25: =(E25*$E$95)+(F25*$E$96)+(G25*$E$97)+(H25*$E$98) -> 0
A26: 17 | B26: Centre interpretació americanos | C26: Plaça de la Vila, 3 | D26: Ribes | E26: 0 | F26: 0 | G26: 1 | H26: 0 | J26: =(E26*$E$95)+(F26*$E$96)+(G26*$E$97)+(H26*$E$98) -> 550
A27: 18 | B27: Espai Cuina | C27: Carrer de Roger de Flor, 31 | D27: Ribes | E27: 0 | F27: 0 | G27: 0 | H27: 0 | J27: =(E27*$E$95)+(F27*$E$96)+(G27*$E$97)+(H27*$E$98) -> 0
A28: 19 | B28: Espai empresa Roquetes | C28: Carrer Gaudi, 5 | D28: Les Roquetes | E28: 0 | F28: 0 | G28: 0 | H28: 0 | J28: =(E28*$E$95)+(F28*$E$96)+(G28*$E$97)+(H28*$E$98) -> 0 | K28: =SUM(J25:J28) -> 550
B30: CULTURA BIBLIOTEQUES 12100 3321 21300
A31: 20 | B31: Biblioteca Manel de Pedrolo | C31: Plaça poeta Maria Mercè Marçal, 1 | D31: Ribes | E31: 1 | F31: 0 | G31: 0 | H31: 0 | J31: =(E31*$E$95)+(F31*$E$96)+(G31*$E$97)+(H31*$E$98) -> 870
A32: 21 | B32: Biblioteca Josep Pla | C32: Carrer Gaudi, 1 | D32: Les Roquetes | E32: 1 | F32: 0 | G32: 1 | H32: 0 | J32: =(E32*$E$95)+(F32*$E$96)+(G32*$E$97)+(H32*$E$98) -> 1420 | K32: =SUM(J31:J32) -> 2290
B34: CULTURA EL LOCAL 12100 333 21300 Projecte 2021_02_0018
A35: 22 | B35: El Local | C35: Carrer Eduard Maristany | D35: Ribes | E35: 1 | F35: 0 | G35: 0 | H35: 0 | J35: =(E35*$E$95)+(F35*$E$96)+(G35*$E$97)+(H35*$E$98) -> 870 | K35: =SUM(J35) -> 870
B37: CULTURA L'ESPAI 12100 333 21300 Projecte 2021_02_0017
A38: 23 | B38: Centre Civic L'espai | C38: Parc Pompeu Fabra, s/n | D38: Les Roquetes | E38: 0 | F38: 0 | G38: 1 | H38: 0 | J38: =(E38*$E$95)+(F38*$E$96)+(G38*$E$97)+(H38*$E$98) -> 550 | K38: =SUM(J38) -> 550
B40: CULTURA LA BÒBILA 12100 333 21300 Projecte 2021_02_0015
A41: 24 | B41: Teatre La Bòbila | C41: Carrer Hernán Cortés, 14 | D41: Les Roquetes | E41: 1 | F41: 0 | G41: 0 | H41: 0 | J41: =(E41*$E$95)+(F41*$E$96)+(G41*$E$97)+(H41*$E$98) -> 870 | K41: =SUM(J41) -> 870
B43: CULTURA PATRIMONI 12100 336 21300 Projecte 2021_02_0016
A44: 25 | B44: Museu del Castell | C44: Sota-ribes | D44: Ribes | E44: 0 | F44: 0 | G44: 0 | H44: 0 | J44: =(E44*$E$95)+(F44*$E$96)+(G44*$E$97)+(H44*$E$98) -> 0
A45: 26 | B45: Ermita Sant Pau | C45: Sant Pau | D45: Ribes | E45: 0 | F45: 0 | G45: 0 | H45: 0 | J45: =(E45*$E$95)+(F45*$E$96)+(G45*$E$97)+(H45*$E$98) -> 0 | K45: =SUM(J44:J45) -> 0
B47: CULTURA ALTRES EQUIPAMENTS 12100 333 21300
A48: 27 | B48: Antic Escorxador | C48: Carrer Escorxador, 7 | D48: Ribes | E48: 0 | F48: 0 | G48: 0 | H48: 0 | J48: =(E48*$E$95)+(F48*$E$96)+(G48*$E$97)+(H48*$E$98) -> 0
A49: 28 | B49: Local de Cultura-Antic CAP | C49: Carrer Antoni Maria Claret, 3 baixos | D49: Ribes | E49: 0 | F49: 0 | G49: 0 | H49: 0 | J49: =(E49*$E$95)+(F49*$E$96)+(G49*$E$97)+(H49*$E$98) -> 0
A50: 29 | B50: Centre Puigmoltó | C50: Puigmoltó, 9 | D50: Ribes | E50: 0 | F50: 0 | G50: 0 | H50: 0 | J50: =(E50*$E$95)+(F50*$E$96)+(G50*$E$97)+(H50*$E$98) -> 0
A51: 30 | B51: Casa Andalusia / Penya / UCER | C51: Carrer Miquel Àngel, 24, locals | D51: Les Roquetes | E51: 0 | F51: 0 | G51: 0 | H51: 0 | J51: =(E51*$E$95)+(F51*$E$96)+(G51*$E$97)+(H51*$E$98) -> 0 | K51: =SUM(J48:J51) -> 0
...

Sheet Total
B2: Edifici / Equipament | C2: Adreça | D2: Nucli | F2: Cost edifici | G2: Cost total sense IVA | H2: Cost total IVA inclòs
B5: EDIFICIS MUNICIPALS 32200 920 21300
A6: 1 | B6: Casa de la Vila | C6: Plaça de la Vila, 1 | D6: Ribes | F6: =Electricitat!I6+Parallamps!G6+Climatització!I6+Gas!G6+Calderes!H6+Solar!H6+Fontaneria!I6+Generadors!I6+Fotovoltaica!G6+Biomassa!G6+Ascensors!J6 -> 7060.2447
A7: 2 | B7: Can Puig | C7: Carrer Major, 110 | D7: Ribes | F7: =Electricitat!I7+Parallamps!G7+Climatització!I7+Gas!G7+Calderes!H7+Solar!H7+Fontaneria!I7+Generadors!I7+Fotovoltaica!G7+Biomassa!G7+Ascensors!J7 -> 5540.785
A8: 3 | B8: Jutjat de Pau | C8: Carrer Eduard Maristany, 14 | D8: Ribes | F8: =Electricitat!I8+Parallamps!G8+Climatització!I8+Gas!G8+Calderes!H8+Solar!H8+Fontaneria!I8+Generadors!I8+Fotovoltaica!G8+Biomassa!G8+Ascensors!J8 -> 526.98921
A9: 4 | B9: Can Pau Roig | C9: Carrer de la torreta, 15 | D9: Ribes | F9: =Electricitat!I9+Parallamps!G9+Climatització!I9+Gas!G9+Calderes!H9+Solar!H9+Fontaneria!I9+Generadors!I9+Fotovoltaica!G9+Biomassa!G9+Ascensors!J9 -> 164.84044
A10: 5 | B10: Antena informàtica i policia | C10: Montgròs | D10: Ribes | F10: =Electricitat!I10+Parallamps!G10+Climatització!I10+Gas!G10+Calderes!H10+Solar!H10+Fontaneria!I10+Generadors!I10+Fotovoltaica!G10+Biomassa!G10+Ascensors!J10 -> 261.47105
A11: 6 | B11: Edifici Vinya d'en Petaca | C11: Plaça Vinya d'en Petaca, s/n | D11: Les Roquetes | F11: =Electricitat!I11+Parallamps!G11+Climatització!I11+Gas!G11+Calderes!H11+Solar!H11+Fontaneria!I11+Generadors!I11+Fotovoltaica!G11+Biomassa!G11+Ascensors!J11 -> 8590.2169
A12: 7 | B12: Local magatzem neteja viària | C12: Plaça Vinya d'en Petaca, local 7 | D12: Les Roquetes | F12: =Electricitat!I12+Parallamps!G12+Climatització!I12+Gas!G12+Calderes!H12+Solar!H12+Fontaneria!I12+Generadors!I12+Fotovoltaica!G12+Biomassa!G12+Ascensors!J12 -> 164.84044
A13: 8 | B13: Nau brigada / serveis / deixalleria | C13: Carrer Boters, s/n | D13: Les Roquetes | F13: =Electricitat!I13+Parallamps!G13+Climatització!I13+Gas!G13+Calderes!H13+Solar!H13+Fontaneria!I13+Generadors!I13+Fotovoltaica!G13+Biomassa!G13+Ascensors!J13 -> 316.03892
A14: 9 | B14: Magatzem neteja i jardineria | C14: Parc Pompeu Fabra, s/n | D14: Les Roquetes | F14: =Electricitat!I14+Parallamps!G14+Climatització!I14+Gas!G14+Calderes!H14+Solar!H14+Fontaneria!I14+Generadors!I14+Fotovoltaica!G14+Biomassa!G14+Ascensors!J14 -> 164.84044 | G14: =SUM(F6:F14) -> 22790.267 | H14: =1.21*G14 -> 27576.223
B16: BENESTAR SOCIAL 11100 231 21300
A17: 10 | B17: Casal avis Ribes | C17: Carrer Nou, 40-46 | D17: Ribes | F17: =Electricitat!I17+Parallamps!G17+Climatització!I17+Gas!G17+Calderes!H17+Solar!H17+Fontaneria!I17+Generadors!I17+Fotovoltaica!G17+Biomassa!G17+Ascensors!J17 -> 1858.5425
A18: 11 | B18: Casal avis Roquetes | C18: Carrer Roger de Flor, 53 | D18: Les Roquetes | F18: =Electricitat!I18+Parallamps!G18+Climatització!I18+Gas!G18+Calderes!H18+Solar!H18+Fontaneria!I18+Generadors!I18+Fotovoltaica!G18+Biomassa!G18+Ascensors!J18 -> 1600.1573
A19: 12 | B19: Centre de dia | C19: Carrer Roger de Flor, 53 | D19: Les Roquetes | F19: =Electricitat!I19+Parallamps!G19+Climatització!I19+Gas!G19+Calderes!H19+Solar!H19+Fontaneria!I19+Generadors!I19+Fotovoltaica!G19+Biomassa!G19+Ascensors!J19 -> 1446.6852
A20: 13 | B20: Centre obert grup joves | C20: Carrer Gaudi, 1, local 11 | D20: Les Roquetes | F20: =Electricitat!I20+Parallamps!G20+Climatització!I20+Gas!G20+Calderes!H20+Solar!H20+Fontaneria!I20+Generadors!I20+Fotovoltaica!G20+Biomassa!G20+Ascensors!J20 -> 316.03892
A21: 14 | B21: Local Creu Roja | C21: Carrer Miquel Servet | D21: Les Roquetes | F21: =Electricitat!I21+Parallamps!G21+Climatització!I21+Gas!G21+Calderes!H21+Solar!H21+Fontaneria!I21+Generadors!I21+Fotovoltaica!G21+Biomassa!G21+Ascensors!J21 -> 316.03892
A22: 15 | B22: Banc d'aliments | C22: Plaça Vinya d'en Petaca, 2 local 1 | D22: Les Roquetes | F22: =Electricitat!I22+Parallamps!G22+Climatització!I22+Gas!G22+Calderes!H22+Solar!H22+Fontaneria!I22+Generadors!I22+Fotovoltaica!G22+Biomassa!G22+Ascensors!J22 -> 764.84044 | G22: =SUM(F17:F22) -> 6302.3033 | H22: =1.21*G22 -> 7625.787
B24: PROMOCIÓ ECONÒMICA 35000 433 21300
A25: 16 | B25: Casa del terme | C25: Sota-ribes | D25: Ribes | F25: =Electricitat!I25+Parallamps!G25+Climatització!I25+Gas!G25+Calderes!H25+Solar!H25+Fontaneria!I25+Generadors!I25+Fotovoltaica!G25+Biomassa!G25+Ascensors!J25 -> 409.25903
A26: 17 | B26: Centre interpretació americanos | C26: Plaça de la Vila, 3 | D26: Ribes | F26: =Electricitat!I26+Parallamps!G26+Climatització!I26+Gas!G26+Calderes!H26+Solar!H26+Fontaneria!I26+Generadors!I26+Fotovoltaica!G26+Biomassa!G26+Ascensors!J26 -> 851.26012
A27: 18 | B27: Espai Cuina | C27: Carrer de Roger de Flor, 31 | D27: Ribes | F27: =Electricitat!I27+Parallamps!G27+Climatització!I27+Gas!G27+Calderes!H27+Solar!H27+Fontaneria!I27+Generadors!I27+Fotovoltaica!G27+Biomassa!G27+Ascensors!J27 -> 2878.235
