Workbook

Sheet BASEdades
A2: FEINES PRÈVIES -DEMOLICIONS -PALETERIA
A3: CODI BASE DADES | B3: TÍTOL PARTIDA | C3: UT | D3: DESCRIPCIÓ PARTIDA | E3: mides | F3: CODI REFERÈNCIA | G3: PREU sense IVA
A5: pou drenatge | B5: Pou de drenatge | C5: ut | D5: Formació de pou de drenatge per inflitració de l'aigua superficial al terreny de terra d'argila semidura i reblert amb graves de diàmetre 50mm als primers 70cm i una capa superficial d'ull de perdiu. Inclou p/p de replanteig, excavació manual del terreny de terra d'argila semidura, selecció, replé i compactació del terreny contigu i eliminació i neteja del material sobrant. | E5: .mides: 100x100x100cm | F5: . | G5: 270
A6: pou drenatge 3 | B6: Pou de drenatge | C6: ut | D6: Formació de pou de drenatge per inflitració de l'aigua superficial al terreny de terra d'argila semidura i reblert amb graves de diàmetre 50mm als primers 70cm i una capa superficial d'ull de perdiu. Inclou p/p de replanteig, excavació manual del terreny de terra d'argila semidura, selecció, replé i compactació del terreny contigu i eliminació i neteja del material sobrant. | E6: .mides: 300x300x100cm | F6: . | G6: 1500
A7: transport residus | B7: Transport residus | C7: m3 | D7: Transport de residus inerts o no especials a instal·lació autorizada de gestió de residus, amb contenidor de qualsevol mida de capacitat, amb un recorregut complert fins a la instal·lació autoritzada de gestió del residu. Es considera un increment de 30% de l'amidament en concepte d'esponjament. | E7: . | F7: . | G7: 18.54
A9: deposició residus | B9: Deposició en dipòsit autoritzat | C9: m3 | D9: Deposició controlada en dipòsit autoritzat inclòs el cànon sobre la deposició controlada dels residus de la construcció, segons la LLEI 8/2008, de residus barrejats no perillosos, procedents de construcció o demolició. Es considera un increment de 30% de l'amidament en concepte d'esponjament. | E9: . | F9: . | G9: 20.64
A10: DEMOLICIONS I TALLS
A11: Tall de paviment | B11: Tall de paviment | C11: m | D11: Execució de tall en paviment de qualsevol tipus, de 10cm de fondària com a mínim, amb màquina tallajunts amb disc de diamant per a paviment, per a delimitar la zona a demolir, i càrrega manual sobre camió o contenidor | E11: . | F11: . | G11: 5.7 | H11: canvi descripcio | I11: 5,02(10cm) 5,70(15cm) itec
A12: demolició pista | B12: Demolició de paviment formigó | C12: m2 | D12: Demolició de paviment exterior de formigó armat, mitjançant retroexcavadora amb martell picador. No inclou la demolició de la base suport. Càrrega manual o mecànica de runa sobre camió o contenedor | E12: . | F12: . | G12: 15
A13: demolició solera formigó | B13: Demolició de solera de formigó | C13: m2 | D13: Demolició de solera de formigó en massa de fins a 15cm, mitjançant retroexcavadora amb martell picador. El preu inclou el picat i estesa del material per ser utilitzat com a grava de drenatge. | E13: . | F13: . | G13: 15
A14: demolició base asfalt | B14: Demolició de paviment d'aglomerat asfàltic | C14: m2 | D14: Demolició de paviment d'aglomerat asfàltic amb martell pneumàtic, i càrrega manual sobre camió o contenidor. Tall previ del contorn de zona a demolir. Demolició de l'element. Fragmentació dels enderrocs en peces manejables. Retirada i arreplegat d'enderrocs. Neteja de les restes de l'obra. Càrrega manual d'enderrocs sobre camió o contenidor. No inclou tall ni enderroc de solera de formigó. | E14: . | F14: . | G14: 11.45 | H14: INCLOU TALL i base de forimgó? | I14: 11,45€ generdador de preus CYPE | L14: Demolició de paviment d'aglomerat asfàltic de 15 cm de gruix mitjà, amb martell pneumàtic, i càrrega manual sobre camió o contenidor.
A15: demolició paviment de rajoles cautxú | B15: Demolició de paviment exterior de rajoles de cautxú | C15: m2 | D15: Demolició de paviment exterior de rajoles de cautxú, amb mitjans manuals, i càrrega manual sobre camió o contenidor. El preu no inclou la demolició de la base suport. | E15: . | F15: . | G15: 10.88
A16: demolició paviment continu de cautxú | B16: Demolició de paviment exterior continu de cautxú | C16: m2 | D16: Arrencada i demolició de paviment exterior continu de cautxú, amb mitjans manuals, i càrrega manual sobre camió o contenidor. El preu no inclou la demolició de la base suport. | E16: . | F16: . | G16: 10.88 | H16: generdador de preus CYPE
A17: demolició vorada | B17: Demolició de graó de formigó | C17: m | D17: Demolició de graó de formigó, inclús la seva base, amb compressor i càrrega manual i mecànica de runa sobre camió o conenidor. Inclou l'enderroc d'estesa i alçada de graó de les mides existents. | E17: .mides 15x25x100cm | G17: 7.62 | H17: preu del catalunya
A18: demolició bloc de formigó | B18: Demolició de mur de bloc de formigó | C18: m2 | D18: Demolició de fàbrica vista, formada per bloc de formigó de 20 cm d'espessor, amb mitjans manuals, sense afectar a l'estabilitat dels elements constructius contigus, i càrrega manual sobre camió o contenidor. | E18: . | G18: 12.3 | H18: preu del catalunya
A19: demolició mur de formigó armat | B19: Demolició de mur de formigó armat | C19: m2 | D19: Demolició de mur de formigó armat, amb mitjans manuals, martell pneumàtic i equip de oxitall, i càrrega manual sobre camió o contenidor. | E19: . | G19: 235.15 | H19: preu del catalunya
A20: tall de mur de formigó armat | B20: Tall de mur de formigó armat | C20: m | D20: Tall en humit de llosa massissa de formigó armat, amb serra amb disc diamantat, i càrrega manual sobre camió o contenidor. | E20: . | G20: 102
A21: demolició sabata formigó armat | B21: Demolició de fonamentació de formigó | C21: m3 | D21: Demolició de fonamentació de formigó en massa, per a elements de mobiliari urbà, amb mitjans manuals, martell pneumàtic i càrrega manual sobre camió o contenidor. | E21: . | G21: 243.76 | I21: 43.72 | J21: preu generador preus
A22: REBAIX TERRENY
A23: rebaix de terreny | B23: Rebaix de terreny | C23: m3 | D23: Excavació a cel obert, en terra d'argila semidura, amb mitjans mecànics i càrrega a camió. El preu no inclou el transport dels materials excavats. | E23: . | F23: . | G23: 49
A24: rebaix fonaments i pous | B24: Rebaix per a fonaments i pous | C24: m3 | D24: Excavació a cel obert, en terra d'argila semidura, amb mitjans mecànics i càrrega a camió. El preu no inclou el transport dels materials excavats. Excavació de rases per a fonaments o pous, en terreny existent, amb mitjans mecànics adients, i càrrega sobre camió o contenidor. | E24: . | F24: . | G24: 33.63 | H24: generador preus 33,63€
A25: neteja terreny | B25: Esbrossada i neteja del terreny | C25: m2 | D25: Esbrossada i neteja del terreny de topografia amb desnivells mínims, amb mitjans mecànics. Comprèn els treballs necessaris per retirar de les zones previstes per a l'edificació o urbanització: arbres, petites plantes, mala herba, brossa, fustes caigudes, runes, escombraries o qualsevol altre material existent: i càrrega a camió. | E25: . | F25: . | G25: 1.21
A26: PALETERIA I SABATES
A27: sabata formigó | B27: Sabata de formigó de 50x50x50 | C27: ut | D27: Formació de sabata de 50x50x50 de formigó HM-20/B/20/X0 fabricat in situ. Inclou excavació en terra d'argila semidura amb mitjans mecànics. | E27: . | F27: . | G27: 289
A28: fonament formigó | B28: Fonament de formigó HA-25 | C28: m3 | D28: Fonament de formigÃ³ armat HA-25/B/20/IIa abocat des de camiÃ³ o qualsevol altre mitjÃ alternatiu, amb armadura de fonament i esperes de murs que arrenquen del fonament amb barres tipus AP500 S de lÃ­mit elÃ stic > = 500 N / mm2 d'acer en barres corrugades, amb una quantia de fins a 45 kg/mÂ³ (comprovada i validada per el contractista) i encofrat si Ã©s necessari per la tipologia del terreny amb tauler de fusta o qualsevol altre sistema. S'inclouen tots els elements necessaris per a la realització del fonament: formigó, acer, encofrat, perforacions, connectors i qualsevol altre element o treball auxiliar necessari per a la seva execució. | E28: . | F28: . | G28: 265
A29: mostreig | B29: Mostreig | C29: ut | D29: Mostreig, realització de con d'Abrams, elaboració de les provetes, cura, recapçament i assaig a compressió d'una sèrie de cinc provetes cilíndriques de 15x30 cm, segons la norma UNE-EN 12390-1, UNE-EN 12390-2, UNE-EN 12390-3, UNE-EN 12350-1 i UNE-EN 12350-2 | E29: . | F29: . | G29: 135.39
A30: paleteria | B30: Ajudes de paleta | C30: h | D30: Jornada d'ajudes de paleta. Oficial i peò. | E30: . | F30: . | G30: 57.72
A31: vorada prefabricada | B31: Vorada prefabricada de formigó | C31: m | D31: Subministrament i col.locació de vorada - Recta - MC - A1 (20x14) - B- H - S(R-3,5) - UNE-EN 1340, col·locat sobre base de formigó en massa (HM-20/P/20/X0) de 20 cm d'espessor i rejuntat amb morter de ciment, industrial, M-5. | E31: .Mides de la peça: 20x14x50cm | F31: . | G31: 34.49
A32: mur pedra | B32: Mur de pedra | C32: m3 | D32: Execució de mur de maçoneria ordinària a dues cares vistes, amb pedres de maçoneria irregulars en bast, de pedra calcària, amb les seves cares sense obrar, col·locats amb morter de calç industrial, color Natural, M-15, subministrat en sacs i rebliment dels junts amb morter fi, en murs d'espessor variable, fins a 50 cm. | E32: . | F32: . | G32: 791.4
A33: mur obra | B33: Mur d'obra | C33: m2 | D33: Execució de mur continu, altura variada, de fàbrica de maó ceràmic buit (H-16), per revestir, 24x19x14 cm, amb junts horitzontals i verticals de 10 mm d'espessor, rebuda amb morter de ciment industrial, color gris, M-5, subministrat a granel. El preu no inclou el revestiment. | E33: . | F33: . | G33: 33.22
A34: mur formigó armat | B34: Mur de formigó armat | C34: m3 | D34: Mur de formigó armat 2C, de fins a 3 m d'altura, gruix 30 cm, superfície plana, realitzat amb formigó HA-25/F/20/XC2 fabricat en central, i abocament amb cubilot, i acer UNE-EN 10080 B 500 S, amb una quantia aproximada de 50 kg/m³, executat en condicions complexes; muntatge i desmuntatge de sistema d'encofrat amb acabat vist amb textura llisa, realitzat amb tauler contraxapat fenòlic amb bastidor metàl·lic, amortitzable en 20 usos. Inclús filferro de lligar, separadors, passamurs per a pas dels tensors i líquid desencofrant, per evitar l'adherència del formigó a l'encofrat. | E34: .Cada metre lineal es conta com a 1 metre quadrat mínim. | F34: . | G34: =501.1*1.5 -> 751.65 | H34: generador de preus 501,1
A35: mur bloc vist | B35: Mur de bloc cares vistes | C35: m2 | D35: Muret de bloc de dues cares vistes, de 20 cm de gruix, de bloc de morter de ciment foradat, de 400x200x200 mm, de dues cares vistes, llis, gris, amb components hidrofugants, categoria I segons norma UNE-EN 771-3, col·locat amb morter de ciment pòrtland amb filler calcari, de dosificació 1:0,5:4 (10 N/mm2) massissat a les primeres filades soterrades y a tota alçada en un bloc sencer cada 120cm, amb formigó HA-25/P/20/I, col·locat manualment i armat amb acer en barres corrugades elaborat a l'obra B500S de límit elàstic >= 500 N/mm2 per a l'armadura de parets de blocs de morter de ciment, 1Ø12 vertical a cada forat de bloc en les zones massissades i peça de remat en forma de ´´U´´ amb cercol de formigó armat amb 4Ø8 i estreps Ø6c/30 cm. Inclou peces especials d… | E35: . | F35: . | G35: 77 | H35: PREU CORAL
A36: mur bloc | B36: Mur de bloc a una cara vista | C36: m2 | D36: Mur de contenció de terres de 20 cm d'espessor de fàbrica, de bloc de formigó tipus "H", de càrrega, per anar vist, color gris, 50x20x20 cm, categoria I, resistència normalitzada R10 (10 N/mm²), amb els junts verticals encadellats en sec i els junts horitzontals amb morter de ciment industrial, color gris, M-7,5, subministrat a granel, amb blocs de cantonada, reforçat amb formigó de replè, HA-25/B/12/XC2, preparat en obra, abocament amb mitjans manuals, i armadura d'acer UNE-EN 10080 B 400 S, amb una quantia aproximada de 20 kg/m². Inclús tubs de PVC per drenatge i filferro de lligar. | E36: . | F36: . | G36: 77 | H36: PREU CORAL
A37: capa morter | B37: Capa de morter de ciments | C37: m2 | D37: Capa de morter de ciment, tipus CR CSIV W2, segons UNE-EN 998-1, color blanc, de 10 mm d'espessor, reglejat, amb acabat remolinat, aplicat manualment, sobre parament exterior de fàbrica de maó o bloc de formigó, vertical. Inclús rivets de PVC, per a formació de juntes i malla de fibra de vidre antiàlcalis en els canvis de material i en els fronts de forjat, per evitar fissures. El preu inclou la protecció dels elements de l'entorn que puguin veure's afectats durant els treballs i la resolució de punts singulars. | E37: . | F37: . | G37: 32 | H37: PREU CORAL
A38: solera raspatllat | B38: Solera de formigó amb acabat raspatllat | C38: m2 | D38: Paviment de formigó amb fibres de polipropilè monofilamentoses, amb aditiu, per a paviment continu i rampes, de 15 cm de gruix, tipus HAF-30/F/12/IIa+E, amb fibres sintètiques amb una quantia de 600 gr/m³, abocat des de camió o qualsevol altre mitjà alternatiu, mestrejat i acabat amb regle vibrat i posterior raspatllat per deixar la textura indicada per la DF. Inclou armadura interior tipus AP500SD amb malla electrosoldada ME 15x15 cm D:6-6 mm B500SD UNE-EN 10080 | E38: . | F38: . | G38: 35.12
A39: graó | B39: Construcció graó | C39: m2 | D39: Esglaó de 30x17 de mides aproximades, format per peça de vorada recta de formigó, monocapa, amb secció de 20x10cm amb una cantonada axamfranada, col·locat acom a alçada i estesa amb panot de 3x3 pastilles, flor o ratllat de color gris de 20x40x4cm col·locat a truc de maceta amb morter mix. | E39: . | F39: . | G39: 62.81 | H39: PREU CORAL
A40: perfilat terreny | B40: Perfilat manual de terreny | C40: m2 | D40: Perfilat i repassada de parets i fons de caixa de paviment, en qualsevol tipus de terreny excepte en roca, amb mitjans manuals, fins a aconseguir un acabat geomètric. | E40: . | F40: . | G40: =7.8*1.5 -> 11.7 | J40: cype 7,8
A41: reblert | B41: Reomplert localitzat amb àrids reciclats | C41: m3 | D41: Reomplert localitzat amb àrid reciclat mixt de formigó i material ceràmic de 40 a 80 mm de diàmetre i compactació en tongades successives de 20 cm d'espessor màxim amb picó vibrant de guiat manual. | E41: . | F41: . | G41: 32.48 | K41: €/h | L41: total
A42: subbase grava | B42: Subbase de grava 15cm | C42: m2 | D42: Subbase de grava de pedrera de pedra granítica de 15 cm de gruix i, grandària màxima de 50 a 70 mm, amb estesa i piconatge del material. | E42: . | F42: . | G42: =10.21*1.5 -> 15.315 | K42: €/h | L42: total
A43: làmina separadora | B43: Làmina separadora polietilè | C43: m2 | D43: Làmina separadora de polietilè de 150 μm i 144 g/m2, col·locada no adherida | E43: . | F43: . | G43: 2.3 | K43: 39 | L43: =I61*J61*K43 -> 39
...

Sheet PORTADA_PTO
E10: =CONCATENATE(I10,TEXT(I11,"d mmmm aaaa")) -> Barcelona, 13 maig dimecres | H10: LOCALIDAD | I10: Barcelona,
H11: FECHA | I11: =TODAY() -> 46155
E12: VALORACIÓ ECONÒMICA
E13: AVANTPROJECTE: TRANSFORMACIÓ DELS ESPAIS EXTERIORS DE L’ESCOLA BRESSOL MUNICIPAL DE ROCAFONDA
E14: MATARÓ
A17: VALORACIÓ ECONÒMICA
A18: TRANSFORMACIÓ DELS ESPAIS EXTERIORS DE L’ESCOLA BRESSOL MUNICIPAL DE ROCAFONDA
A20: client
A22: Nom:
A23: CIF: | B23: ,,, | E23: Tel. | F23: ,,,
A24: Direcció: | B24: ,,,
A25: Població: | B25: ,,, | E25: PROVINCIA | F25: ,,,
A27: Pers. Contacte: | B27: ,,, | E27: Tel. | F27: ,,,
A29: trabajos que conciernen
A31: Nom: | B31: ,,,
A32: Direcció: | B32: ,,,
A33: Població: | B33: ,,, | E33: PROVINCIA | F33: ,,,
A34: Pers. Contacte: | B34: ,,, | E34: Tel. | F34: ,,,

Sheet PATI
B1: =PORTADA_PTO!A17 -> VALORACIÓ ECONÒMICA
B2: =PORTADA_PTO!A18 -> TRANSFORMACIÓ DELS ESPAIS EXTERIORS DE L’ESCOLA BRESSOL MUNICIPAL DE ROCAFONDA
B3: =PORTADA_PTO!E14 -> MATARÓ
I4: =PORTADA_PTO!E10 -> Barcelona, 13 maig dimecres
B6: PATI | I6: =SUM(I10:I344)/2 -> 90154.992
B7: QUADRE DE PREUS 1
A8: CODI BASE DADES | B8: Ref. | C8: Un | D8: Descripció | G8: Quant. | H8: € un. | I8: IMPORT TOTAL (PEM)
B10: 1. FEINES PRÈVIES | I10: =SUM(I12:I66) -> 9663.4243
A12: retirada tanca fusta | B12: 1.1 | C12: =+VLOOKUP($A12,BASEdades!$A$3:$AA$283,3,FALSE()) -> m | D12: =+VLOOKUP($A12,BASEdades!$A$3:$AA$283,2,FALSE()) -> Retirada de tanca de fusta existent | G12: =G15 -> 36.8 | H12: =+VLOOKUP($A12,BASEdades!$A$3:$AA$283,7,FALSE()) -> 20 | I12: =G12*H12 -> 736
D13: =+VLOOKUP($A12,BASEdades!$A$3:$AA$283,4,FALSE()) -> Retirada de tanca de fusta de fins a 2 m d'alçària, com a màxim, sense enderroc de daus de formigó, a mà i càrrega manual i mecànica de runa sobre camió o contenidor.
D14: =+VLOOKUP($A12,BASEdades!$A$3:$AA$283,5,FALSE()) -> .Mides de la tanca: mòduls 1.5m x 1m
D15: .corralets | E15: 46 | F15: 0.8 | G15: =E15*F15 -> 36.8
A17: retirada joc existent | B17: 1.2 | C17: =+VLOOKUP($A17,BASEdades!$A$3:$AA$283,3,FALSE()) -> ut | D17: =+VLOOKUP($A17,BASEdades!$A$3:$AA$283,2,FALSE()) -> Retirada joc existent | G17: =G20 -> 9 | H17: =+VLOOKUP($A17,BASEdades!$A$3:$AA$283,7,FALSE()) -> 120 | I17: =G17*H17 -> 1080
D18: =+VLOOKUP($A17,BASEdades!$A$3:$AA$283,4,FALSE()) -> Retirada de joc existent, sense enderroc de daus de formigó, a mà i acopi en obra (no inclou recol.locació).
D19: =+VLOOKUP($A17,BASEdades!$A$3:$AA$283,5,FALSE()) -> .Mides del joc: alçada fins 1,5m i àrea màx: 100cm*100cm
D20: .jocs | G20: 9
A22: retirada banc | B22: 1.3 | C22: =+VLOOKUP($A22,BASEdades!$A$3:$AA$283,3,FALSE()) -> ut | D22: =+VLOOKUP($A22,BASEdades!$A$3:$AA$283,2,FALSE()) -> Retirada mobiliari existent | G22: =G25 -> 3 | H22: =+VLOOKUP($A22,BASEdades!$A$3:$AA$283,7,FALSE()) -> 40 | I22: =G22*H22 -> 120
D23: =+VLOOKUP($A22,BASEdades!$A$3:$AA$283,4,FALSE()) -> Retirada de mobiliari existent (banc existent, jardineres, taules de picnic,...) sense enderroc de daus de formigó, a mà i acopi en obra (no inclou recol.locació).
D24: =+VLOOKUP($A22,BASEdades!$A$3:$AA$283,5,FALSE()) -> .
D25: .bancs | G25: 3
A27: demolició sabata formigó armat | B27: 1.4 | C27: =+VLOOKUP($A27,BASEdades!$A$3:$AA$283,3,FALSE()) -> m3 | D27: =+VLOOKUP($A27,BASEdades!$A$3:$AA$283,2,FALSE()) -> Demolició de fonamentació de formigó | G27: =G30 -> 0.625 | H27: =+VLOOKUP($A27,BASEdades!$A$3:$AA$283,7,FALSE()) -> 243.76 | I27: =G27*H27 -> 152.35
D28: =+VLOOKUP($A27,BASEdades!$A$3:$AA$283,4,FALSE()) -> Demolició de fonamentació de formigó en massa, per a elements de mobiliari urbà, amb mitjans manuals, martell pneumàtic i càrrega manual sobre camió o contenidor.
D29: =+VLOOKUP($A27,BASEdades!$A$3:$AA$283,5,FALSE()) -> .
D30: .fonamentació bancs i jocs | E30: 5 | F30: =0.5*0.5*0.5 -> 0.125 | G30: =E30*F30 -> 0.625
A32: demolició vorada | B32: 1.5 | C32: =+VLOOKUP($A32,BASEdades!$A$3:$AA$283,3,FALSE()) -> m | D32: =+VLOOKUP($A32,BASEdades!$A$3:$AA$283,2,FALSE()) -> Demolició de graó de formigó | G32: =G35 -> 26 | H32: =+VLOOKUP($A32,BASEdades!$A$3:$AA$283,7,FALSE()) -> 7.62 | I32: =G32*H32 -> 198.12
D33: =+VLOOKUP($A32,BASEdades!$A$3:$AA$283,4,FALSE()) -> Demolició de graó de formigó, inclús la seva base, amb compressor i càrrega manual i mecànica de runa sobre camió o conenidor. Inclou l'enderroc d'estesa i alçada de graó de les mides existents.
D34: .
D35: .sorral | G35: 26
A37: recolocació de mobiliari | B37: 1.6 | C37: =+VLOOKUP($A37,BASEdades!$A$3:$AA$283,3,FALSE()) -> ut | D37: =+VLOOKUP($A37,BASEdades!$A$3:$AA$283,2,FALSE()) -> Recol.lació de mobiliari existent | G37: =G40 -> 1 | H37: =+VLOOKUP($A37,BASEdades!$A$3:$AA$283,7,FALSE()) -> 156 | I37: =G37*H37 -> 156
D38: =+VLOOKUP($A37,BASEdades!$A$3:$AA$283,4,FALSE()) -> Recol.locació de mobiliari existent (banc existent, jardineres, taules de picnic) sobre paviment, fixat mecànicament. (No inclou la formació de daus de formigó. No inclou reparació de l'element)
D39: =+VLOOKUP($A37,BASEdades!$A$3:$AA$283,5,FALSE()) -> .
D40: .caseta | G40: 1
A42: rebaix de terreny | B42: 1.7 | C42: =+VLOOKUP($A42,BASEdades!$A$3:$AA$283,3,FALSE()) -> m3 | D42: =+VLOOKUP($A42,BASEdades!$A$3:$AA$283,2,FALSE()) -> Rebaix de terreny | G42: =SUM(G45:G50) -> 68.4475 | H42: =+VLOOKUP($A42,BASEdades!$A$3:$AA$283,7,FALSE()) -> 49 | I42: =G42*H42 -> 3353.9275
D43: =+VLOOKUP($A42,BASEdades!$A$3:$AA$283,4,FALSE()) -> Excavació a cel obert, en terra d'argila semidura, amb mitjans mecànics i càrrega a camió. El preu no inclou el transport dels materials excavats.
D44: =+VLOOKUP($A42,BASEdades!$A$3:$AA$283,5,FALSE()) -> .
D45: .sorral petit | E45: 27.5 | F45: 0.4 | G45: =E45*F45 -> 11
D46: .sorral gran | E46: 72 | F46: 0.4 | G46: =E46*F46 -> 28.8
D47: .equilibri | E47: 29 | F47: 0.3 | G47: =E47*F47 -> 8.7
D48: .tarimes | E48: =G75 -> 45.85 | F48: 0.35 | G48: =E48*F48 -> 16.0475
D49: pou drenatge | E49: 1 | F49: 3 | G49: =E49*F49 -> 3
...

Sheet UMBRACLE
B1: =PORTADA_PTO!A17 -> VALORACIÓ ECONÒMICA
B2: =PORTADA_PTO!A18 -> TRANSFORMACIÓ DELS ESPAIS EXTERIORS DE L’ESCOLA BRESSOL MUNICIPAL DE ROCAFONDA
B3: =PORTADA_PTO!E14 -> MATARÓ
I4: =PORTADA_PTO!E10 -> Barcelona, 13 maig dimecres
B7: UMBRACLE | I7: =SUM(I11:I31)/2 -> 27330.302
A9: CODI BASE DADES | B9: Ref. | C9: Un | D9: Descripció | G9: Quant. | H9: € un. | I9: IMPORT TOTAL (PEM)
B11: 1. UMBRACLES | I11: =SUM(I13:I32) -> 27330.302
A13: acer kg | B13: 1.1 | C13: =+VLOOKUP($A13,BASEdades!$A$3:$AA$283,3,FALSE()) -> kg | D13: =+VLOOKUP($A13,BASEdades!$A$3:$AA$283,2,FALSE()) -> Acer en perfils laminats en calent | G13: =SUM(G16:G17) -> 1489.2 | H13: =+VLOOKUP($A13,BASEdades!$A$3:$AA$283,7,FALSE()) -> 3.276 | I13: =G13*H13 -> 4878.6192
D14: =+VLOOKUP($A13,BASEdades!$A$3:$AA$283,4,FALSE()) -> Acer UNE-EN 10025 S275JR, en elements estructurals formats per peces simples de perfils laminats en calent de les sèries L, LD, T, rodó, quadrat, rectangular o platina, acabat amb emprimació antioxidant, col·locats amb unions cargolades en obra, a una altura de més de 3 m.
D15: =+VLOOKUP($A13,BASEdades!$A$3:$AA$283,5,FALSE()) -> .Mides : segons disseny
D16: .L150,10 | E16: =12*4.7 -> 56.4 | F16: 23 | G16: =E16*F16 -> 1297.2
D17: .pletines e10 | E17: =0.001*12*2 -> 0.024 | F17: 8000 | G17: =E17*F17 -> 192
A19: pintat esmalt | B19: 1.10 | C19: =+VLOOKUP($A19,BASEdades!$A$3:$AA$283,3,FALSE()) -> m2 | D19: =+VLOOKUP($A19,BASEdades!$A$3:$AA$298,2,FALSE()) -> Pintat perfils metàl·lics | G19: =SUM(G22:G23) -> 70.08 | H19: =+VLOOKUP($A19,BASEdades!$A$3:$AA$283,7,FALSE()) -> 32.29 | I19: =G19*H19 -> 2262.8832
D20: =+VLOOKUP($A19,BASEdades!$A$3:$AA$283,4,FALSE()) -> Aplicació manual de dues mans d'esmalt sintètic d'assecat ràpid, a base de resines alquídiques, color blanc, acabat brillant, (rendiment: 0,077 l/m² cada mà); prèvia aplicació d'una mà d'emprimació sintètica antioxidant d'assecat ràpid, a base de resines alquídiques, color gris, acabat mat (rendiment: 0,125 l/m²), sobre biga formada per peces simples de perfils laminats d'acer.
D21: =+VLOOKUP($A19,BASEdades!$A$3:$AA$283,5,FALSE()) -> .
D22: .L150,10 | E22: 0.6 | F22: =4.7*24 -> 112.8 | G22: =E22*F22 -> 67.68
D23: .pletines | E23: 0.1 | F23: 24 | G23: =E23*F23 -> 2.4
A25: panell entramat fusta façana | B25: 1.3 | C25: =+VLOOKUP($A25,BASEdades!$A$3:$AA$283,3,FALSE()) -> ut | D25: =+VLOOKUP($A25,BASEdades!$A$3:$AA$283,2,FALSE()) -> Entramat de fusta per a façana | G25: =SUM(G28) -> 12 | H25: =+VLOOKUP($A25,BASEdades!$A$3:$AA$283,7,FALSE()) -> 1075.82 | I25: =G25*H25 -> 12909.84
D26: =+VLOOKUP($A25,BASEdades!$A$3:$AA$283,4,FALSE()) -> Subministrament i col.locació de mòdul de pèrgola de fusta de 300x200cm format per un allistonat de fusta de pi de flandes tractat de 44x93mm disposats horitzontalment i acargolats a rastrells de fusta de 44x93mm. Inclou el muntatge i fixació del mòdul a estructura existent amb tots els elements necessaris.
D27: =+VLOOKUP($A25,BASEdades!$A$3:$AA$283,5,FALSE()) -> .Mides : 200x300cm
D28: .panells verticals | E28: 12 | F28: 1 | G28: =E28*F28 -> 12 | H28: =H25*F28 -> 1075.82
A30: panell entramat fusta pèrgola | B30: 1.4 | C30: =+VLOOKUP($A30,BASEdades!$A$3:$AA$283,3,FALSE()) -> ut | D30: =+VLOOKUP($A30,BASEdades!$A$3:$AA$283,2,FALSE()) -> Entramat de fusta per a pèrgola | G30: =SUM(G33) -> 6 | H30: =+VLOOKUP($A30,BASEdades!$A$3:$AA$283,7,FALSE()) -> 1213.16 | I30: =G30*H30 -> 7278.96
D31: =+VLOOKUP($A30,BASEdades!$A$3:$AA$283,4,FALSE()) -> Subministrament i col.locació de mòdul de pèrgola de fusta de 300x300cm format per un allistonat de fusta de pi de flandes tractat de 44x93mm disposats verticalment i acargolats a rastrells de fusta de 44x93mm. Inclou el muntatge i fixació del mòdul a estructura metàl·lica amb tots els elements necessaris.
D32: =+VLOOKUP($A30,BASEdades!$A$3:$AA$283,5,FALSE()) -> .Mides : 300x300cm
D33: .panells horitzontals | E33: 6 | F33: 1 | G33: =E33*F33 -> 6 | H33: =H30*F33 -> 1213.16

Sheet ACCÉS
B1: =PORTADA_PTO!A17 -> VALORACIÓ ECONÒMICA
B2: =PORTADA_PTO!A18 -> TRANSFORMACIÓ DELS ESPAIS EXTERIORS DE L’ESCOLA BRESSOL MUNICIPAL DE ROCAFONDA
B3: =PORTADA_PTO!E14 -> MATARÓ
I4: =PORTADA_PTO!E10 -> Barcelona, 13 maig dimecres
B7: ACCÉS | I7: =SUM(I11:I147)/2 -> 19806.735
A9: CODI BASE DADES | B9: Ref. | C9: Un | D9: Descripció | G9: Quant. | H9: € un. | I9: IMPORT TOTAL (PEM)
B11: 1. ACCÉS | I11: =SUM(I13:I147) -> 19806.735
A13: retirada tanca metàl·lica | B13: 1.1 | C13: =+VLOOKUP($A13,BASEdades!$A$3:$AA$283,3,FALSE()) -> m | D13: =+VLOOKUP($A13,BASEdades!$A$3:$AA$283,2,FALSE()) -> Retirada de tanca metàl·lica existent | G13: =SUM(G16) -> 10 | H13: =+VLOOKUP($A13,BASEdades!$A$3:$AA$283,7,FALSE()) -> 20 | I13: =G13*H13 -> 200
D14: =+VLOOKUP($A13,BASEdades!$A$3:$AA$283,4,FALSE()) -> Retirada de reixat metàl·lic de fins a 2 m d'alçària, com a màxim, sense enderroc de daus de formigó, a mà i càrrega manual i mecànica de runa sobre camió o contenidor
D15: =+VLOOKUP($A13,BASEdades!$A$3:$AA$283,5,FALSE()) -> .Mides de la tanca: mòduls 1.5m x 1m
D16: .porta d'accés actual | E16: 10 | F16: 1 | G16: =E16*F16 -> 10
A18: paleteria | B18: 1.2 | C18: =+VLOOKUP($A18,BASEdades!$A$3:$AA$283,3,FALSE()) -> h | D18: =+VLOOKUP($A18,BASEdades!$A$3:$AA$283,2,FALSE()) -> Ajudes de paleta | G18: 16 | H18: =+VLOOKUP($A18,BASEdades!$A$3:$AA$283,7,FALSE()) -> 57.72 | I18: =G18*H18 -> 923.52
D19: =+VLOOKUP($A18,BASEdades!$A$3:$AA$283,4,FALSE()) -> Jornada d'ajudes de paleta. Oficial i peò.
D20: =+VLOOKUP($A18,BASEdades!$A$3:$AA$283,5,FALSE()) -> .
A22: Tall de paviment | B22: 1.3 | C22: =+VLOOKUP($A22,BASEdades!$A$3:$AA$283,3,FALSE()) -> m | D22: =+VLOOKUP($A22,BASEdades!$A$3:$AA$298,2,FALSE()) -> Tall de paviment | G22: =SUM(G25) -> 11.3 | H22: =+VLOOKUP($A22,BASEdades!$A$3:$AA$283,7,FALSE()) -> 5.7 | I22: =G22*H22 -> 64.41
D23: =+VLOOKUP($A22,BASEdades!$A$3:$AA$283,4,FALSE()) -> Execució de tall en paviment de qualsevol tipus, de 10cm de fondària com a mínim, amb màquina tallajunts amb disc de diamant per a paviment, per a delimitar la zona a demolir, i càrrega manual sobre camió o contenidor
D24: =+VLOOKUP($A22,BASEdades!$A$3:$AA$283,6,FALSE()) -> .
D25: .magatzem coxets | E25: 11.3 | F25: 1 | G25: =E25*F25 -> 11.3
A27: demolició solera formigó | B27: 1.4 | C27: =+VLOOKUP($A27,BASEdades!$A$3:$AA$283,3,FALSE()) -> m2 | D27: =+VLOOKUP($A27,BASEdades!$A$3:$AA$298,2,FALSE()) -> Demolició de solera de formigó | G27: =SUM(G30) -> 4.52 | H27: =+VLOOKUP($A27,BASEdades!$A$3:$AA$283,7,FALSE()) -> 15 | I27: =G27*H27 -> 67.8
D28: =+VLOOKUP($A27,BASEdades!$A$3:$AA$283,4,FALSE()) -> Demolició de solera de formigó en massa de fins a 15cm, mitjançant retroexcavadora amb martell picador. El preu inclou el picat i estesa del material per ser utilitzat com a grava de drenatge.
D29: =+VLOOKUP($A27,BASEdades!$A$3:$AA$283,6,FALSE()) -> .
D30: .magatzem coxets | E30: 11.3 | F30: 0.4 | G30: =E30*F30 -> 4.52
A32: mostreig | B32: 1.5 | C32: =+VLOOKUP($A32,BASEdades!$A$3:$AA$283,3,FALSE()) -> ut | D32: =+VLOOKUP($A32,BASEdades!$A$3:$AA$298,2,FALSE()) -> Mostreig | G32: =SUM(G35) -> 1 | H32: =+VLOOKUP($A32,BASEdades!$A$3:$AA$283,7,FALSE()) -> 135.39 | I32: =G32*H32 -> 135.39
D33: =+VLOOKUP($A32,BASEdades!$A$3:$AA$283,4,FALSE()) -> Mostreig, realització de con d'Abrams, elaboració de les provetes, cura, recapçament i assaig a compressió d'una sèrie de cinc provetes cilíndriques de 15x30 cm, segons la norma UNE-EN 12390-1, UNE-EN 12390-2, UNE-EN 12390-3, UNE-EN 12350-1 i UNE-EN 12350-2
D34: =+VLOOKUP($A32,BASEdades!$A$3:$AA$283,5,FALSE()) -> .
D35: .fonaments | E35: 1 | F35: 1 | G35: =E35*F35 -> 1
A37: rebaix fonaments i pous | B37: 1.6 | C37: =+VLOOKUP($A37,BASEdades!$A$3:$AA$283,3,FALSE()) -> m3 | D37: =+VLOOKUP($A37,BASEdades!$A$3:$AA$298,2,FALSE()) -> Rebaix per a fonaments i pous | G37: =SUM(G40) -> 2.712 | H37: =+VLOOKUP($A37,BASEdades!$A$3:$AA$283,7,FALSE()) -> 33.63 | I37: =G37*H37 -> 91.20456
D38: =+VLOOKUP($A37,BASEdades!$A$3:$AA$283,4,FALSE()) -> Excavació a cel obert, en terra d'argila semidura, amb mitjans mecànics i càrrega a camió. El preu no inclou el transport dels materials excavats. Excavació de rases per a fonaments o pous, en terreny existent, amb mitjans mecànics adients, i càrrega sobre camió o contenidor.
D39: =+VLOOKUP($A37,BASEdades!$A$3:$AA$283,6,FALSE()) -> .
D40: .magatzem coxets | E40: =G27 -> 4.52 | F40: 0.6 | G40: =E40*F40 -> 2.712
A43: fonament formigó | B43: 1.8 | C43: =+VLOOKUP($A43,BASEdades!$A$3:$AA$283,3,FALSE()) -> m3 | D43: =+VLOOKUP($A43,BASEdades!$A$3:$AA$298,2,FALSE()) -> Fonament de formigó HA-25 | G43: =SUM(G46:G47) -> 4.645 | H43: =+VLOOKUP($A43,BASEdades!$A$3:$AA$283,7,FALSE()) -> 265 | I43: =G43*H43 -> 1230.925
D44: =+VLOOKUP($A43,BASEdades!$A$3:$AA$283,4,FALSE()) -> Fonament de formigÃ³ armat HA-25/B/20/IIa abocat des de camiÃ³ o qualsevol altre mitjÃ alternatiu, amb armadura de fonament i esperes de murs que arrenquen del fonament amb barres tipus AP500 S de lÃ­mit elÃ stic > = 500 N / mm2 d'acer en barres corrugades, amb una quantia de fins a 45 kg/mÂ³ (comprovada i validada per el contractista) i encofrat si Ã©s necessari per la tipologia del terreny amb tauler de fusta o qualsevol altre sistema. S'inclouen tots els elements necessaris per a la realització del fonament: formigó, acer, encofrat, perforacions, connectors i qualsevol altre element o treball auxiliar necessari per a la seva execució.
D45: =+VLOOKUP($A43,BASEdades!$A$3:$AA$283,6,FALSE()) -> .
D46: .sabata mur | E46: =E40 -> 4.52 | F46: 1 | G46: =E46*F46 -> 4.52
D47: .pilar coberta | E47: 0.5 | F47: =0.5*0.5 -> 0.25 | G47: =E47*F47 -> 0.125
A49: acer kg bigues | B49: 1.9 | C49: =+VLOOKUP($A49,BASEdades!$A$3:$AA$283,3,FALSE()) -> kg | D49: =+VLOOKUP($A49,BASEdades!$A$3:$AA$298,2,FALSE()) -> Acer en bigues | G49: =SUM(G52:G54) -> 264.4287 | H49: =+VLOOKUP($A49,BASEdades!$A$3:$AA$283,7,FALSE()) -> 3.192 | I49: =G49*H49 -> 844.05641
D50: =+VLOOKUP($A49,BASEdades!$A$3:$AA$283,4,FALSE()) -> Acer UNE-EN 10025 S275JR, en bigues formades por peces simples de perfils laminats en calent de les sèries IPN, IPE, HEB, HEA, HEM o UPN, acabat amb emprimació antioxidant, amb unions soldades en obra, a una altura de fins a 3 m.
D51: =+VLOOKUP($A49,BASEdades!$A$3:$AA$283,5,FALSE()) -> .Mides : segons disseny
D52: .pilar coberta | E52: =2.3*20.91 -> 48.093 | F52: 1 | G52: =E52*F52 -> 48.093
D53: .biga | E53: =7.5*20.91 -> 156.825 | F53: 1 | G53: =E53*F53 -> 156.825
...

Sheet QUADRE PREUS 1
B1: =PORTADA_PTO!A17 -> VALORACIÓ ECONÒMICA
B2: =PORTADA_PTO!A18 -> TRANSFORMACIÓ DELS ESPAIS EXTERIORS DE L’ESCOLA BRESSOL MUNICIPAL DE ROCAFONDA
B3: =PORTADA_PTO!E14 -> MATARÓ
B7: QUADRE DE PREUS 1 | I7: =SUM(I11:I617)/2 -> #REF!
A9: CODI BASE DADES | C9: Un | D9: Descripció | H9: € un. | I9: IMPORT TOTAL (PEM)
A11: retirada tanca metàl·lica | C11: =+VLOOKUP($A11,BASEdades!$A$3:$AA$283,3,FALSE()) -> m | D11: =+VLOOKUP($A11,BASEdades!$A$3:$AA$283,2,FALSE()) -> Retirada de tanca metàl·lica existent | H11: =+VLOOKUP($A11,BASEdades!$A$3:$AA$283,7,FALSE()) -> 20 | I11: =#REF!*H11 -> #REF!
D12: =+VLOOKUP($A11,BASEdades!$A$3:$AA$283,4,FALSE()) -> Retirada de reixat metàl·lic de fins a 2 m d'alçària, com a màxim, sense enderroc de daus de formigó, a mà i càrrega manual i mecànica de runa sobre camió o contenidor
D13: =+VLOOKUP($A11,BASEdades!$A$3:$AA$283,5,FALSE()) -> .Mides de la tanca: mòduls 1.5m x 1m
D14: Peó ordinari construcció | E14: =+VLOOKUP($D14,PREUS!$B$1:$F$589,3,FALSE()) -> 25.8 | F14: =+VLOOKUP($D14,PREUS!$B$1:$F$589,4,FALSE()) -> h | G14: 0.76 | H14: =E14*G14 -> 19.608
D15: Costos directes complementaris | E15: =H14 -> 19.608 | F15: % | G15: 0.02 | H15: =E15*G15 -> 0.39216
A18: paleteria | C18: =+VLOOKUP($A18,BASEdades!$A$3:$AA$283,3,FALSE()) -> h | D18: =+VLOOKUP($A18,BASEdades!$A$3:$AA$283,2,FALSE()) -> Ajudes de paleta | H18: =+VLOOKUP($A18,BASEdades!$A$3:$AA$283,7,FALSE()) -> 57.72 | I18: =#REF!*H18 -> #REF!
D19: =+VLOOKUP($A18,BASEdades!$A$3:$AA$283,4,FALSE()) -> Jornada d'ajudes de paleta. Oficial i peò.
D20: =+VLOOKUP($A18,BASEdades!$A$3:$AA$283,5,FALSE()) -> .
D21: Oficial 1ª construcció | E21: =+VLOOKUP($D21,PREUS!$B$1:$F$589,3,FALSE()) -> 30.79 | F21: =+VLOOKUP($D21,PREUS!$B$1:$F$589,4,FALSE()) -> h | G21: 1 | H21: =E21*G21 -> 30.79
D22: Peó ordinari construcció | E22: =+VLOOKUP($D22,PREUS!$B$1:$F$589,3,FALSE()) -> 25.8 | F22: =+VLOOKUP($D22,PREUS!$B$1:$F$589,4,FALSE()) -> h | G22: 1 | H22: =E22*G22 -> 25.8
D23: Costos directes complementaris | E23: =SUM(H21:H22) -> 56.59 | F23: % | G23: 0.02 | H23: =E23*G23 -> 1.1318
A25: Tall de paviment | C25: =+VLOOKUP($A25,BASEdades!$A$3:$AA$283,3,FALSE()) -> m | D25: =+VLOOKUP($A25,BASEdades!$A$3:$AA$298,2,FALSE()) -> Tall de paviment | H25: =+VLOOKUP($A25,BASEdades!$A$3:$AA$283,7,FALSE()) -> 5.7 | I25: =#REF!*H25 -> #REF!
D26: =+VLOOKUP($A25,BASEdades!$A$3:$AA$283,4,FALSE()) -> Execució de tall en paviment de qualsevol tipus, de 10cm de fondària com a mínim, amb màquina tallajunts amb disc de diamant per a paviment, per a delimitar la zona a demolir, i càrrega manual sobre camió o contenidor
D27: =+VLOOKUP($A25,BASEdades!$A$3:$AA$283,6,FALSE()) -> .
D28: Talladora de paviment | E28: =+VLOOKUP($D28,PREUS!$B$1:$F$589,3,FALSE()) -> 42.15 | F28: =+VLOOKUP($D28,PREUS!$B$1:$F$589,4,FALSE()) -> h | G28: 0.0804 | H28: =E28*G28 -> 3.38886
D29: Ajudant construcció d'obra civil | E29: =+VLOOKUP($D29,PREUS!$B$1:$F$589,3,FALSE()) -> 27.39 | F29: =+VLOOKUP($D29,PREUS!$B$1:$F$589,4,FALSE()) -> h | G29: 0.0804 | H29: =E29*G29 -> 2.202156
D30: Costos directes complementaris | E30: =SUM(H28:H29) -> 5.591016 | F30: % | G30: 0.02 | H30: =E30*G30 -> 0.11182032
A32: demolició solera formigó | C32: =+VLOOKUP($A32,BASEdades!$A$3:$AA$283,3,FALSE()) -> m2 | D32: =+VLOOKUP($A32,BASEdades!$A$3:$AA$298,2,FALSE()) -> Demolició de solera de formigó | H32: =+VLOOKUP($A32,BASEdades!$A$3:$AA$283,7,FALSE()) -> 15 | I32: =#REF!*H32 -> #REF!
D33: =+VLOOKUP($A32,BASEdades!$A$3:$AA$283,4,FALSE()) -> Demolició de solera de formigó en massa de fins a 15cm, mitjançant retroexcavadora amb martell picador. El preu inclou el picat i estesa del material per ser utilitzat com a grava de drenatge.
D34: =+VLOOKUP($A32,BASEdades!$A$3:$AA$283,6,FALSE()) -> .
D35: Martell pneumàtic | E35: =+VLOOKUP($D35,PREUS!$B$1:$F$589,3,FALSE()) -> 4.57 | F35: =+VLOOKUP($D35,PREUS!$B$1:$F$589,4,FALSE()) -> h | G35: 0.1 | H35: =E35*G35 -> 0.457
D36: Compressor portàtil elèctric 2m3/min de cabal | E36: =+VLOOKUP($D36,PREUS!$B$1:$F$589,3,FALSE()) -> 4.27 | F36: =+VLOOKUP($D36,PREUS!$B$1:$F$589,4,FALSE()) -> h | G36: 0.1 | H36: =E36*G36 -> 0.427
D37: Peó especialitzat construcció | E37: =+VLOOKUP($D37,PREUS!$B$1:$F$589,3,FALSE()) -> 26.64 | F37: =+VLOOKUP($D37,PREUS!$B$1:$F$589,4,FALSE()) -> h | G37: 0.2635 | H37: =E37*G37 -> 7.01964
D38: Peó ordinari construcció | E38: =+VLOOKUP($D38,PREUS!$B$1:$F$589,3,FALSE()) -> 25.8 | F38: =+VLOOKUP($D38,PREUS!$B$1:$F$589,4,FALSE()) -> h | G38: 0.2635 | H38: =E38*G38 -> 6.7983
D39: Costos directes complementaris | E39: =SUM(H35:H38) -> 14.70194 | F39: % | G39: 0.02 | H39: =E39*G39 -> 0.2940388
A42: mostreig | C42: =+VLOOKUP($A42,BASEdades!$A$3:$AA$283,3,FALSE()) -> ut | D42: =+VLOOKUP($A42,BASEdades!$A$3:$AA$298,2,FALSE()) -> Mostreig | H42: =+VLOOKUP($A42,BASEdades!$A$3:$AA$283,7,FALSE()) -> 135.39 | I42: =#REF!*H42 -> #REF!
D43: =+VLOOKUP($A42,BASEdades!$A$3:$AA$283,4,FALSE()) -> Mostreig, realització de con d'Abrams, elaboració de les provetes, cura, recapçament i assaig a compressió d'una sèrie de cinc provetes cilíndriques de 15x30 cm, segons la norma UNE-EN 12390-1, UNE-EN 12390-2, UNE-EN 12390-3, UNE-EN 12350-1 i UNE-EN 12350-2
D44: =+VLOOKUP($A42,BASEdades!$A$3:$AA$283,5,FALSE()) -> .
A46: rebaix fonaments i pous | C46: =+VLOOKUP($A46,BASEdades!$A$3:$AA$283,3,FALSE()) -> m3 | D46: =+VLOOKUP($A46,BASEdades!$A$3:$AA$298,2,FALSE()) -> Rebaix per a fonaments i pous | H46: =+VLOOKUP($A46,BASEdades!$A$3:$AA$283,7,FALSE()) -> 33.63 | I46: =#REF!*H46 -> #REF!
D47: =+VLOOKUP($A46,BASEdades!$A$3:$AA$283,4,FALSE()) -> Excavació a cel obert, en terra d'argila semidura, amb mitjans mecànics i càrrega a camió. El preu no inclou el transport dels materials excavats. Excavació de rases per a fonaments o pous, en terreny existent, amb mitjans mecànics adients, i càrrega sobre camió o contenidor.
D48: =+VLOOKUP($A46,BASEdades!$A$3:$AA$283,6,FALSE()) -> .
D49: Retrocarregadora sobre pneumàtics, de 70 kW | E49: =+VLOOKUP($D49,PREUS!$B$1:$F$589,3,FALSE()) -> 41.71 | F49: =+VLOOKUP($D49,PREUS!$B$1:$F$589,4,FALSE()) -> h | G49: 0.47 | H49: =E49*G49 -> 19.6037
D50: Ajudant construcció d'obra civil | E50: =+VLOOKUP($D50,PREUS!$B$1:$F$589,3,FALSE()) -> 27.39 | F50: =+VLOOKUP($D50,PREUS!$B$1:$F$589,4,FALSE()) -> h | G50: 0.488 | H50: =E50*G50 -> 13.36632
D51: Costos directes complementaris | E51: =SUM(H49:H50) -> 32.97002 | F51: % | G51: 0.02 | H51: =E51*G51 -> 0.6594004
A54: fonament formigó | C54: =+VLOOKUP($A54,BASEdades!$A$3:$AA$283,3,FALSE()) -> m3 | D54: =+VLOOKUP($A54,BASEdades!$A$3:$AA$298,2,FALSE()) -> Fonament de formigó HA-25 | H54: =+VLOOKUP($A54,BASEdades!$A$3:$AA$283,7,FALSE()) -> 265 | I54: =#REF!*H54 -> #REF!
...

Sheet QUADRE PREUS 2
B1: =PORTADA_PTO!A17 -> VALORACIÓ ECONÒMICA
B2: =PORTADA_PTO!A18 -> TRANSFORMACIÓ DELS ESPAIS EXTERIORS DE L’ESCOLA BRESSOL MUNICIPAL DE ROCAFONDA
B3: =PORTADA_PTO!E14 -> MATARÓ
B7: QUADRE DE PREUS 2
A9: CODI BASE DADES | C9: Un | D9: Descripció | H9: € un. | I9: IMPORT TOTAL (PEM)
A11: retirada tanca metàl·lica | C11: =+VLOOKUP($A11,BASEdades!$A$3:$AA$283,3,FALSE()) -> m | D11: =+VLOOKUP($A11,BASEdades!$A$3:$AA$283,2,FALSE()) -> Retirada de tanca metàl·lica existent | H11: =+VLOOKUP($A11,BASEdades!$A$3:$AA$283,7,FALSE()) -> 20 | I11: =#REF!*H11 -> #REF!
D12: =+VLOOKUP($A11,BASEdades!$A$3:$AA$283,4,FALSE()) -> Retirada de reixat metàl·lic de fins a 2 m d'alçària, com a màxim, sense enderroc de daus de formigó, a mà i càrrega manual i mecànica de runa sobre camió o contenidor
D13: =+VLOOKUP($A11,BASEdades!$A$3:$AA$283,5,FALSE()) -> .Mides de la tanca: mòduls 1.5m x 1m
D14: Peó ordinari construcció | E14: =+VLOOKUP($D14,PREUS!$B$1:$F$589,3,FALSE()) -> 25.8 | F14: =+VLOOKUP($D14,PREUS!$B$1:$F$589,4,FALSE()) -> h | G14: 0.76 | H14: =E14*G14 -> 19.608
D15: Costos directes complementaris | E15: =H14 -> 19.608 | F15: % | G15: 0.02 | H15: =E15*G15 -> 0.39216
A18: paleteria | C18: =+VLOOKUP($A18,BASEdades!$A$3:$AA$283,3,FALSE()) -> h | D18: =+VLOOKUP($A18,BASEdades!$A$3:$AA$283,2,FALSE()) -> Ajudes de paleta | H18: =+VLOOKUP($A18,BASEdades!$A$3:$AA$283,7,FALSE()) -> 57.72 | I18: =#REF!*H18 -> #REF!
D19: =+VLOOKUP($A18,BASEdades!$A$3:$AA$283,4,FALSE()) -> Jornada d'ajudes de paleta. Oficial i peò.
D20: =+VLOOKUP($A18,BASEdades!$A$3:$AA$283,5,FALSE()) -> .
D21: Oficial 1ª construcció | E21: =+VLOOKUP($D21,PREUS!$B$1:$F$589,3,FALSE()) -> 30.79 | F21: =+VLOOKUP($D21,PREUS!$B$1:$F$589,4,FALSE()) -> h | G21: 1 | H21: =E21*G21 -> 30.79
D22: Peó ordinari construcció | E22: =+VLOOKUP($D22,PREUS!$B$1:$F$589,3,FALSE()) -> 25.8 | F22: =+VLOOKUP($D22,PREUS!$B$1:$F$589,4,FALSE()) -> h | G22: 1 | H22: =E22*G22 -> 25.8
D23: Costos directes complementaris | E23: =SUM(H21:H22) -> 56.59 | F23: % | G23: 0.02 | H23: =E23*G23 -> 1.1318
A25: Tall de paviment | C25: =+VLOOKUP($A25,BASEdades!$A$3:$AA$283,3,FALSE()) -> m | D25: =+VLOOKUP($A25,BASEdades!$A$3:$AA$298,2,FALSE()) -> Tall de paviment | H25: =+VLOOKUP($A25,BASEdades!$A$3:$AA$283,7,FALSE()) -> 5.7 | I25: =#REF!*H25 -> #REF!
D26: =+VLOOKUP($A25,BASEdades!$A$3:$AA$283,4,FALSE()) -> Execució de tall en paviment de qualsevol tipus, de 10cm de fondària com a mínim, amb màquina tallajunts amb disc de diamant per a paviment, per a delimitar la zona a demolir, i càrrega manual sobre camió o contenidor
D27: =+VLOOKUP($A25,BASEdades!$A$3:$AA$283,6,FALSE()) -> .
D28: Talladora de paviment | E28: =+VLOOKUP($D28,PREUS!$B$1:$F$589,3,FALSE()) -> 42.15 | F28: =+VLOOKUP($D28,PREUS!$B$1:$F$589,4,FALSE()) -> h | G28: 0.0804 | H28: =E28*G28 -> 3.38886
D29: Ajudant construcció d'obra civil | E29: =+VLOOKUP($D29,PREUS!$B$1:$F$589,3,FALSE()) -> 27.39 | F29: =+VLOOKUP($D29,PREUS!$B$1:$F$589,4,FALSE()) -> h | G29: 0.0804 | H29: =E29*G29 -> 2.202156
D30: Costos directes complementaris | E30: =SUM(H28:H29) -> 5.591016 | F30: % | G30: 0.02 | H30: =E30*G30 -> 0.11182032
A32: demolició solera formigó | C32: =+VLOOKUP($A32,BASEdades!$A$3:$AA$283,3,FALSE()) -> m2 | D32: =+VLOOKUP($A32,BASEdades!$A$3:$AA$298,2,FALSE()) -> Demolició de solera de formigó | H32: =+VLOOKUP($A32,BASEdades!$A$3:$AA$283,7,FALSE()) -> 15 | I32: =#REF!*H32 -> #REF!
D33: =+VLOOKUP($A32,BASEdades!$A$3:$AA$283,4,FALSE()) -> Demolició de solera de formigó en massa de fins a 15cm, mitjançant retroexcavadora amb martell picador. El preu inclou el picat i estesa del material per ser utilitzat com a grava de drenatge.
D34: =+VLOOKUP($A32,BASEdades!$A$3:$AA$283,6,FALSE()) -> .
D35: Martell pneumàtic | E35: =+VLOOKUP($D35,PREUS!$B$1:$F$589,3,FALSE()) -> 4.57 | F35: =+VLOOKUP($D35,PREUS!$B$1:$F$589,4,FALSE()) -> h | G35: 0.1 | H35: =E35*G35 -> 0.457
D36: Compressor portàtil elèctric 2m3/min de cabal | E36: =+VLOOKUP($D36,PREUS!$B$1:$F$589,3,FALSE()) -> 4.27 | F36: =+VLOOKUP($D36,PREUS!$B$1:$F$589,4,FALSE()) -> h | G36: 0.1 | H36: =E36*G36 -> 0.427
D37: Peó especialitzat construcció | E37: =+VLOOKUP($D37,PREUS!$B$1:$F$589,3,FALSE()) -> 26.64 | F37: =+VLOOKUP($D37,PREUS!$B$1:$F$589,4,FALSE()) -> h | G37: 0.2635 | H37: =E37*G37 -> 7.01964
D38: Peó ordinari construcció | E38: =+VLOOKUP($D38,PREUS!$B$1:$F$589,3,FALSE()) -> 25.8 | F38: =+VLOOKUP($D38,PREUS!$B$1:$F$589,4,FALSE()) -> h | G38: 0.2635 | H38: =E38*G38 -> 6.7983
D39: Costos directes complementaris | E39: =SUM(H35:H38) -> 14.70194 | F39: % | G39: 0.02 | H39: =E39*G39 -> 0.2940388
A42: mostreig | C42: =+VLOOKUP($A42,BASEdades!$A$3:$AA$283,3,FALSE()) -> ut | D42: =+VLOOKUP($A42,BASEdades!$A$3:$AA$298,2,FALSE()) -> Mostreig | H42: =+VLOOKUP($A42,BASEdades!$A$3:$AA$283,7,FALSE()) -> 135.39 | I42: =#REF!*H42 -> #REF!
D43: =+VLOOKUP($A42,BASEdades!$A$3:$AA$283,4,FALSE()) -> Mostreig, realització de con d'Abrams, elaboració de les provetes, cura, recapçament i assaig a compressió d'una sèrie de cinc provetes cilíndriques de 15x30 cm, segons la norma UNE-EN 12390-1, UNE-EN 12390-2, UNE-EN 12390-3, UNE-EN 12350-1 i UNE-EN 12350-2
D44: =+VLOOKUP($A42,BASEdades!$A$3:$AA$283,5,FALSE()) -> .
A47: rebaix fonaments i pous | C47: =+VLOOKUP($A47,BASEdades!$A$3:$AA$283,3,FALSE()) -> m3 | D47: =+VLOOKUP($A47,BASEdades!$A$3:$AA$298,2,FALSE()) -> Rebaix per a fonaments i pous | H47: =+VLOOKUP($A47,BASEdades!$A$3:$AA$283,7,FALSE()) -> 33.63 | I47: =#REF!*H47 -> #REF!
D48: =+VLOOKUP($A47,BASEdades!$A$3:$AA$283,4,FALSE()) -> Excavació a cel obert, en terra d'argila semidura, amb mitjans mecànics i càrrega a camió. El preu no inclou el transport dels materials excavats. Excavació de rases per a fonaments o pous, en terreny existent, amb mitjans mecànics adients, i càrrega sobre camió o contenidor.
D49: =+VLOOKUP($A47,BASEdades!$A$3:$AA$283,6,FALSE()) -> .
D50: Retrocarregadora sobre pneumàtics, de 70 kW | E50: =+VLOOKUP($D50,PREUS!$B$1:$F$589,3,FALSE()) -> 41.71 | F50: =+VLOOKUP($D50,PREUS!$B$1:$F$589,4,FALSE()) -> h | G50: 0.47 | H50: =E50*G50 -> 19.6037
D51: Ajudant construcció d'obra civil | E51: =+VLOOKUP($D51,PREUS!$B$1:$F$589,3,FALSE()) -> 27.39 | F51: =+VLOOKUP($D51,PREUS!$B$1:$F$589,4,FALSE()) -> h | G51: 0.488 | H51: =E51*G51 -> 13.36632
D52: Costos directes complementaris | E52: =SUM(H50:H51) -> 32.97002 | F52: % | G52: 0.02 | H52: =E52*G52 -> 0.6594004
A55: fonament formigó | C55: =+VLOOKUP($A55,BASEdades!$A$3:$AA$283,3,FALSE()) -> m3 | D55: =+VLOOKUP($A55,BASEdades!$A$3:$AA$298,2,FALSE()) -> Fonament de formigó HA-25 | H55: =+VLOOKUP($A55,BASEdades!$A$3:$AA$283,7,FALSE()) -> 265 | I55: =#REF!*H55 -> #REF!
...

Sheet PREUS
B1: =PORTADA_PTO!E12 -> VALORACIÓ ECONÒMICA
B2: =PORTADA_PTO!A18 -> TRANSFORMACIÓ DELS ESPAIS EXTERIORS DE L’ESCOLA BRESSOL MUNICIPAL DE ROCAFONDA
B3: =PORTADA_PTO!E14 -> MATARÓ
D4: =PORTADA_PTO!E10 -> Barcelona, 13 maig dimecres
B7: JUSTIFICACIÓ
B9: Mà d'obra
B10: Oficial 1ª lampista | D10: 32 | E10: h
B11: Ajudant construcció d'obra civil | D11: 27.39 | E11: h
B12: Peó especialitzat construcció | D12: 26.64 | E12: h
B13: Peó ordinari construcció | D13: 25.8 | E13: h
B14: Oficial 1ª construcció | D14: 30.79 | E14: h
B15: Oficial 1ª muntador d'estructura metàl·lica | D15: 30.76 | E15: h
B16: Ajudant muntador d'estructura metàl·lica | D16: 27.36 | E16: h
B17: Ajudant ferrallista | D17: 27.36 | E17: h
B18: Oficial 1ª ferrallista | D18: 30.76 | E18: h
B19: Oficial 1ª muntador de tancaments industrials | D19: 31.79 | E19: h
B20: Ajudant muntador de tancaments industrials | D20: 27.39 | E20: h
B21: Oficial 1ª lampista | D21: 31.79 | E21: h
... B30: Oficial 1ª jardiner | D30: 30.76 | E30: h
B32: Equip i maquinària
B33: Martell pneumàtic | D33: 4.57 | E33: h
B34: Compressor portàtil elèctric 2m3/min de cabal | D34: 4.27 | E34: h
B35: Talladora de paviment | D35: 42.15 | E35: h
B36: Equip i elements auxiliars per soldadura elèctrica | D36: 3.42 | E36: h
B37: Mini pala carregadora sobre pneumàtics, de 52 kW/1 m³ kW | D37: 36.8 | E37: h
B38: Picó vibrant de guiat manual, de 80 kg, amb placa de 30x30 cm, tipus piconadora de granota | D38: 3.92 | E38: h
B39: Camió cisterna, de 8 m³ de capacitat | D39: 121.25 | E39: h
B40: Dúmper de descàrrega frontal de 2 t de càrrega útil | D40: 10.58 | E40: h
B41: Compactadora tàndem autopropulsat, de 63 kW, de 9,65 t, amplada de treball 168 cm | D41: 45.83 | E41: h
B42: Regla vibrant de 3 m | D42: 5.23 | E42: h
B43: Arremolinadora mecànica de formigó | D43: 5.68 | E43: h
B44: Formigonera elèctrica amb una capacitat de pastat de 160 l | D44: 3.45 | E44: h
... B49: Retroexcavadora | D49: 90.97 | E49: h
B50: Elevador de braç articulat | C50: Lloguer diari de cistell elevador de braç articulat, motor dièsel, de 16 m d'altura màxima de treball, inclús manteniment i assegurança de responsabilitat civil. | D50: 129.04 | E50: u
B52: Materials
B53: Acer laminat | C53: Acer laminat UNE-EN 10025 S275JR, en perfils laminats en calent, peces simples, per aplicacions estructurals, de les sèries IPN, IPE, HEB, HEA, HEM o UPN, acabat amb emprimació antioxidant. Treballat i muntat en taller, per a col·locar amb unions soldades en obra. | D53: 1.54 | E53: kg
B54: Acer laminat L LD T | C54: Acer laminat UNE-EN 10025 S275JR, en perfils laminats en calent, peces simples, per aplicacions estructurals, de les sèries L, LD, T, rodó, quadrat, rectangular o platina, acabat amb emprimació antioxidant. Treballat i muntat en taller, per a col·locar amb unions cargolades en obra. | D54: 1.81 | E54: kg
B55: Acer laminat en fred | C55: Acer UNE-EN 10162 S235JRC, en perfils conformats en fred, peces simples, per aplicacions estructurals, de les sèries omega, L, U, C o Z, acabat amb emprimació antioxidant. Treballat i muntat en taller, per a col·locar amb unions soldades en obra. | D55: 1.66 | E55: kg
B56: Àrid reciclat | C56: Àrid reciclat de formigó, de granulometria compresa entre 40 i 80 mm, subministrat mitjançant camió. | D56: 9.66 | E56: t
B57: Aigua | D57: 1.5 | E57: m3
...

Sheet RESUM PARTIDES
B1: =PORTADA_PTO!A17 -> VALORACIÓ ECONÒMICA
B2: =PORTADA_PTO!A18 -> TRANSFORMACIÓ DELS ESPAIS EXTERIORS DE L’ESCOLA BRESSOL MUNICIPAL DE ROCAFONDA
B3: =PORTADA_PTO!E14 -> MATARÓ
I4: =PORTADA_PTO!E10 -> Barcelona, 13 maig dimecres
B6: RESUM PER CAPÍTOLS
B7: QUADRE DE PREUS 1
B8: =PATI!B6 -> PATI | I8: =SUM(I9:I13) -> 90154.992
B9: RESUM PER ZONES
D11: =PATI!B10 -> 1. FEINES PRÈVIES | I11: =PATI!I10 -> 9663.4243
D12: =PATI!B67 -> 2. PATI | I12: =PATI!I67 -> 70919.951
D13: =PATI!B296 -> 3. VEGETACIÓ I REG | I13: =PATI!I296 -> 9571.6169
B15: =ACCÉS!B7 -> ACCÉS | I15: =ACCÉS!I7 -> 19806.735
B16: RESUM PER ZONES
D18: =ACCÉS!B11 -> 1. ACCÉS | I18: =ACCÉS!I11 -> 19806.735
B20: =UMBRACLE!B7 -> UMBRACLE | I20: =UMBRACLE!I7 -> 27330.302
B21: RESUM PER ZONES
D23: =UMBRACLE!B11 -> 1. UMBRACLES | I23: =UMBRACLE!I11 -> 27330.302
B25: TOTAL PEM | I25: =SUM(+I15+I8+I20) -> 137292.03
B27: CONTROL DE QUALITAT I SEGURETAT I SALUT | I27: =SUM(I28:I29) -> 5491.6812
D28: Control de Qualitat i Homologació segons normativa vigent | I28: =I25*0.02 -> 2745.8406
D29: Seguretat i Salut | I29: =I25*0.02 -> 2745.8406
B31: TOTAL PARCIAL | I31: =SUM(I25,I27) -> 142783.71
B34: SUMA DESPESES GENERALS I BENEFICI INDUSTRIAL | I34: =SUM(I35:I36) -> 27128.905
D35: 13,00% Despeses Generals | I35: =I31*0.13 -> 18561.882
D36: 6,00% Benefici Industrial | I36: =I31*0.06 -> 8567.0227
B38: TOTAL PARCIAL | I38: =I31+I34 -> 169912.62
B41: IMPOSTOS | I41: =SUM(I42) -> 35681.649
D42: 21% I.V.A. | E42: =I15=ACCÉS!I7 -> TRUE | I42: =I38*0.21 -> 35681.649
B44: TOTAL PEC (TOTAL PRESSUPOST PER CONEIXEMENT DE L'ADMINISTRACIÓ) | I44: =I38+I41 -> 205594.27
