Workbook

Sheet Annex B
B1: EXPEDIENT | C1: SCS-2027-7 | D1: Subministrament de llums, torretes i sistema d'integració audiovisual pel bloc quirúrgic de l'Hospital Universitari Arnau de Vilanova | E1: EMPRESA | F1: Nom a emplenar per l'empresa
E2: NIF | F2: NIF a emplenar per l'empresa
E3: Correu electrònic | F3: Correu electrònic a emplenar per l'empresa
D6: INDICAR (MARCAR AMB UNA "X") SI ÉS OFERTA INDIVIDUAL O INTEGRADORA (per poder presentar oferta integradora s'ha d'haver ofertat també oferta individual)
D7: Oferta individual
D8: Oferta integradora
A12: Nº de lot | B12: Nom del lot | C12: Codi | D12: Descripció | E12: Quantitat | F12: Marca/model
A13: Lot 1 | B13: Torretes i llums quirúrgics HUAV | C13: 1590010500 | D13: Torreta d'anestèsia de doble secció | E13: 16 | F13: Marca/Model a emplenar per l'empresa
C14: 1590010600 | D14: Torreta quirúrgica de doble secció | E14: 16 | F14: Marca/Model a emplenar per l'empresa
C15: 1520010110 | D15: Llum quirúrgic amb braç portamonitor | E15: =28+2 -> 30 | F15: Marca/Model a emplenar per l'empresa
C16: 1520010130 | D16: Llum quirúrgic amb braç per pantalla de protecció plomada | E16: 2 | F16: Marca/Model a emplenar per l'empresa
C17: 1590011300 | D17: Braç motoritzat suspès a sostre per a monitor (fins a 60") | E17: 2 | F17: Marca/Model a emplenar per l'empresa
C18: 1590010701 | D18: Càmera de vídeo per a quiròfan | E18: 5 | F18: Marca/Model a emplenar per l'empresa
A19: Lot 2 | B19: Sistema d'integració audiovisual de quiròfans HUAV | C19: 7718010400 | D19: Sistema d'integració audiovisual de quiròfans amb gravació | E19: 16 | F19: Marca/Model a emplenar per l'empresa
D22: Anar a la llegenda de grups de criteris a valorar

Sheet 1590010500
A1: 1590010500 | B1: Torreta d'anestèsia de doble secció
A2: ='Annex B'!C1 -> SCS-2027-7 | B2: EMPRESA | C2: ='Annex B'!F1 -> Nom a emplenar per l'empresa
B3: NIF | C3: ='Annex B'!F2 -> NIF a emplenar per l'empresa
B4: Correu electrònic | C4: ='Annex B'!F3 -> Correu electrònic a emplenar per l'empresa
A5: Nota: a la columna "Índex documental", cal indicar la ubicació exacta a la documentació aportada (full, apartat, etc.) on es troben les característiques tècniques així com, si es requereix, el servei tècnic i les condicions de manteniment. A la columna "Característiques específiques (Descripció breu)" cal afegir una breu descripció i els valors, rangs o quantitats que demana cada ítem de la fitxa tècnica.
B6: Definició | E6: Característiques específiques (Descripció breu) | F6: Índex documental
B7: Definició
B8: Torreta per a procediments quirúrgics anestèsics d'un braç de doble secció, amb opció de creixement a la primera secció per un segon braç per penjar altre equipament mèdic.
B9: Previsió d'entrega per anualitat: 2027: 13 torretes i tots els ancoratges a sostre (16) 2028: 3 torretes
B10: Cal incloure el catàleg complet d'accessoris compatibles amb l'equip i opcions, indicant el preu unitari s/IVA
B11: L'adjudicatari d'aquest element s'haurà de coordinar amb l'adjudicatari del sistema d'integració i audiovisuals per tal de garantir el pas de cablejat dins de les torres, i amb el del panell tècnic per tal de deixar l'espai i cablejat necessari per al mateix.
B12: L'adjudicatari de l'equip haurà de coordinar-se amb l'obra i altres empreses adjudicatàries d'equipament amb interferència amb obra en el moment de la instal·lació, per garantir la correcta instal·lació del conjunt d'equipament i un òptim funcionament assistencial.
B13: Un cop signat el contracte es farà una primera reunió de coordinació entre adjudicatari i obra per establir els requeriments de preinstal·lació de l'equip que afecten a l'obra. Si en el moment d'instal·lar l'equip cal fer adequacions a la sala i aquestes no es van especificar a la reunió de coordinació, les haurà d'assumir l'adjudicatari.
B14: Adjuntar certificat CE
B15: Indicar marca i model | E15: ='Annex B'!F13 -> Marca/Model a emplenar per l'empresa
B17: Prestacions tècniques i funcionals | C17: Grup de criteri | D17: Puntuació màxima | E17: Característiques específiques (Descripció breu) | F17: Índex documental
B18: 1.1 Dades bàsiques per a totes les torretes i descripció especificitats | D18: =SUM(D19:D64) -> 8.5
B19: Característiques d'obligat compliment: les ofertes que no compleixin tots els requisits obligatoris quedaran excloses
A20: 1 | B20: Totes les configuracions d'ancoratge cal que es limitin en el seu gir per no malmetre la part estructural de la sala
A21: =A20+1 -> 2 | B21: Cal que les torretes vinguin de fàbrica muntades amb preses de corrent amb la seva presa d'equipotencialitat corresponent i RJ45, gasos i tapes cegues per a poder incloure posteriorment les connexions del sistema d'integració (fibra òptica)
A22: =A21+1 -> 3 | B22: Els tipus de connexió de presa ha de ser tipus CM (Carburos Metálicos)
A23: =A22+1 -> 4 | B23: Les torretes han d'estar fabricades amb un material adient per tal d'evitar la corrosió (indicar tipus de material)
A24: =A23+1 -> 5 | B24: Cal disposar d'un sistema adient de recollida de cables per a una bona neteja (sistema d'oclusió de cablejat, ...). Adjuntar documentació gràfica
A25: =A24+1 -> 6 | B25: Les torretes han de permetre la instal·lació de connexions addicionals
A26: =A25+1 -> 7 | B26: Les torretes han de tenir un braç de doble secció articulat i una consola (cos de la torreta)
A27: =A26+1 -> 8 | B27: Les torretes han d'estar proveïdes amb un sistema de fre electromagnètic a les articulacions
A28: =A27+1 -> 9 | B28: Qualsevol font d'alimentació/targetes electròniques de control, etc., s'han de muntar en un espai de fàcil accés al costat dels quadres elèctrics o integrades en la columna (cal adjuntar imatge de la zona de la columna), en cap cas al fals sostre del quiròfan.
A29: =A28+1 -> 10 | B29: S'haurà de garantir un espai lliure de com a mínim 115mm de diàmetre en l'espai interior de les torres en el seu punt més estret per tal de permetre el pas de cablejat addicional corresponent a sistemes de comunicacions i videoconferència (cal presentar documentació justificativa)
A30: =A29+1 -> 11 | B30: Cal indicar angle de gir de la secció secundària sobre la principal
A31: =A30+1 -> 12 | B31: Cal indicar angle de gir de l'eix de la columna de connexions
A32: =A31+1 -> 13 | B32: El pes de càrrega suportat al punt més extrem del braç doble ha de ser superior a 90 kg descomptant el pes de la consola i la lleixa
A33: =A32+1 -> 14 | B33: Cal que incorpori sistema d'il·luminació ambient
B34: Torreta d'anestèsia
A35: =A33+1 -> 15 | B35: Formada per:
A36: =A35+1 -> 16 | B36: Braç articulat de doble secció, les dimensions dels quals hauran de garantir l'accés als subministraments des del cap del pacient fins al punt mig de la taula.
A37: =A36+1 -> 17 | B37: El conjunt de les seccions ha de ser de 1.800 mm de longitud aprox.
A38: =A37+1 -> 18 | B38: La consola amb totes les connexions ha de ser de 800mm aprox. Ha de disposar de 4 panells lateral per a la col·locació de connexions mínim i un sistema de 4 carrils verticals continus per a fixar accessoris i lleixes a l’alçada adequada.
B39: El cos de la torreta ha d'incloure els següents accessoris:
A40: =A38+1 -> 19 | B40: Adaptador per a muntar el monitor de l'anestesista en els 4 carrils continus verticals amb una capacitat de càrrega de 20kg
A41: =A40+1 -> 20 | B41: 2 barres tècniques DIN (10x25) de 400mm aprox. amb un sistema de fixació mecànic per a muntar-les lliurement en els carrils verticals, amb una capacitat de càrrega de 30kg
...

Sheet 1590010600
A1: 1590010600 | B1: Torreta quirúrgica de doble secció
A2: ='Annex B'!C1 -> SCS-2027-7 | B2: EMPRESA | C2: ='Annex B'!F1 -> Nom a emplenar per l'empresa
B3: NIF | C3: ='Annex B'!F2 -> NIF a emplenar per l'empresa
B4: Correu electrònic | C4: ='Annex B'!F3 -> Correu electrònic a emplenar per l'empresa
A5: Nota: a la columna "Índex documental", cal indicar la ubicació exacta a la documentació aportada (full, apartat, etc.) on es troben les característiques tècniques així com, si es requereix, el servei tècnic i les condicions de manteniment. A la columna "Característiques específiques (Descripció breu)" cal afegir una breu descripció i els valors, rangs o quantitats que demana cada ítem de la fitxa tècnica.
B6: Definició | E6: Característiques específiques (Descripció breu) | F6: Índex documental
B7: Definició
B8: Torreta per a procediments quirúrgics amb braç de doble secció, amb opció de creixement a la primera secció per un segon braç per penjar altre equipament mèdic
B9: Previsió d'entrega per anualitat: 2027: 13 torretes i tots els ancoratges a sostre (16) 2028: 3 torretes
B10: Cal incloure el catàleg complet d'accessoris compatibles amb l'equip i opcions, indicant el preu unitari s/IVA
B11: L'adjudicatari d'aquest element s'haurà de coordinar amb l'adjudicatari del sistema d'integració i audiovisuals per tal de garantir el pas de cablejat dins de les torres, i amb el del panell tècnic per tal de deixar l'espai i cablejat necessari per al mateix.
B12: L'adjudicatari de l'equip haurà de coordinar-se amb l'obra i altres empreses adjudicatàries d'equipament amb interferència amb obra en el moment de la instal·lació, per garantir la correcta instal·lació del conjunt d'equipament i un òptim funcionament assistencial.
B13: Un cop signat el contracte es farà una primera reunió de coordinació entre adjudicatari i obra per establir els requeriments de preinstal·lació de l'equip que afecten a l'obra. Si en el moment d'instal·lar l'equip cal fer adequacions a la sala i aquestes no es van especificar a la reunió de coordinació, les haurà d'assumir l'adjudicatari.
B14: Adjuntar certificat CE
B15: Indicar marca i model | E15: ='Annex B'!F14 -> Marca/Model a emplenar per l'empresa
B17: Prestacions tècniques i funcionals | C17: Grup de criteri | D17: Puntuació màxima | E17: Característiques específiques (Descripció breu) | F17: Índex documental
B18: 1.1 Dades bàsiques per a totes les torretes i descripció especificitats | D18: =SUM(D19:D60) -> 8.5
B19: Característiques d'obligat compliment: les ofertes que no compleixin tots els requisits obligatoris quedaran excloses
A20: 1 | B20: Totes les configuracions d'ancoratge cal que es limitin en el seu gir per no malmetre la part estructural de la sala
A21: =A20+1 -> 2 | B21: Cal que les torretes vinguin de fàbrica muntades amb preses de corrent amb la seva presa d'equipotencialitat corresponent i RJ45, gasos i tapes cegues per a poder incloure posteriorment les connexions del sistema d'integració (fibra òptica)
A22: =A21+1 -> 3 | B22: Els tipus de connexió de presa ha de ser tipus CM (Carburos Metálicos)
A23: =A22+1 -> 4 | B23: Les torretes han d'estar fabricades amb un material adient per tal d'evitar la corrosió (indicar tipus de material)
A24: =A23+1 -> 5 | B24: Cal disposar d'un sistema adient de recollida de cables per a una bona neteja (sistema d'oclusió de cablejat, ...). Adjuntar documentació gràfica
A25: =A24+1 -> 6 | B25: Les torretes han de permetre la instal·lació de connexions addicionals
A26: =A25+1 -> 7 | B26: Les torretes han de tenir un braç de doble secció articulat i una consola (cos de la torreta)
A27: =A26+1 -> 8 | B27: Les torretes han d'estar proveïdes amb un sistema de fre electromagnètic a les articulacions
A28: =A27+1 -> 9 | B28: Qualsevol font d'alimentació/targetes electròniques de control, etc., s'han de muntar en un espai de fàcil accés al costat dels quadres elèctrics o integrades en la columna (cal adjuntar imatge de la zona de la columna), en cap cas al fals sostre del quiròfan.
A29: =A28+1 -> 10 | B29: S'haurà de garantir un espai lliure de com a mínim de 115mm de diàmetre de l'espai interior de les torres en el seu punt més estret per tal de permetre el pas de cablejat addicional per a sistemes de comunicacions i videoconferència (cal presentar documentació justificativa)
A30: =A29+1 -> 11 | B30: Cal indicar angle de gir de la secció secundària sobre la principal
A31: =A30+1 -> 12 | B31: Cal indicar angle de gir de l'eix de la columna de connexions
A32: =A31+1 -> 13 | B32: El pes de càrrega suportat al punt més extrem del braç doble ha de ser superior a 90 kg descomptant el pes de la consola i la lleixa
B33: Torreta de cirurgia
A34: =A32+1 -> 14 | B34: Formada per:
A35: =A34+1 -> 15 | B35: Braç articulat de doble secció, les dimensions dels quals hauran de garantir l'accés als subministraments des dels peus del pacient fins al punt mig de la taula.
A36: =A35+1 -> 16 | B36: El conjunt de les seccions ha de ser de 1.800 mm de longitud aprox.
A37: =A36+1 -> 17 | B37: La consola amb totes les connexions ha de ser de 1.200mm aprox. Ha de disposar de 4 panells lateral per a la col·locació de connexions mínim i un sistema de 4 carrils verticals continus per a fixar accessoris i lleixes a l’alçada adequada.
B38: El cos de la torreta ha d'incloure els següents accessoris:
A39: =A37+1 -> 18 | B39: 2 barres tècniques DIN (10x25) de 400mm aprox. amb un sistema de fixació mecànic per a muntar-les lliurement en els carrils verticals amb una capacitat de càrrega de 30 kg
A40: =A39+1 -> 19 | B40: 2 barres tècniques DIN (10x25) de 400mm aprox. amb dos sistemes de fixació mecànica per a muntar-les lliurement en 2 carrils verticals amb una capacitat de càrrega de 30 kg
A41: =A40+1 -> 20 | B41: 2 safates de 680x450mm aprox., amb barres tècniques DIN (10x25 mm) als laterals, acabats arrodonits i proteccions antixocs. Totalment estancs i de fàcil neteja sense racons.
...

Sheet 1520010110
A1: 1520010110 | B1: Llum quirúrgic amb braç portamonitor
A2: ='Annex B'!C1 -> SCS-2027-7 | B2: EMPRESA | C2: ='Annex B'!F1 -> Nom a emplenar per l'empresa
B3: NIF | C3: ='Annex B'!F2 -> NIF a emplenar per l'empresa
B4: Correu electrònic | C4: ='Annex B'!F3 -> Correu electrònic a emplenar per l'empresa
A5: Nota: a la columna "Índex documental", cal indicar la ubicació exacta a la documentació aportada (full, apartat, etc.) on es troben les característiques tècniques així com, si es requereix, el servei tècnic i les condicions de manteniment. A la columna "Característiques específiques (Descripció breu)" cal afegir una breu descripció i els valors, rangs o quantitats que demana cada ítem de la fitxa tècnica.
B6: Definició | E6: Característiques específiques (Descripció breu) | F6: Índex documental
B7: Definició
B8: Llum quirúrgic de 150.000 lux suspès a sostre amb braç porta monitor de 32". De les trenta (30) unitats, sis (6) han de permetre la cirurgia guiada per fluorescència.
B9: Previsió d'entrega per anualitat: 2027: 18 llums amb braç portamonitor i tots els ancoratges a sostre (30). 2 dels llums, amb fluorescència. 2028: 12 llums amb braç portamonitor. 4 dels llums, amb fluorescència
B10: Cal incloure el catàleg complet d'accessoris compatibles amb l'equip i opcions, indicant el preu unitari s/IVA
B11: L'adjudicatari d'aquest element s'haurà de coordinar amb l'adjudicatari del sistema d'integració i audiovisuals per tal de garantir el pas de cablejat dins dels llums, i amb el del panell tècnic per tal de deixar l'espai i cablejat necessari per al mateix.
B12: L'adjudicatari de l'equip haurà de coordinar-se amb l'obra i altres empreses adjudicatàries d'equipament amb interferència amb obra en el moment de la instal·lació, per garantir la correcta instal·lació del conjunt d'equipament i un òptim funcionament assistencial.
B13: Un cop signat el contracte es farà una primera reunió de coordinació entre adjudicatari i obra per establir els requeriments de preinstal·lació de l'equip que afecten a l'obra. Si en el moment d'instal·lar l'equip cal fer adequacions a la sala i aquestes no es van especificar a la reunió de coordinació, les haurà d'assumir l'adjudicatari.
B14: Adjuntar certificat CE
B15: Indicar marca i model | E15: ='Annex B'!F15 -> Marca/Model a emplenar per l'empresa
B17: Prestacions tècniques i funcionals | C17: Grup de criteri | D17: Puntuació màxima | E17: Característiques específiques (Descripció breu) | F17: Índex documental
B18: 1.1. Característiques tècniques | D18: =SUM(D19:D60) -> 13.25
B19: Característiques d'obligat compliment: les ofertes que no compleixin tots els requisits obligatoris quedaran excloses
B20: Braç per llum:
A21: 1 | B21: Braç articulat de doble secció amb arc cardànic amb rotació de 360º, sense fi en eix vertical
A22: =A21+1 -> 2 | B22: El conjunt de les seccions ha de ser de 1.800mm de longitud aprox.
A23: =A22+1 -> 3 | B23: Braç de resort amb alçada regulable en un rang igual o superior +45º/-45º aproximadament
B24: Llums quirúrgics:
A25: =A23+1 -> 4 | B25: Tecnologia LED
A26: =A25+1 -> 5 | B26: Llum amb disseny que eviti la formació d'ombres, dispersió i concentració del feix de llum (Cal indicar la luminància amb una màscara, amb dues màscares, amb tub, amb tub+ màscara, i amb tub + 2 mascares (% respecte el EC))
A27: =A26+1 -> 6 | B27: Indicar diàmetre de la cúpula
A28: =A27+1 -> 7 | B28: Sistema d'alimentació de la làmpada 220-230V, amb fonts d'alimentació fora del quiròfan
A29: =A28+1 -> 8 | B29: Rendiment lumínic dels LED d'aproximadament el 85% o superior, i garantit durant un mínim de 50.000 h
A30: =A29+1 -> 9 | B30: La regulació de la intensitat de llum ha de ser contínua dins del rang propi de cada làmpada, amb control d'intensitat des de la làmpada, almenys del 25% fins a la màxima intensitat. Indicar-ne els punts de control: Paret, integració al panell tècnic
A31: =A30+1 -> 10 | B31: El llum ofert ha de tenir una il·luminació a 1m d'aproximadament 150.000 lux nominals sostinguts com a mínim a rang de temperatura de color entre 3800 i 5000 ºK
A32: =A31+1 -> 11 | B32: Factor de reproducció del color de 95 (Ra) aproximadament
A33: =A32+1 -> 12 | B33: Índex de rendiment particular superior a 90 (Ra) aproximadament
A34: =A33+1 -> 13 | B34: Indicar nombre de LEDs per cúpula
A35: =A34+1 -> 14 | B35: Il·luminació ambient, per procediments que requereixin d'intensitat lluminosa atenuada. Indicar rang d'intensitat en lux
A36: =A35+1 -> 15 | B36: Irradiació màxima de calor a 1 m < 600 W/m2
A37: =A36+1 -> 16 | B37: Relació calor-llum ≤ 5 mW/m2.lux
... A40: =A39+1 -> 19 | B40: S'haurà d'incloure preinstal·lació per càmera a cada làmpada, amb connexió sense fils. Ubicació de la càmera centrada, preferiblement
B41: Braç per monitor:
A42: =A40+1 -> 20 | B42: Braç articulat de doble secció amb arc cardànic amb rotació d'aproximadament 270º
A43: =A42+1 -> 21 | B43: El conjunt de les seccions ha de ser de 2.200mm de longitud aprox.
...

Sheet 1520010130
A1: 1520010130 | B1: Llum quirúrgic amb braç per pantalla de protecció plomada
A2: ='Annex B'!C1 -> SCS-2027-7 | B2: EMPRESA | C2: ='Annex B'!F1 -> Nom a emplenar per l'empresa
B3: NIF | C3: ='Annex B'!F2 -> NIF a emplenar per l'empresa
B4: Correu electrònic | C4: ='Annex B'!F3 -> Correu electrònic a emplenar per l'empresa
A5: Nota: a la columna "Índex documental", cal indicar la ubicació exacta a la documentació aportada (full, apartat, etc.) on es troben les característiques tècniques així com, si es requereix, el servei tècnic i les condicions de manteniment. A la columna "Característiques específiques (Descripció breu)" cal afegir una breu descripció i els valors, rangs o quantitats que demana cada ítem de la fitxa tècnica.
B6: Definició | E6: Característiques específiques (Descripció breu) | F6: Índex documental
B7: Definició
B8: Llum quirúrgic de 150.000 lux suspès a sostre amb pantalla radioprotectora
B9: Previsió d'entrega per anualitat: Tot a 2027: 2 llums amb braç per pantalla de protecció plomada
B10: Cal incloure el catàleg complet d'accessoris compatibles amb l'equip i opcions, indicant el preu unitari s/IVA
B11: L'adjudicatari d'aquest element s'haurà de coordinar amb l'adjudicatari del sistema d'integració i audiovisuals per tal de garantir el pas de cablejat dins dels llums, i amb el del panell tècnic per tal de deixar l'espai i cablejat necessari per al mateix.
B12: L'adjudicatari de l'equip haurà de coordinar-se amb l'obra i altres empreses adjudicatàries d'equipament amb interferència amb obra en el moment de la instal·lació, per garantir la correcta instal·lació del conjunt d'equipament i un òptim funcionament assistencial.
B13: Un cop signat el contracte es farà una primera reunió de coordinació entre adjudicatari i obra per establir els requeriments de preinstal·lació de l'equip que afecten a l'obra. Si en el moment d'instal·lar l'equip cal fer adequacions a la sala i aquestes no es van especificar a la reunió de coordinació, les haurà d'assumir l'adjudicatari.
B14: Adjuntar certificat CE
B15: Indicar marca i model | E15: ='Annex B'!F16 -> Marca/Model a emplenar per l'empresa
B17: Prestacions tècniques i funcionals | C17: Grup de criteri | D17: Puntuació màxima | E17: Característiques específiques (Descripció breu) | F17: Índex documental
B18: 1.1. Característiques tècniques | D18: =SUM(D19:D55) -> 2.75
B19: Característiques d'obligat compliment: les ofertes que no compleixin tots els requisits obligatoris quedaran excloses
B20: Braç per llum:
A21: 1 | B21: Braç articulat de doble secció amb arc cardànic amb rotació de 360º, sense fi en eix vertical
A22: =A21+1 -> 2 | B22: El conjunt de les seccions ha de ser de 2.300mm de longitud aprox.
A23: =A22+1 -> 3 | B23: Braç de resort amb alçada regulable en un rang igual o superior +45º/-45º aproximadament
B24: Llums quirúrgics:
A25: =A23+1 -> 4 | B25: Tecnologia LED
A26: =A25+1 -> 5 | B26: Llum amb disseny que eviti la formació d'ombres, dispersió i concentració del feix de llum (Cal indicar la luminància amb una màscara, amb dues màscares, amb tub, amb tub+ màscara, i amb tub + 2 mascares (% respecte el EC))
A27: =A26+1 -> 6 | B27: Indicar diàmetre de la cúpula
A28: =A27+1 -> 7 | B28: Sistema d'alimentació de la làmpada 220-230V, amb fonts d'alimentació fora del quiròfan
A29: =A28+1 -> 8 | B29: Rendiment lumínic dels LED d'aproximadament el 85% o superior, i garantit durant un mínim de 50.000 h
A30: =A29+1 -> 9 | B30: La regulació de la intensitat de llum ha de ser contínua dins del rang propi de cada làmpada, amb control d'intensitat des de la làmpada, almenys del 25% fins a la màxima intensitat. Indicar-ne els punts de control: Paret, integració al panell tècnic
A31: =A30+1 -> 10 | B31: El llum ofert ha de tenir una il·luminació a 1m d'aproximadament 150.000 lux nominals sostinguts com a mínim a rang de temperatura de color entre 3800 i 5000 ºK
A32: =A31+1 -> 11 | B32: Factor de reproducció del color de 95 (Ra) aproximadament
A33: =A32+1 -> 12 | B33: Índex de rendiment particular superior a 90 (Ra) aproximadament
A34: =A33+1 -> 13 | B34: Indicar nombre de LEDs per cúpula
A35: =A34+1 -> 14 | B35: Il·luminació ambient, per procediments que requereixin d'intensitat lluminosa atenuada. Indicar rang d'intensitat en lux
A36: =A35+1 -> 15 | B36: Irradiació màxima de calor a 1 m < 600 W/m2
A37: =A36+1 -> 16 | B37: Relació calor-llum ≤ 5 mW/m2.lux
... A40: =A39+1 -> 19 | B40: S'haurà d'incloure preinstal·lació per càmera a cada làmpada, amb connexió sense fils. Ubicació de la càmera centrada, preferiblement
B41: Braç per pantalla radioprotectora
A42: =A40+1 -> 20 | B42: Braç articulat de doble secció amb arc cardànic amb rotació 360º
A43: =A42+1 -> 21 | B43: Inclosa pantalla de protecció equivalent a 0,5mmPb
...

Sheet 1590011300
A1: 1590011300 | B1: Braç motoritzat suspès a sostre per a monitor (fins a 60")
A2: ='Annex B'!C1 -> SCS-2027-7 | B2: EMPRESA | C2: ='Annex B'!F1 -> Nom a emplenar per l'empresa
B3: NIF | C3: ='Annex B'!F2 -> NIF a emplenar per l'empresa
B4: Correu electrònic | C4: ='Annex B'!F3 -> Correu electrònic a emplenar per l'empresa
A5: Nota: a la columna "Índex documental", cal indicar la ubicació exacta a la documentació aportada (full, apartat, etc.) on es troben les característiques tècniques així com, si es requereix, el servei tècnic i les condicions de manteniment. A la columna "Característiques específiques (Descripció breu)" cal afegir una breu descripció i els valors, rangs o quantitats que demana cada ítem de la fitxa tècnica.
B6: Definició | E6: Característiques específiques (Descripció breu) | F6: Índex documental
B7: Definició
B8: Braç portamonitor motoritzat per monitors d'angiògraf vascular de fins a 60"
B9: Previsió d'entrega per anualitat: Tot a 2027: 2 braços portamonitors motoritzats
B10: Cal incloure el catàleg complet d'accessoris compatibles amb l'equip i opcions, indicant el preu unitari s/IVA
B11: L'adjudicatari de l'equip haurà de coordinar-se amb l'obra i altres empreses adjudicatàries d'equipament amb interferència amb obra en el moment de la instal·lació, per garantir la correcta instal·lació del conjunt d'equipament i un òptim funcionament assistencial.
B12: Un cop signat el contracte es farà una primera reunió de coordinació entre adjudicatari i obra per establir els requeriments de preinstal·lació de l'equip que afecten a l'obra. Si en el moment d'instal·lar l'equip cal fer adequacions a la sala i aquestes no es van especificar a la reunió de coordinació, les haurà d'assumir l'adjudicatari.
B13: Adjuntar certificat CE
B14: Indicar marca i model | E14: ='Annex B'!F17 -> Marca/Model a emplenar per l'empresa
B16: Prestacions tècniques i funcionals | C16: Grup de criteri | D16: Puntuació màxima | E16: Característiques específiques (Descripció breu) | F16: Índex documental
B17: 1.1. Característiques tècniques | D17: =SUM(D18:D34) -> 3
B18: Característiques d'obligat compliment: les ofertes que no compleixin tots els requisits obligatoris quedaran excloses
A19: 1 | B19: Braç articulat de doble secció
A20: =A19+1 -> 2 | B20: Amb capacitat per allotjar monitor de fins a 60" (no inclòs a l'oferta, caldrà coordinar-se amb l'adjudicatari del monitor i proporcionar tota la informació necessària per la seva fixació al braç)
A21: =A20+1 -> 3 | B21: Capacitat de càrrega superior a 180kg
A22: =A21+1 -> 4 | B22: El conjunt de les seccions ha de ser de 2.000mm de longitud aprox.
A23: =A22+1 -> 5 | B23: Rang de gir a totes les articulacions mínim de 330º
A24: =A23+1 -> 6 | B24: Rang de moviment en alçada del braç motoritzat 29º/-23º aprox.
A25: =A24+1 -> 7 | B25: Ajustament d'alçada mínim de 500mm
A26: =A25+1 -> 8 | B26: Adaptador per a marc de monitor 60” per al monitor de l’angiògraf.
A27: =A26+1 -> 9 | B27: Frens de fricció de fàcil instal·lació i manteniment. Que ocupin poc espai dins columna.
A28: =A27+1 -> 10 | B28: 3 nanses col·locades a sota i als dos costats del marc porta monitor, per a un fàcil accés i col·locació del monitor
A29: =A28+1 -> 11 | B29: S'adjunta amb la documentació de la licitació un plànol base de l'àrea quirúrgica en format CAD, PDF i 3D. Per part de les empreses, cal aportar un plànol en PDF amb la implantació de l'equipament ofert als espais on anirà instal·lat. S'han de poder apreciar les alçades, dimensions, radis de gir, possibles col·lisions, visió del personal a l'interior de les sales i altres elements existents a la sala. Presentar proposta d'implantació.
B30: Característiques a valorar
A31: =A29+1 -> 12 | B31: Possibilitat d'incorporar monitor de 65" | C31: ANA, E | D31: 1
A32: =A31+1 -> 13 | B32: Frens electromagnètics | C32: FTA | D32: 1
A33: =A32+1 -> 14 | B33: Inclusió d'arxiu de simulació tridimensional (no imatges) | C33: MP, E | D33: 0.25
A34: =A33+1 -> 15 | B34: Millor implantació del sistema. Detall i contingut del planning del qual es desprèn la proposta que s'ofereix. | C34: IAE, E | D34: 0.75
B36: Servei tècnic durant el període de garantia comercial i legal | C36: Grup de criteri | D36: Puntuació màxima | E36: Característiques específiques (Descripció breu) | F36: Índex documental
B37: Servei tècnic durant el període de garantia | D37: =SUM(D38:D42) -> 0.75
B38: Característiques d'obligat compliment: les ofertes que no compleixin tots els requisits obligatoris quedaran excloses
A39: =A34+1 -> 16 | B39: Veure Annex T2. Condicions d'instal·lació
B40: Característiques a valorar
A41: =A39+1 -> 17 | B41: Millora de l'horari d'atenció del servei tècnic en dies laborables/festius | C41: QSPV | D41: 0.25
A42: =A41+1 -> 18 | B42: Ubicació i disponibilitat de tècnics especialitzats en l'equip | C42: QSPV | D42: 0.5
...

Sheet 1590010701
A1: 1590010701 | B1: Càmera de vídeo per a quiròfan
A2: ='Annex B'!C1 -> SCS-2027-7 | B2: EMPRESA | C2: ='Annex B'!F1 -> Nom a emplenar per l'empresa
B3: NIF | C3: ='Annex B'!F2 -> NIF a emplenar per l'empresa
B4: Correu electrònic | C4: ='Annex B'!F3 -> Correu electrònic a emplenar per l'empresa
A5: Nota: a la columna "Índex documental", cal indicar la ubicació exacta a la documentació aportada (full, apartat, etc.) on es troben les característiques tècniques així com, si es requereix, el servei tècnic i les condicions de manteniment. A la columna "Característiques específiques (Descripció breu)" cal afegir una breu descripció i els valors, rangs o quantitats que demana cada ítem de la fitxa tècnica.
B6: Definició | E6: Característiques específiques (Descripció breu) | F6: Índex documental
B7: Definició
B8: Càmera Full HD de grau mèdic per a instal·lar a qualsevol cúpula quirúrgica oferta en aquest lot
B9: Previsió d'entrega per anualitat: Tot a 2027: 5 càmeres per a quiròfan
B10: L'adjudicatari de l'equip haurà de coordinar-se amb l'obra i altres empreses adjudicatàries d'equipament amb interferència amb obra i integració i audiovisuals en el moment de la instal·lació, per garantir la correcta instal·lació del conjunt d'equipament i un òptim funcionament assistencial.
B11: Adjuntar certificat CE
B12: Indicar marca i model | E12: ='Annex B'!F18 -> Marca/Model a emplenar per l'empresa
B14: Prestacions tècniques i funcionals | C14: Grup de criteri | D14: Puntuació màxima | E14: Característiques específiques (Descripció breu) | F14: Índex documental
B15: 1.1. Característiques tècniques | D15: =SUM(D16:D27) -> 3
B16: Característiques d'obligat compliment: les ofertes que no compleixin tots els requisits obligatoris quedaran excloses
A17: 1 | B17: Vídeo càmera de grau mèdic Full HD o superior
A18: =A17+1 -> 2 | B18: Connexió sense fils
A19: =A17+1 -> 2 | B19: Funda protectora esterilitzable
A20: =A18+1 -> 3 | B20: Pes sense funda protectora esterilitzable < 1 kg
A21: =A20+1 -> 4 | B21: Freqüència de transmissió que no interfereixi amb la resta de senyals
A22: =A21+1 -> 5 | B22: Zoom total de fins a x50
A23: =A22+1 -> 6 | B23: S'haurà de poder integrar la càmera a cada làmpada del quiròfan, amb connexió al respectiu receptor i possibilitat de fins a 2 càmeres de forma simultània al mateix quiròfan.
A24: =A23+1 -> 7 | B24: Amb sortida directa HDMI Versió 1.4
B25: Característiques a valorar
A26: =A24+1 -> 8 | B26: Facilitat d'intercanvi de càmeres entre els diferents llums quirúrgics | C26: IAE | D26: 1.5
A27: =A26+1 -> 9 | B27: Menor pes de les càmeres | C27: FTA | D27: 1.5
B29: Servei tècnic durant el període de garantia comercial i legal | C29: Grup de criteri | D29: Puntuació màxima | E29: Característiques específiques (Descripció breu) | F29: Índex documental
B30: Servei tècnic durant el període de garantia | D30: =SUM(D31:D35) -> 0.75
B31: Característiques d'obligat compliment: les ofertes que no compleixin tots els requisits obligatoris quedaran excloses
A32: =A27+1 -> 10 | B32: Veure Annex T2. Condicions d'instal·lació
B33: Característiques a valorar
A34: =A32+1 -> 11 | B34: Millora de l'horari d'atenció del servei tècnic en dies laborables/festius | C34: QSPV | D34: 0.25
A35: =A34+1 -> 12 | B35: Ubicació i disponibilitat de tècnics especialitzats en l'equip | C35: QSPV | D35: 0.5
B37: ATENCIÓ: Al sobre B NO s'ha de mencionar la informació relativa als criteris que s'avaluen al sobre C
F38: Anar al full Annex B

Sheet 7718010400
A1: 7718010400 | B1: Sistema d'integració audiovisual de quiròfans amb gravació
A2: ='Annex B'!C1 -> SCS-2027-7 | B2: EMPRESA | C2: ='Annex B'!F1 -> Nom a emplenar per l'empresa
B3: NIF | C3: ='Annex B'!F2 -> NIF a emplenar per l'empresa
B4: Correu electrònic | C4: ='Annex B'!F3 -> Correu electrònic a emplenar per l'empresa
A5: Nota: a la columna "Índex documental", cal indicar la ubicació exacta a la documentació aportada (full, apartat, etc.) on es troben les característiques tècniques així com, si es requereix, el servei tècnic i les condicions de manteniment. A la columna "Característiques específiques (Descripció breu)" cal afegir una breu descripció i els valors, rangs o quantitats que demana cada ítem de la fitxa tècnica.
B6: Definició | E6: Característiques específiques (Descripció breu) | F6: Índex documental
B7: Definició
B8: Sistema d'integració audio-visual per a 16 quiròfans. El sistema ha de ser modular i escalable.
B9: Previsió d'entrega per anualitat: 2027: integració completa de 10 quiròfans i preinstal·lació de tots els quiròfans (16). Per preinstal·lació s'entén tot el cablejat i elements imprescindibles que impliquin realització de pols, com registres / forats per entrades o sortides de cablejat associat a connexió de hardware, suports, tapes cegues (si escau, per cobrir aquests registres i cablejat fins el moment d'instal·lar el hardware), etc. 2028: integració de 6 quiròfans (exceptuant la preinstal·lació, preveient que ja s'haurà fet l'any 2027)
B10: Cal adjuntar document amb la relació clara de feines i elements que es consideren dins de la preinstal·lació, segons la definició del punt anterior.
B11: Connexió amb fibra òptica del sistema d'integració audiovisual dels 16 quiròfans de P3 al seus racks corresponents (s'han d'incloure els racks necessaris), ubicats a sala tècnica que es troba a la planta superior (P4), a una distància màxima aproximada de 50 metres del punt més allunyat del quiròfan. S'adjunten plànols amb les ubicacions dels quiròfans i sala tècnica.
B12: Cal presentar una memòria tècnica del projecte complet on s'indiquin clarament i detalladament les funcions demanades, esquemes, equipaments, funcionalitats i aplicacions oferts.
B13: Cal definir les característiques tècniques de cadascun dels equips o elements que componen la integració (indicar marques, models i adjuntar product data) i la funcionalitat associada (inclòs el programari), així com els esquemes de les interconnexions detallades per a cada funció sol·licitada. (enrutament, connexió PACS, enrutament CPD...)
B14: Es presentarà descripció i esquema unifiliar i de connexions detallat de tots els elements i racks que componen el sistema d'integració.
B15: L'adjudicatari d'aquest concurs s'haurà de coordinar amb els adjudicataris de les suspensions a sostre, torretes, angiògraf, panell tècnic, etc. per indicar i coordinar senyals, posicions, dimensions i cablejats necessaris per connectar el sistema d'integració, entre d'altres. També amb l'obra per tal d'indicar l'espai que ocuparà i les instal·lacions que requereixen, així com el punt de col·locació que es determinarà juntament amb l'Hospital.
B16: El projecte ha de ser claus en mà, s'inclou cablejat, obertura de forats, obertura i tapat de cels rasos, canals portacables, electrònica, racks, posada en marxa, etc.
B17: Un cop signat el contracte es farà una primera reunió de coordinació entre adjudicatari i obra per establir els requeriments de preinstal·lació de l'equip que afecten a l'obra. Si en el moment d'instal·lar l'equip cal fer adequacions a la sala i aquestes no es van especificar a la reunió de coordinació, les haurà d'assumir l'adjudicatari.
B18: Abans de la implantació del sistema es farà un replanteig amb l'hospital per assegurar que la configuració és correcte. Si fos necessari un tipus de senyal diferent de l'indicat, s'haurà de canviar/afegir en funció de la necessitat final dels equips segons indicacions de l'Hospital
B19: Indicar marca i model | E19: ='Annex B'!F19 -> Marca/Model a emplenar per l'empresa
B21: Prestacions tècniques i funcionals | C21: Grup de criteri | D21: Puntuació màxima | E21: Característiques específiques (Descripció breu) | F21: Índex documental
B22: 1.1. Característiques bàsiques del sistema d'integració audiovisual | D22: =SUM(D23:D52) -> 27.5
B23: Característiques d'obligat compliment: les ofertes que no compleixin tots els requisits obligatoris quedaran excloses
A24: 1 | B24: En total s'han d'integrar 16 quiròfans, dels quals:
A25: =A24+1 -> 2 | B25: 14 quiròfans multidisciplinars
A26: =A25+1 -> 3 | B26: 1 quiròfan híbrid (vascular)
A27: =A26+1 -> 4 | B27: 1 quiròfan neurocirurgia
A28: =A27+1 -> 5 | B28: Es dotarà d'un sistema musical integrat amb el sistema d'integració i connectat amb el sistema d'àudio, que permeti la connexió sense fil tipus Bluetooth i amb opció de connexió física mitjançant connector minijack
A29: =A28+1 -> 6 | B29: Els ordinadors d'infermeria seran PCs de grau mèdic, subministrats, instal·lats i maquetats per l'Hospital o una altra empresa. El sistema d'integració haurà de permetre la projecció en panell tècnic d'informació del HIS/RIS o imatges del PACS, de forma simultània i independent del PC. Si fos necessari, l'adjudicatari haurà d'incloure el maquinari (hardware) extern que sigui necessari per la seva integració amb el sistema audiovisual
A30: =A29+1 -> 7 | B30: La videoconferència s'haurà d'efectuar a través de la plataforma corporativa de l'Hospital (MS Teams), acceptant addicionalment també plataformes pròpies o basades en el núvol per comunicar el quiròfan amb qualsevol punt de l'Hospital o extern. Ha de permetre enviar per videoconferència qualsevol imatge integrada al sistema o bé la imatge composta. Ha de ser possible la videoconferència concurrent dels 16 quiròfans
A31: =A30+1 -> 8 | B31: Sistema d’integració d’imatges i dades, així com gestió de videoconferència unificat des d'un punt de control a cada quiròfan, amb pantalla tàctil d'aproximadament 24", a paret a banda del panell tècnic, preferiblement empotrat. Cal incloure un layout de la pantalla principal de comandament i explicar el funcionament del sistema.
A32: =A31+1 -> 9 | B32: Es dotarà mínim dos fibres fosques addicionals per cada quiròfan per tal de preveure futurs equipaments, o sistemes equivalents
A33: =A32+1 -> 10 | B33: Totes les fibres hauran de quedar ben recollides a la sala tècnica, en una caixa tancada o bé a l'interior del rack. Tots els cables hauran de quedar ben identificats i ben pentinats, segons nomenclatura acordada amb l'Hospital. Les fibres fosques es col·locaran a les torretes del quiròfan.
A34: =A33+1 -> 11 | B34: S'ha d'incorporar l'equipament, cablejat, electrònica, racks, servidors, etc. necessaris per a la instal·lació dins de les sales i la sala tècnica segons les característiques demanades.
A35: =A34+1 -> 12 | B35: Composició de vàries senyals en una mateixa pantalla, com a mínim 2. Indicar nombre de senyals que es poden compondre.
A36: =A35+1 -> 13 | B36: Capacitat de dur a terme una gravació com a mínim en FHD
... A39: =A38+1 -> 16 | B39: La xarxa implementada ha de ser per vídeo IP, garantint la transmissió i distribució de vídeo sense compressió i amb màxima qualitat d'imatge. Mínima latència (indicar)
B40: Característiques a valorar
A41: =A39+1 -> 17 | B41: Arquitectura i components estàndards del mercat que permetin la total gestió del sistema per l'Hospital, sense sistemes exclusius | C41: FTA/ANA | D41: 2
A42: =A41+1 -> 18 | B42: Integració al PACS de l'Hospital mitjançant protocol DICOM. Tots els fitxers generats es poden transformar a format DICOM 3.0, suportant DICOM Worklist. Cal adjuntar el DICOM conformance statement. | C42: CSI | D42: 4
A43: =A42+1 -> 19 | B43: Sistemes de seguretat per evitar caigudes totals del sistema (arquitectura de la solució, sistemes redundants, connexions directes d'emergència, etc.). Cal explicar totes aquestes mesures i els plans de contingència o de desplegament que contempla el licitador per fer el sistema més segur | C43: SP | D43: 3
...

Sheet Llegenda grup de criteri
B2: Grups de criteri a valorar
B3: Funcionalitat tècnica i assistencial dels equips | C3: FTA
B4: Connectivitat de l’equip als sistemes informàtics | C4: CSI
B5: Ergonomia | C5: E
B6: Rendiment del cicle de vida | C6: RCV
B7: Qualitat servei postvenda | C7: QSPV
B8: Seguretat del pacient i/o professional | C8: SP
B9: Adequació a les necessitats assistencials | C9: ANA
B10: Instal·lació i adequació a l'espai | C10: IAE
B11: Model de preinstal·lacions | C11: MP
B14: Anar al full Annex B
