Workbook

Sheet ANNEX 1 PLA NECESSITATS
A1: LOT | B1: Sala | C1: Denominació sala | D1: DESCRIPCIÓ | E1: Unitats | F1: PREU UNITARI SENSE IVA | G1: PREU TOTAL SENSE IVA
A2: 1 | B2: 18.2 | C2: Sala de fisioteràpia polivalent B | D2: Equip magnetoteràpia amb camilla (gran) | E2: 2 | F2: 7870 | G2: =E2*F2 -> 15740
A3: 1 | B3: 18.1 | C3: Sala de fisioteràpia polivalent A | D3: Equip magnetoteràpia portàtil tauleta (petita) | E3: 3 | F3: 5975 | G3: =E3*F3 -> 17925
A4: 1 | B4: 18.2 | C4: Sala de fisioteràpia polivalent B | D4: Equip magnetoteràpia portàtil tauleta (petita) | E4: 3 | F4: 5975 | G4: =E4*F4 -> 17925
D5: TOTAL LOT 3 | F5: =SUM(F2:F4) -> 19820 | G5: =SUM(G2:G4) -> 51590
A6: 2 | B6: 18.2 | C6: Sala de fisioteràpia polivalent B | D6: Pilotes medicinals amb suport | E6: 1 | F6: 745 | G6: =E6*F6 -> 745
A7: 2 | B7: 18.2 | C7: Sala de fisioteràpia polivalent B | D7: Aparell suspensatòria | E7: 1 | F7: 420 | G7: =E7*F7 -> 420
A8: 2 | B8: 18.2 | C8: Sala de fisioteràpia polivalent B | D8: Banc de quadriceps amb 2 braços | E8: 2 | F8: 1855 | G8: =E8*F8 -> 3710
A9: 2 | B9: 16 | C9: Sala de fisioteràpia neurològica | D9: Escala de dos trams | E9: 1 | F9: 1860 | G9: =E9*F9 -> 1860
A10: 2 | B10: 18.2 | C10: Sala de fisioteràpia polivalent B | D10: Escala de dos trams | E10: 1 | F10: 1860 | G10: =E10*F10 -> 1860
A11: 2 | B11: 15 | C11: Sala de tractament cardiorespiratoria | D11: Espatlleres | E11: 3 | F11: 820 | G11: =E11*F11 -> 2460
A12: 2 | B12: 16 | C12: Sala de fisioteràpia neurològica | D12: Espatlleres | E12: 1 | F12: 820 | G12: =E12*F12 -> 820
A13: 2 | B13: 17 | C13: Sala de tractament grupal | D13: Espatlleres | E13: 4 | F13: 820 | G13: =E13*F13 -> 3280
A14: 2 | B14: 18.2 | C14: Sala de fisioteràpia polivalent B | D14: Espatlleres | E14: 3 | F14: 820 | G14: =E14*F14 -> 2460
A15: 2 | B15: 15 | C15: Sala de tractament cardiorespiratoria | D15: Kit de peses | E15: 6 | F15: 730 | G15: =E15*F15 -> 4380
A16: 2 | B16: 16 | C16: Sala de fisioteràpia neurològica | D16: Paral·leles | E16: 1 | F16: 1075 | G16: =E16*F16 -> 1075
A17: 2 | B17: 18.2 | C17: Sala de fisioteràpia polivalent B | D17: Paral·leles | E17: 2 | F17: 1075 | G17: =E17*F17 -> 2150
A18: 2 | B18: 18.3 | C18: Sala de fisioteràpia polivalent C | D18: Paral·leles | E18: 1 | F18: 1075 | G18: =E18*F18 -> 1075
A19: 2 | B19: 18.1 | C19: Sala de fisioteràpia polivalent A | D19: Politja doble peses paret | E19: 2 | F19: 1250 | G19: =E19*F19 -> 2500
A20: 2 | B20: 18.2 | C20: Sala de fisioteràpia polivalent B | D20: Politja doble peses paret | E20: 2 | F20: 1250 | G20: =E20*F20 -> 2500
A21: 2 | B21: 16 | C21: Sala de fisioteràpia neurològica | D21: Taula canadenca | E21: 1 | F21: 525 | G21: =E21*F21 -> 525
A22: 2 | B22: 13 | C22: Sala de teràpia ocupacional | D22: Taula de mans | E22: 1 | F22: 1100 | G22: =E22*F22 -> 1100
A23: 2 | B23: 17 | C23: Sala de tractament grupal | D23: Pilotes grans | E23: 10 | F23: 269 | G23: =E23*F23 -> 2690
D24: TOTAL LOT 6 | F24: =SUM(F6:F23) -> 18369 | G24: =SUM(G6:G23) -> 35610
A25: 3 | B25: 18.2 | C25: Sala de fisioteràpia polivalent B | D25: Equip teràpia làser | E25: 1 | F25: 15950 | G25: =E25*F25 -> 15950
A26: 3 | B26: 10.1 | C26: Box linfedema sòl pèlvic 1 | D26: Aparells electroestimulació (biofeedback) | E26: 1 | F26: 250 | G26: =E26*F26 -> 250
A27: 3 | B27: 10.1 | C27: Box linfedema sòl pèlvic 2 | D27: Aparells electroestimulació (biofeedback) | E27: 1 | F27: 250 | G27: =E27*F27 -> 250
A28: 3 | B28: 12 | C28: Sala de teràpia del llenguatge | D28: Electroestimulador per disfagies | E28: 1 | F28: 1970 | G28: =E28*F28 -> 1970
A29: 3 | B29: 10.1 | C29: Box linfedema sòl pèlvic 1 | D29: Electroestimulador incontinencia urinaria | E29: 1 | F29: 285 | G29: =E29*F29 -> 285
D30: TOTAL LOT 9 | F30: =SUM(F25:F29) -> 18705 | G30: =SUM(G25:G29) -> 18705
A31: 4 | B31: 17 | C31: Sala de tractament grupal | D31: Estanteries pilotes pilates | E31: 2 | F31: 270 | G31: =E31*F31 -> 540
D32: TOTAL LOT 15 | F32: =SUM(F31:F31) -> 270 | G32: =SUM(G31:G31) -> 540
A33: 5 | B33: 20 | C33: Teràpia cardíaca | D33: Electrocardiògraf | E33: 1 | F33: 5200 | G33: =E33*F33 -> 5200
A34: 5 | B34: 9.5 | C34: Consulta 1 | D34: Podoscop | E34: 1 | F34: 725 | G34: =E34*F34 -> 725
A35: 5 | B35: 15 | C35: Sala de tractament cardiorespiratoria | D35: Mesurador PIM PEM | E35: 1 | F35: 4600 | G35: =E35*F35 -> 4600
D36: TOTAL LOT 18 | F36: =SUM(F33:F35) -> 10525 | G36: =SUM(G33:G35) -> 10525
A37: 6 | B37: 24 | C37: Residus | D37: Contenidor 1000L negre/gris amb ganxo | E37: 1 | F37: 700 | G37: 700
A38: 6 | B38: 24 | C38: Residus | D38: Contenidor 800L marró amb ganxo | E38: 1 | F38: 630 | G38: 630
D39: TOTAL LOT 21 | F39: =SUM(F37:F38) -> 1330 | G39: =SUM(G37:G38) -> 1330
F40: TOTAL SENSE IVA | G40: =SUM(G5+G24+G30+G32+G36+G39) -> 118300
...

Sheet ANNEX 3 OFERTA ECONÒMICA
A1: LOT | B1: Sala | C1: Denominació sala | D1: DESCRIPCIÓ | E1: Unitats | F1: PREU UNITARI SENSE IVA | G1: PREU TOTAL SENSE IVA
A2: 1 | B2: 18.2 | C2: Sala de fisioteràpia polivalent B | D2: Equip magnetoteràpia amb camilla (gran) | E2: 2
A3: 1 | B3: 18.1 | C3: Sala de fisioteràpia polivalent A | D3: Equip magnetoteràpia portàtil tauleta (petita) | E3: 3
A4: 1 | B4: 18.2 | C4: Sala de fisioteràpia polivalent B | D4: Equip magnetoteràpia portàtil tauleta (petita) | E4: 3
D5: TOTAL LOT 3
A6: 2 | B6: 18.2 | C6: Sala de fisioteràpia polivalent B | D6: Pilotes medicinals amb suport | E6: 1
A7: 2 | B7: 18.2 | C7: Sala de fisioteràpia polivalent B | D7: Aparell suspensatòria | E7: 1
A8: 2 | B8: 18.2 | C8: Sala de fisioteràpia polivalent B | D8: Banc de quadriceps amb 2 braços | E8: 2
A9: 2 | B9: 16 | C9: Sala de fisioteràpia neurològica | D9: Escala de dos trams | E9: 1
A10: 2 | B10: 18.2 | C10: Sala de fisioteràpia polivalent B | D10: Escala de dos trams | E10: 1
A11: 2 | B11: 15 | C11: Sala de tractament cardiorespiratoria | D11: Espatlleres | E11: 3
A12: 2 | B12: 16 | C12: Sala de fisioteràpia neurològica | D12: Espatlleres | E12: 1
A13: 2 | B13: 17 | C13: Sala de tractament grupal | D13: Espatlleres | E13: 4
A14: 2 | B14: 18.2 | C14: Sala de fisioteràpia polivalent B | D14: Espatlleres | E14: 3
A15: 2 | B15: 15 | C15: Sala de tractament cardiorespiratoria | D15: Kit de peses | E15: 6
A16: 2 | B16: 16 | C16: Sala de fisioteràpia neurològica | D16: Paral·leles | E16: 1
A17: 2 | B17: 18.2 | C17: Sala de fisioteràpia polivalent B | D17: Paral·leles | E17: 2
A18: 2 | B18: 18.3 | C18: Sala de fisioteràpia polivalent C | D18: Paral·leles | E18: 1
A19: 2 | B19: 18.1 | C19: Sala de fisioteràpia polivalent A | D19: Politja doble peses paret | E19: 2
A20: 2 | B20: 18.2 | C20: Sala de fisioteràpia polivalent B | D20: Politja doble peses paret | E20: 2
A21: 2 | B21: 16 | C21: Sala de fisioteràpia neurològica | D21: Taula canadenca | E21: 1
A22: 2 | B22: 13 | C22: Sala de teràpia ocupacional | D22: Taula de mans | E22: 1
A23: 2 | B23: 17 | C23: Sala de tractament grupal | D23: Pilotes grans | E23: 10
D24: TOTAL LOT 6
A25: 3 | B25: 18.2 | C25: Sala de fisioteràpia polivalent B | D25: Equip teràpia làser | E25: 1
A26: 3 | B26: 10.1 | C26: Box linfedema sòl pèlvic 1 | D26: Aparells electroestimulació (biofeedback) | E26: 1
A27: 3 | B27: 10.1 | C27: Box linfedema sòl pèlvic 2 | D27: Aparells electroestimulació (biofeedback) | E27: 1
A28: 3 | B28: 12 | C28: Sala de teràpia del llenguatge | D28: Electroestimulador per disfagies | E28: 1
A29: 3 | B29: 10.1 | C29: Box linfedema sòl pèlvic 1 | D29: Electroestimulador incontinencia urinaria | E29: 1
D30: TOTAL LOT 9
A31: 4 | B31: 17 | C31: Sala de tractament grupal | D31: Estanteries pilotes pilates | E31: 2
D32: TOTAL LOT 15
A33: 5 | B33: 20 | C33: Teràpia cardíaca | D33: Electrocardiògraf | E33: 1
A34: 5 | B34: 9.5 | C34: Consulta 1 | D34: Podoscop | E34: 1
A35: 5 | B35: 15 | C35: Sala de tractament cardiorespiratoria | D35: Mesurador PIM PEM | E35: 1
D36: TOTAL LOT 18
A37: 6 | B37: 24 | C37: Residus | D37: Contenidor 1000L negre/gris amb ganxo | E37: 1
A38: 6 | B38: 24 | C38: Residus | D38: Contenidor 800L marró amb ganxo | E38: 1
D39: TOTAL LOT 21
F40: TOTAL SENSE IVA
...

Sheet TOTALS PER LOT
A1: LOT | B1: DESCRIPCIÓ | C1: PREU UNITARI SENSE IVA | D1: PREU TOTAL SENSE IVA
A2: LOT 1 | B2: MAGNETOTERÀPIA | C2: ='ANNEX 1 PLA NECESSITATS'!F5 -> 19820 | D2: 51590
A3: LOT 2 | B3: MATERIAL DE CINESITERÀPIA | C3: ='ANNEX 1 PLA NECESSITATS'!F24 -> 18369 | D3: 35610
A4: LOT 3 | B4: TERÀPIA LÀSER | C4: ='ANNEX 1 PLA NECESSITATS'!F30 -> 18705 | D4: 18705
A5: LOT 4 | B5: PRESTATGERIES PILOTES | C5: ='ANNEX 1 PLA NECESSITATS'!F32 -> 270 | D5: 540
A6: LOT 5 | B6: EQUIPS DIAGNÒSTIC | C6: ='ANNEX 1 PLA NECESSITATS'!F36 -> 10525 | D6: 10525
A7: LOT 6 | B7: CONTENIDORS RESIDUS | C7: ='ANNEX 1 PLA NECESSITATS'!F39 -> 1330 | D7: 1330
C8: TOTAL SENSE IVA | D8: =SUM(D2:D7) -> 118300
C9: IVA 21% | D9: =D8*0.21 -> 24843
C10: TOTAL AMB IVA | D10: =D8+D9 -> 143143
