Workbook
Name ADRESSE: #REF!
Name Agence: #REF!
Name CA_fournitures_sanitaires: #REF!
Name CA_fournitures_sanitaires: #REF!
Name CA_fournitures_sanitaires: #REF!
Name CA_fournitures_sanitaires: #REF!
Name CA_nettoyage_des_locaux: #REF!
Name CA_nettoyage_des_locaux: #REF!
Name CA_nettoyage_des_locaux: #REF!
Name CA_nettoyage_des_locaux: #REF!
Name CA_permanence: #REF!
Name CA_permanence: #REF!
Name CA_permanence: #REF!
Name CA_permanence: #REF!
Name CA_vitrerie: #REF!
Name CA_vitrerie: #REF!
Name CA_vitrerie: #REF!
Name CA_vitrerie: #REF!
Name Categoria: #REF!
Name CATEGORIAS: #REF!
Name CATEGORIAS: #REF!
Name Catlaboral: #REF!
Name Celia: #REF!
Name CentrosBilbao: #REF!
Name Code_NAF: #REF!
Name CODE_POSTAL_ET_VILLE: #REF!
Name Duracio_de_l_amortització: #REF!
Name Duracio_de_l_amortització: #REF!
Name Durée_de_l_amortissement: #REF!
Name E_mail: #REF!
Name Fax: #REF!
Name Frecuencia: #REF!
Name Frecuencia: #REF!
Name Frecuencias: #REF!
Name Initiateur: #REF!
Name Interlocuteur_client: #REF!
Name Investissement_annuel: #REF!
Name Listado_Convenios: #REF!
Name Marge_d_exploitation_hors_CS: #REF!
Name Marge_d_exploitation_hors_CS: #REF!
Name Marge_d_exploitation_hors_CS: #REF!
Name Marge_d_exploitation_hors_CS: #REF!
Name Marge_nettoyage_des_locaux: #REF!
Name Marge_permanence: #REF!
Name Marge_vitrerie: #REF!
Name Masse_salariale_sur_site: #REF!
Name Masse_salariale_vitrerie: #REF!
Name Masse_salarialre_permanence: #REF!
Name N__SIRET: #REF!
Name Prestacion: #REF!
Name Prestacion: #REF!
Name Preu_unitari: #REF!
Name Preu_unitari: #REF!
Name Prix_unitaire: #REF!
Name RAISON_SOCIALE: #REF!
Name Rendimiento: #REF!
Name Rendimiento: #REF!
Name Seleccionar_Categoria: #REF!
Name Seleccionar_Convenio: #REF!
Name Surface_totale: #REF!

Sheet Instruccions
A2: Instruccions d'ús Annex Tècnic | B2: Inici
A5: Per a omplir l'Annex Tècnic haurem de posar el rendiment de neteja adequat a la columna G
A7: Aquest rendiment mitjà ha d'incloure les tasques de neteja diàries, periòdiques i a fons de les netejadores
A9: Hem de tenir en compte que el mateix tipus de sala pot tenir diferents rendiments segons el nivell de brutícia, ús o materials que el componen.
A11: Es valorarà el que es tinguin en compte en els estudis els nivells de brutícia, ús o materials.
A13: No seran valorats els estudis que tinguin una mitjana de rendiments iguals en totes les sales sense tenir en compte el tipus de sala ni la seva utilització.
A16: Els rendiments de les tasques d'especialistes s'ompliran a les caselles:
A18: AH4-AK4-AN4-AQ4-AW4
A20: En aquestes caselles posarem el rendiment mitjà de cada operació. El rendiment pot ser diferent en cada centre.
A22: A la Columna I tenim una informació dels torns de neteja, aquests torns són orientatius i poden tenir modificacions.
A23: En el full resum podrem veure el total d'hores previstes de cada centre.
A25: El fet de desbloquejar o modificar aquests fulls de càlcul seria raó suficient per excloure a l'empresa d'aquesta licitació.

Sheet Inici
A1: Annex 4 Estudi Técnic, Ajuntament de Sant Feliu de Codines
B4: 1 | C4: =+'Resum Estudi'!E4 -> Escola Primaria Jaume Balmes | D4: 2 | E4: =+'Resum Estudi'!E5 -> Escola Infantil Jaume Balmes | F4: 3 | G4: =+'Resum Estudi'!E6 -> Escola Bressol Mestre Jane
C6: Resum
C7: Plaça Josep Umbert Ventura, 2, 08182, Sant Feliu de Codines – Tel. 938 662 768 – st.feliuc@diba.cat – https://www.santfeliudecodines.cat/

Sheet 1
B1: Inici | E1: Estudi Tecnic Ajuntament de Sant Feliu de Codines | U1: =+'Resum Estudi'!E4 -> Escola Primaria Jaume Balmes
B3: Annex 4 | W3: Mesos | AF3: Vidres interiors | AI3: Vidres perimetre | AL3: Punts de llum i difusors d'aire | AO3: Limpieza de tapizados y moquetas | AR3: Limpieza de Techos | AU3: Tratamiento de Suelos | AX3: Aplicación de Emulsiones | BA3: Total Mensual
K4: TOTAL | L4: =+L99 -> 0 | M4: =+M99 -> 0 | N4: =+N99 -> 0 | O4: =+O99 -> 0 | P4: =+P99 -> 0 | Q4: =+Q99 -> 0 | R4: =+R99 -> 0 | S4: =+S99 -> 0 | ... V4: =+V99 -> 0 | W4: =+'Resum Estudi'!I4 -> 11 | AF4: Freq | AG4: 2 | AI4: Freq | AJ4: 2 | AL4: Freq | AM4: 1 | AO4: Freq | AP4: 1 | AR4: Freq | AS4: 1 | AT4: 1000 | AU4: Freq | AV4: 1 | AX4: Freq | AY4: 1 | AZ4: 1000 | BA4: =BA99 -> #DIV/0!
X5: Horas semana por turnos
B6: Edifici | C6: Planta | D6: Zona | E6: Tipus de paviments | F6: Superficie | G6: Rendiment final | H6: Freqüència | K6: Hores unitat | L6: Dilluns | M6: Dimarts | N6: Dimecres | O6: Dijous | P6: Divendres | R6: Dissabte | T6: Diumenge | U6: Hores Setmana | V6: Hores Mes | W6: Hores Any | X6: D/S | Y6: Torn | Z6: Mati | AB6: Tarda | AD6: Nit | AG6: H/V | AH6: Hores/mes | AJ6: H/V | AK6: Hores/mes | AM6: H/V | AN6: Hores/mes | AP6: H/V | AQ6: Horas/mes | AS6: H/V | AT6: Horas/mes | AV6: H/V | AW6: Horas/mes | AY6: H/V | AZ6: Horas/mes | BA6: Total Mensual
B8: Escola Jaume Balmes - Primaria | C8: P Baixa | D8: Tallavents | E8: Terratzo | F8: 8.4 | H8: Diario 5/7 | I8: =IF(H8=Tablas!$B$5,Tablas!$C$5,VLOOKUP(H8,Tablas!$B$5:$D$40,2,FALSE)) -> 19 | J8: =IF(I8=0,"",VLOOKUP(I8,Tablas!$C$5:$D$40,2,FALSE)) -> 21.72619 | K8: =IF(G8=0,"0",F8/G8) -> 0 | L8: =IF($X8=3,$K8,0)+IF($X8=4,$K8,0)+IF($X8=5,$K8,0)+IF($X8=6,$K8,0)+IF($X8=7,$K8,0)+IF($X8=10,$K8*2,0)+IF($X8=12,$K8*2,0)+IF($X8=14,$K8*2,0)+IF($X8=21,$K8*3,0)+IF($X8<=1,$K8*$J8/21.75,0)+IF($X8=15,$K8*3,0) -> 0 | M8: =IF($X8=2,$K8,0)+IF($X8=4,$K8,0)+IF($X8=5,$K8,0)+IF($X8=6,$K8,0)+IF($X8=7,$K8,0)+IF($X8=10,$K8*2,0)+IF($X8=12,$K8*2,0)+IF($X8=14,$K8*2,0)+IF($X8=15,$K8*3,0)+IF($X8=21,$K8*3,0)+IF($X8<=1,$K8*$J8/21.75,0) -> 0 | N8: =IF($X8=3,$K8,0)+IF($X8=4,$K8,0)+IF($X8=5,$K8,0)+IF($X8=6,$K8,0)+IF($X8=7,$K8,0)+IF($X8=10,$K8*2,0)+IF($X8=12,$K8*2,0)+IF($X8=14,$K8*2,0)+IF($X8=21,$K8*3,0)+IF($X8<=1,$K8*$J8/21.75,0)+IF($X8=15,$K8*3,0) -> 0 | O8: =IF($X8=2,$K8,0)+IF($X8=4,$K8,0)+IF($X8=5,$K8,0)+IF($X8=6,$K8,0)+IF($X8=7,$K8,0)+IF($X8=10,$K8*2,0)+IF($X8=12,$K8*2,0)+IF($X8=14,$K8*2,0)+IF($X8=15,$K8*3,0)+IF($X8=21,$K8*3,0)+IF($X8<=1,$K8*$J8/21.75,0) -> 0 | P8: =IF($X8=3,$K8,0)+IF($X8=4,$K8,0)+IF($X8=5,$K8,0)+IF($X8=6,$K8,0)+IF($X8=7,$K8,0)+IF($X8=10,$K8*2,0)+IF($X8=12,$K8*2,0)+IF($X8=14,$K8*2,0)+IF($X8=21,$K8*3,0)+IF($X8<=1,$K8*$J8/21.75,0)+IF($X8=15,$K8*3,0) -> 0 | Q8: 0.75 | R8: =(IF($X8=6,$K8,)+IF($X8=7,$K8,)+IF($X8=12,$K8*2,)+IF($X8=18,$K8*3,)+IF($X8=21,$K8*3,)+IF($X8=14,$K8*2,))*Q8 -> 0 | S8: 0.75 | T8: =(IF($X8=7,$K8,)+IF($X8=21,$K8*3,)+IF($X8=14,$K8*2,))*S8 -> 0 | U8: =SUM(+L8+M8+N8+O8+P8+R8+T8) -> 0 | V8: =+U8*4.345 -> 0 | W8: =IF(V8="","",$W$4*V8) -> 0 | X8: =ROUND(J8/4.3452380952381,1) -> 5 | Y8: T | Z8: 1 | AA8: =+IF($Y8="M",$U8,IF($Y8="MT",$U8/2,IF(Y8="MN",$U8/2,IF($Y8="MTN",$U8/3,0))))*Z8 -> 0 | AB8: 1 | AC8: =+IF($Y8="T",$U8,IF($Y8="MT",$U8/2,IF($Y8="TN",$U8/2,IF($Y8="MTN",$U8/3,0))))*AB8 -> 0 | AD8: 1 | AE8: =+IF($Y8="N",$U8,IF($Y8="MN",$U8/2,IF($Y8="TN",$U8/2,IF($Y8="MTN",$U8/3,0))))*AD8 -> 0 | AF8: 5.214 | AG8: =+AF8/AH$4 -> #DIV/0! | AH8: =AG8*AG$4/12 -> #DIV/0! | AI8: 5.21 | AJ8: =+AI8/AK$4 -> #DIV/0! | AK8: =AJ8*AJ$4/12 -> #DIV/0! | AL8: 8.4 | AM8: =+AL8/AN$4 -> #DIV/0! | AN8: =AM8*AM$4/12 -> #DIV/0! | AP8: =+AO8/AQ$4 -> #DIV/0! | AQ8: =AP8*AP$4/12 -> #DIV/0! | AS8: =+AR8/AT$4 -> 0 | AT8: =AS8*AS$4/12 -> 0 | AU8: 8.4 | AV8: =+AU8/AW$4 -> #DIV/0! | AW8: =AV8*AV$4/12 -> #DIV/0! | AY8: =+AX8/AZ$4 -> 0 | AZ8: =AY8*AY$4/12 -> 0 | BA8: =+AH8+AK8+AN8+AQ8+AT8+AW8+AZ8 -> #DIV/0!
B9: Escola Jaume Balmes - Primaria | C9: P Baixa | D9: Secretaria | E9: Terratzo | F9: 27.45 | H9: Diario 5/7 | I9: =IF(H9=Tablas!$B$5,Tablas!$C$5,VLOOKUP(H9,Tablas!$B$5:$D$40,2,FALSE)) -> 19 | J9: =IF(I9=0,"",VLOOKUP(I9,Tablas!$C$5:$D$40,2,FALSE)) -> 21.72619 | K9: =IF(G9=0,"0",F9/G9) -> 0 | L9: =IF($X9=3,$K9,0)+IF($X9=4,$K9,0)+IF($X9=5,$K9,0)+IF($X9=6,$K9,0)+IF($X9=7,$K9,0)+IF($X9=10,$K9*2,0)+IF($X9=12,$K9*2,0)+IF($X9=14,$K9*2,0)+IF($X9=21,$K9*3,0)+IF($X9<=1,$K9*$J9/21.75,0)+IF($X9=15,$K9*3,0) -> 0 | M9: =IF($X9=2,$K9,0)+IF($X9=4,$K9,0)+IF($X9=5,$K9,0)+IF($X9=6,$K9,0)+IF($X9=7,$K9,0)+IF($X9=10,$K9*2,0)+IF($X9=12,$K9*2,0)+IF($X9=14,$K9*2,0)+IF($X9=15,$K9*3,0)+IF($X9=21,$K9*3,0)+IF($X9<=1,$K9*$J9/21.75,0) -> 0 | N9: =IF($X9=3,$K9,0)+IF($X9=4,$K9,0)+IF($X9=5,$K9,0)+IF($X9=6,$K9,0)+IF($X9=7,$K9,0)+IF($X9=10,$K9*2,0)+IF($X9=12,$K9*2,0)+IF($X9=14,$K9*2,0)+IF($X9=21,$K9*3,0)+IF($X9<=1,$K9*$J9/21.75,0)+IF($X9=15,$K9*3,0) -> 0 | O9: =IF($X9=2,$K9,0)+IF($X9=4,$K9,0)+IF($X9=5,$K9,0)+IF($X9=6,$K9,0)+IF($X9=7,$K9,0)+IF($X9=10,$K9*2,0)+IF($X9=12,$K9*2,0)+IF($X9=14,$K9*2,0)+IF($X9=15,$K9*3,0)+IF($X9=21,$K9*3,0)+IF($X9<=1,$K9*$J9/21.75,0) -> 0 | P9: =IF($X9=3,$K9,0)+IF($X9=4,$K9,0)+IF($X9=5,$K9,0)+IF($X9=6,$K9,0)+IF($X9=7,$K9,0)+IF($X9=10,$K9*2,0)+IF($X9=12,$K9*2,0)+IF($X9=14,$K9*2,0)+IF($X9=21,$K9*3,0)+IF($X9<=1,$K9*$J9/21.75,0)+IF($X9=15,$K9*3,0) -> 0 | Q9: 0.75 | R9: =(IF($X9=6,$K9,)+IF($X9=7,$K9,)+IF($X9=12,$K9*2,)+IF($X9=18,$K9*3,)+IF($X9=21,$K9*3,)+IF($X9=14,$K9*2,))*Q9 -> 0 | S9: 0.75 | T9: =(IF($X9=7,$K9,)+IF($X9=21,$K9*3,)+IF($X9=14,$K9*2,))*S9 -> 0 | U9: =SUM(+L9+M9+N9+O9+P9+R9+T9) -> 0 | V9: =+U9*4.345 -> 0 | W9: =IF(V9="","",$W$4*V9) -> 0 | X9: =ROUND(J9/4.3452380952381,1) -> 5 | Y9: T | Z9: 1 | AA9: =+IF($Y9="M",$U9,IF($Y9="MT",$U9/2,IF(Y9="MN",$U9/2,IF($Y9="MTN",$U9/3,0))))*Z9 -> 0 | AB9: 1 | AC9: =+IF($Y9="T",$U9,IF($Y9="MT",$U9/2,IF($Y9="TN",$U9/2,IF($Y9="MTN",$U9/3,0))))*AB9 -> 0 | AD9: 1 | AE9: =+IF($Y9="N",$U9,IF($Y9="MN",$U9/2,IF($Y9="TN",$U9/2,IF($Y9="MTN",$U9/3,0))))*AD9 -> 0 | AF9: 4 | AG9: =+AF9/AH$4 -> #DIV/0! | AH9: =AG9*AG$4/12 -> #DIV/0! | AI9: 2.7 | AJ9: =+AI9/AK$4 -> #DIV/0! | AK9: =AJ9*AJ$4/12 -> #DIV/0! | AL9: 27.45 | AM9: =+AL9/AN$4 -> #DIV/0! | AN9: =AM9*AM$4/12 -> #DIV/0! | AP9: =+AO9/AQ$4 -> #DIV/0! | AQ9: =AP9*AP$4/12 -> #DIV/0! | AS9: =+AR9/AT$4 -> 0 | AT9: =AS9*AS$4/12 -> 0 | AU9: 27.45 | AV9: =+AU9/AW$4 -> #DIV/0! | AW9: =AV9*AV$4/12 -> #DIV/0! | AY9: =+AX9/AZ$4 -> 0 | AZ9: =AY9*AY$4/12 -> 0 | BA9: =+AH9+AK9+AN9+AQ9+AT9+AW9+AZ9 -> #DIV/0!
B10: Escola Jaume Balmes - Primaria | C10: P Baixa | D10: Sala de professors | E10: Terratzo | F10: 23.22 | H10: Diario 5/7 | I10: =IF(H10=Tablas!$B$5,Tablas!$C$5,VLOOKUP(H10,Tablas!$B$5:$D$40,2,FALSE)) -> 19 | J10: =IF(I10=0,"",VLOOKUP(I10,Tablas!$C$5:$D$40,2,FALSE)) -> 21.72619 | K10: =IF(G10=0,"0",F10/G10) -> 0 | L10: =IF($X10=3,$K10,0)+IF($X10=4,$K10,0)+IF($X10=5,$K10,0)+IF($X10=6,$K10,0)+IF($X10=7,$K10,0)+IF($X10=10,$K10*2,0)+IF($X10=12,$K10*2,0)+IF($X10=14,$K10*2,0)+IF($X10=21,$K10*3,0)+IF($X10<=1,$K10*$J10/21.75,0)+IF($X10=15,$K10*3,0) -> 0 | M10: =IF($X10=2,$K10,0)+IF($X10=4,$K10,0)+IF($X10=5,$K10,0)+IF($X10=6,$K10,0)+IF($X10=7,$K10,0)+IF($X10=10,$K10*2,0)+IF($X10=12,$K10*2,0)+IF($X10=14,$K10*2,0)+IF($X10=15,$K10*3,0)+IF($X10=21,$K10*3,0)+IF($X10<=1,$K10*$J10/21.75,0) -> 0 | N10: =IF($X10=3,$K10,0)+IF($X10=4,$K10,0)+IF($X10=5,$K10,0)+IF($X10=6,$K10,0)+IF($X10=7,$K10,0)+IF($X10=10,$K10*2,0)+IF($X10=12,$K10*2,0)+IF($X10=14,$K10*2,0)+IF($X10=21,$K10*3,0)+IF($X10<=1,$K10*$J10/21.75,0)+IF($X10=15,$K10*3,0) -> 0 | O10: =IF($X10=2,$K10,0)+IF($X10=4,$K10,0)+IF($X10=5,$K10,0)+IF($X10=6,$K10,0)+IF($X10=7,$K10,0)+IF($X10=10,$K10*2,0)+IF($X10=12,$K10*2,0)+IF($X10=14,$K10*2,0)+IF($X10=15,$K10*3,0)+IF($X10=21,$K10*3,0)+IF($X10<=1,$K10*$J10/21.75,0) -> 0 | P10: =IF($X10=3,$K10,0)+IF($X10=4,$K10,0)+IF($X10=5,$K10,0)+IF($X10=6,$K10,0)+IF($X10=7,$K10,0)+IF($X10=10,$K10*2,0)+IF($X10=12,$K10*2,0)+IF($X10=14,$K10*2,0)+IF($X10=21,$K10*3,0)+IF($X10<=1,$K10*$J10/21.75,0)+IF($X10=15,$K10*3,0) -> 0 | Q10: 0.75 | R10: =(IF($X10=6,$K10,)+IF($X10=7,$K10,)+IF($X10=12,$K10*2,)+IF($X10=18,$K10*3,)+IF($X10=21,$K10*3,)+IF($X10=14,$K10*2,))*Q10 -> 0 | S10: 0.75 | T10: =(IF($X10=7,$K10,)+IF($X10=21,$K10*3,)+IF($X10=14,$K10*2,))*S10 -> 0 | U10: =SUM(+L10+M10+N10+O10+P10+R10+T10) -> 0 | V10: =+U10*4.345 -> 0 | W10: =IF(V10="","",$W$4*V10) -> 0 | X10: =ROUND(J10/4.3452380952381,1) -> 5 | Y10: T | Z10: 1 | AA10: =+IF($Y10="M",$U10,IF($Y10="MT",$U10/2,IF(Y10="MN",$U10/2,IF($Y10="MTN",$U10/3,0))))*Z10 -> 0 | AB10: 1 | AC10: =+IF($Y10="T",$U10,IF($Y10="MT",$U10/2,IF($Y10="TN",$U10/2,IF($Y10="MTN",$U10/3,0))))*AB10 -> 0 | AD10: 1 | AE10: =+IF($Y10="N",$U10,IF($Y10="MN",$U10/2,IF($Y10="TN",$U10/2,IF($Y10="MTN",$U10/3,0))))*AD10 -> 0 | AG10: =+AF10/AH$4 -> #DIV/0! | AH10: =AG10*AG$4/12 -> #DIV/0! | AI10: 2.7 | AJ10: =+AI10/AK$4 -> #DIV/0! | AK10: =AJ10*AJ$4/12 -> #DIV/0! | AL10: 23.22 | AM10: =+AL10/AN$4 -> #DIV/0! | AN10: =AM10*AM$4/12 -> #DIV/0! | AP10: =+AO10/AQ$4 -> #DIV/0! | AQ10: =AP10*AP$4/12 -> #DIV/0! | AS10: =+AR10/AT$4 -> 0 | AT10: =AS10*AS$4/12 -> 0 | AU10: 23.22 | AV10: =+AU10/AW$4 -> #DIV/0! | AW10: =AV10*AV$4/12 -> #DIV/0! | AY10: =+AX10/AZ$4 -> 0 | AZ10: =AY10*AY$4/12 -> 0 | BA10: =+AH10+AK10+AN10+AQ10+AT10+AW10+AZ10 -> #DIV/0!
B11: Escola Jaume Balmes - Primaria | C11: P Baixa | D11: Biblioteca | E11: Terratzo | F11: =74.26-15 -> 59.26 | H11: Diario 5/7 | I11: =IF(H11=Tablas!$B$5,Tablas!$C$5,VLOOKUP(H11,Tablas!$B$5:$D$40,2,FALSE)) -> 19 | J11: =IF(I11=0,"",VLOOKUP(I11,Tablas!$C$5:$D$40,2,FALSE)) -> 21.72619 | K11: =IF(G11=0,"0",F11/G11) -> 0 | L11: =IF($X11=3,$K11,0)+IF($X11=4,$K11,0)+IF($X11=5,$K11,0)+IF($X11=6,$K11,0)+IF($X11=7,$K11,0)+IF($X11=10,$K11*2,0)+IF($X11=12,$K11*2,0)+IF($X11=14,$K11*2,0)+IF($X11=21,$K11*3,0)+IF($X11<=1,$K11*$J11/21.75,0)+IF($X11=15,$K11*3,0) -> 0 | M11: =IF($X11=2,$K11,0)+IF($X11=4,$K11,0)+IF($X11=5,$K11,0)+IF($X11=6,$K11,0)+IF($X11=7,$K11,0)+IF($X11=10,$K11*2,0)+IF($X11=12,$K11*2,0)+IF($X11=14,$K11*2,0)+IF($X11=15,$K11*3,0)+IF($X11=21,$K11*3,0)+IF($X11<=1,$K11*$J11/21.75,0) -> 0 | N11: =IF($X11=3,$K11,0)+IF($X11=4,$K11,0)+IF($X11=5,$K11,0)+IF($X11=6,$K11,0)+IF($X11=7,$K11,0)+IF($X11=10,$K11*2,0)+IF($X11=12,$K11*2,0)+IF($X11=14,$K11*2,0)+IF($X11=21,$K11*3,0)+IF($X11<=1,$K11*$J11/21.75,0)+IF($X11=15,$K11*3,0) -> 0 | O11: =IF($X11=2,$K11,0)+IF($X11=4,$K11,0)+IF($X11=5,$K11,0)+IF($X11=6,$K11,0)+IF($X11=7,$K11,0)+IF($X11=10,$K11*2,0)+IF($X11=12,$K11*2,0)+IF($X11=14,$K11*2,0)+IF($X11=15,$K11*3,0)+IF($X11=21,$K11*3,0)+IF($X11<=1,$K11*$J11/21.75,0) -> 0 | P11: =IF($X11=3,$K11,0)+IF($X11=4,$K11,0)+IF($X11=5,$K11,0)+IF($X11=6,$K11,0)+IF($X11=7,$K11,0)+IF($X11=10,$K11*2,0)+IF($X11=12,$K11*2,0)+IF($X11=14,$K11*2,0)+IF($X11=21,$K11*3,0)+IF($X11<=1,$K11*$J11/21.75,0)+IF($X11=15,$K11*3,0) -> 0 | Q11: 0.75 | R11: =(IF($X11=6,$K11,)+IF($X11=7,$K11,)+IF($X11=12,$K11*2,)+IF($X11=18,$K11*3,)+IF($X11=21,$K11*3,)+IF($X11=14,$K11*2,))*Q11 -> 0 | S11: 0.75 | T11: =(IF($X11=7,$K11,)+IF($X11=21,$K11*3,)+IF($X11=14,$K11*2,))*S11 -> 0 | U11: =SUM(+L11+M11+N11+O11+P11+R11+T11) -> 0 | V11: =+U11*4.345 -> 0 | W11: =IF(V11="","",$W$4*V11) -> 0 | X11: =ROUND(J11/4.3452380952381,1) -> 5 | Y11: T | Z11: 1 | AA11: =+IF($Y11="M",$U11,IF($Y11="MT",$U11/2,IF(Y11="MN",$U11/2,IF($Y11="MTN",$U11/3,0))))*Z11 -> 0 | AB11: 1 | AC11: =+IF($Y11="T",$U11,IF($Y11="MT",$U11/2,IF($Y11="TN",$U11/2,IF($Y11="MTN",$U11/3,0))))*AB11 -> 0 | AD11: 1 | AE11: =+IF($Y11="N",$U11,IF($Y11="MN",$U11/2,IF($Y11="TN",$U11/2,IF($Y11="MTN",$U11/3,0))))*AD11 -> 0 | AG11: =+AF11/AH$4 -> #DIV/0! | AH11: =AG11*AG$4/12 -> #DIV/0! | AI11: 4.5 | AJ11: =+AI11/AK$4 -> #DIV/0! | AK11: =AJ11*AJ$4/12 -> #DIV/0! | AL11: 59.26 | AM11: =+AL11/AN$4 -> #DIV/0! | AN11: =AM11*AM$4/12 -> #DIV/0! | AP11: =+AO11/AQ$4 -> #DIV/0! | AQ11: =AP11*AP$4/12 -> #DIV/0! | AS11: =+AR11/AT$4 -> 0 | AT11: =AS11*AS$4/12 -> 0 | AU11: 59.26 | AV11: =+AU11/AW$4 -> #DIV/0! | AW11: =AV11*AV$4/12 -> #DIV/0! | AY11: =+AX11/AZ$4 -> 0 | AZ11: =AY11*AY$4/12 -> 0 | BA11: =+AH11+AK11+AN11+AQ11+AT11+AW11+AZ11 -> #DIV/0!
B12: Escola Jaume Balmes - Primaria | C12: P Baixa | D12: Magatzem biblioteca | E12: Terratzo | F12: 15 | H12: Diario 5/7 | I12: =IF(H12=Tablas!$B$5,Tablas!$C$5,VLOOKUP(H12,Tablas!$B$5:$D$40,2,FALSE)) -> 19 | J12: =IF(I12=0,"",VLOOKUP(I12,Tablas!$C$5:$D$40,2,FALSE)) -> 21.72619 | K12: =IF(G12=0,"0",F12/G12) -> 0 | L12: =IF($X12=3,$K12,0)+IF($X12=4,$K12,0)+IF($X12=5,$K12,0)+IF($X12=6,$K12,0)+IF($X12=7,$K12,0)+IF($X12=10,$K12*2,0)+IF($X12=12,$K12*2,0)+IF($X12=14,$K12*2,0)+IF($X12=21,$K12*3,0)+IF($X12<=1,$K12*$J12/21.75,0)+IF($X12=15,$K12*3,0) -> 0 | M12: =IF($X12=2,$K12,0)+IF($X12=4,$K12,0)+IF($X12=5,$K12,0)+IF($X12=6,$K12,0)+IF($X12=7,$K12,0)+IF($X12=10,$K12*2,0)+IF($X12=12,$K12*2,0)+IF($X12=14,$K12*2,0)+IF($X12=15,$K12*3,0)+IF($X12=21,$K12*3,0)+IF($X12<=1,$K12*$J12/21.75,0) -> 0 | N12: =IF($X12=3,$K12,0)+IF($X12=4,$K12,0)+IF($X12=5,$K12,0)+IF($X12=6,$K12,0)+IF($X12=7,$K12,0)+IF($X12=10,$K12*2,0)+IF($X12=12,$K12*2,0)+IF($X12=14,$K12*2,0)+IF($X12=21,$K12*3,0)+IF($X12<=1,$K12*$J12/21.75,0)+IF($X12=15,$K12*3,0) -> 0 | O12: =IF($X12=2,$K12,0)+IF($X12=4,$K12,0)+IF($X12=5,$K12,0)+IF($X12=6,$K12,0)+IF($X12=7,$K12,0)+IF($X12=10,$K12*2,0)+IF($X12=12,$K12*2,0)+IF($X12=14,$K12*2,0)+IF($X12=15,$K12*3,0)+IF($X12=21,$K12*3,0)+IF($X12<=1,$K12*$J12/21.75,0) -> 0 | P12: =IF($X12=3,$K12,0)+IF($X12=4,$K12,0)+IF($X12=5,$K12,0)+IF($X12=6,$K12,0)+IF($X12=7,$K12,0)+IF($X12=10,$K12*2,0)+IF($X12=12,$K12*2,0)+IF($X12=14,$K12*2,0)+IF($X12=21,$K12*3,0)+IF($X12<=1,$K12*$J12/21.75,0)+IF($X12=15,$K12*3,0) -> 0 | Q12: 0.75 | R12: =(IF($X12=6,$K12,)+IF($X12=7,$K12,)+IF($X12=12,$K12*2,)+IF($X12=18,$K12*3,)+IF($X12=21,$K12*3,)+IF($X12=14,$K12*2,))*Q12 -> 0 | S12: 0.75 | T12: =(IF($X12=7,$K12,)+IF($X12=21,$K12*3,)+IF($X12=14,$K12*2,))*S12 -> 0 | U12: =SUM(+L12+M12+N12+O12+P12+R12+T12) -> 0 | V12: =+U12*4.345 -> 0 | W12: =IF(V12="","",$W$4*V12) -> 0 | X12: =ROUND(J12/4.3452380952381,1) -> 5 | Y12: T | Z12: 1 | AA12: =+IF($Y12="M",$U12,IF($Y12="MT",$U12/2,IF(Y12="MN",$U12/2,IF($Y12="MTN",$U12/3,0))))*Z12 -> 0 | AB12: 1 | AC12: =+IF($Y12="T",$U12,IF($Y12="MT",$U12/2,IF($Y12="TN",$U12/2,IF($Y12="MTN",$U12/3,0))))*AB12 -> 0 | AD12: 1 | AE12: =+IF($Y12="N",$U12,IF($Y12="MN",$U12/2,IF($Y12="TN",$U12/2,IF($Y12="MTN",$U12/3,0))))*AD12 -> 0 | AG12: =+AF12/AH$4 -> #DIV/0! | AH12: =AG12*AG$4/12 -> #DIV/0! | AJ12: =+AI12/AK$4 -> #DIV/0! | AK12: =AJ12*AJ$4/12 -> #DIV/0! | AL12: 15 | AM12: =+AL12/AN$4 -> #DIV/0! | AN12: =AM12*AM$4/12 -> #DIV/0! | AP12: =+AO12/AQ$4 -> #DIV/0! | AQ12: =AP12*AP$4/12 -> #DIV/0! | AS12: =+AR12/AT$4 -> 0 | AT12: =AS12*AS$4/12 -> 0 | AU12: 15 | AV12: =+AU12/AW$4 -> #DIV/0! | AW12: =AV12*AV$4/12 -> #DIV/0! | AY12: =+AX12/AZ$4 -> 0 | AZ12: =AY12*AY$4/12 -> 0 | BA12: =+AH12+AK12+AN12+AQ12+AT12+AW12+AZ12 -> #DIV/0!
B13: Escola Jaume Balmes - Primaria | C13: P Baixa | D13: Aseo Biblioteca | E13: Terratzo | F13: 2.81 | H13: Diario 5/7 | I13: =IF(H13=Tablas!$B$5,Tablas!$C$5,VLOOKUP(H13,Tablas!$B$5:$D$40,2,FALSE)) -> 19 | J13: =IF(I13=0,"",VLOOKUP(I13,Tablas!$C$5:$D$40,2,FALSE)) -> 21.72619 | K13: =IF(G13=0,"0",F13/G13) -> 0 | L13: =IF($X13=3,$K13,0)+IF($X13=4,$K13,0)+IF($X13=5,$K13,0)+IF($X13=6,$K13,0)+IF($X13=7,$K13,0)+IF($X13=10,$K13*2,0)+IF($X13=12,$K13*2,0)+IF($X13=14,$K13*2,0)+IF($X13=21,$K13*3,0)+IF($X13<=1,$K13*$J13/21.75,0)+IF($X13=15,$K13*3,0) -> 0 | M13: =IF($X13=2,$K13,0)+IF($X13=4,$K13,0)+IF($X13=5,$K13,0)+IF($X13=6,$K13,0)+IF($X13=7,$K13,0)+IF($X13=10,$K13*2,0)+IF($X13=12,$K13*2,0)+IF($X13=14,$K13*2,0)+IF($X13=15,$K13*3,0)+IF($X13=21,$K13*3,0)+IF($X13<=1,$K13*$J13/21.75,0) -> 0 | N13: =IF($X13=3,$K13,0)+IF($X13=4,$K13,0)+IF($X13=5,$K13,0)+IF($X13=6,$K13,0)+IF($X13=7,$K13,0)+IF($X13=10,$K13*2,0)+IF($X13=12,$K13*2,0)+IF($X13=14,$K13*2,0)+IF($X13=21,$K13*3,0)+IF($X13<=1,$K13*$J13/21.75,0)+IF($X13=15,$K13*3,0) -> 0 | O13: =IF($X13=2,$K13,0)+IF($X13=4,$K13,0)+IF($X13=5,$K13,0)+IF($X13=6,$K13,0)+IF($X13=7,$K13,0)+IF($X13=10,$K13*2,0)+IF($X13=12,$K13*2,0)+IF($X13=14,$K13*2,0)+IF($X13=15,$K13*3,0)+IF($X13=21,$K13*3,0)+IF($X13<=1,$K13*$J13/21.75,0) -> 0 | P13: =IF($X13=3,$K13,0)+IF($X13=4,$K13,0)+IF($X13=5,$K13,0)+IF($X13=6,$K13,0)+IF($X13=7,$K13,0)+IF($X13=10,$K13*2,0)+IF($X13=12,$K13*2,0)+IF($X13=14,$K13*2,0)+IF($X13=21,$K13*3,0)+IF($X13<=1,$K13*$J13/21.75,0)+IF($X13=15,$K13*3,0) -> 0 | Q13: 0.75 | R13: =(IF($X13=6,$K13,)+IF($X13=7,$K13,)+IF($X13=12,$K13*2,)+IF($X13=18,$K13*3,)+IF($X13=21,$K13*3,)+IF($X13=14,$K13*2,))*Q13 -> 0 | S13: 0.75 | T13: =(IF($X13=7,$K13,)+IF($X13=21,$K13*3,)+IF($X13=14,$K13*2,))*S13 -> 0 | U13: =SUM(+L13+M13+N13+O13+P13+R13+T13) -> 0 | V13: =+U13*4.345 -> 0 | W13: =IF(V13="","",$W$4*V13) -> 0 | X13: =ROUND(J13/4.3452380952381,1) -> 5 | Y13: T | Z13: 1 | AA13: =+IF($Y13="M",$U13,IF($Y13="MT",$U13/2,IF(Y13="MN",$U13/2,IF($Y13="MTN",$U13/3,0))))*Z13 -> 0 | AB13: 1 | AC13: =+IF($Y13="T",$U13,IF($Y13="MT",$U13/2,IF($Y13="TN",$U13/2,IF($Y13="MTN",$U13/3,0))))*AB13 -> 0 | AD13: 1 | AE13: =+IF($Y13="N",$U13,IF($Y13="MN",$U13/2,IF($Y13="TN",$U13/2,IF($Y13="MTN",$U13/3,0))))*AD13 -> 0 | AG13: =+AF13/AH$4 -> #DIV/0! | AH13: =AG13*AG$4/12 -> #DIV/0! | AJ13: =+AI13/AK$4 -> #DIV/0! | AK13: =AJ13*AJ$4/12 -> #DIV/0! | AL13: 2.81 | AM13: =+AL13/AN$4 -> #DIV/0! | AN13: =AM13*AM$4/12 -> #DIV/0! | AP13: =+AO13/AQ$4 -> #DIV/0! | AQ13: =AP13*AP$4/12 -> #DIV/0! | AS13: =+AR13/AT$4 -> 0 | AT13: =AS13*AS$4/12 -> 0 | AU13: =+F13 -> 2.81 | AV13: =+AU13/AW$4 -> #DIV/0! | AW13: =AV13*AV$4/12 -> #DIV/0! | AY13: =+AX13/AZ$4 -> 0 | AZ13: =AY13*AY$4/12 -> 0 | BA13: =+AH13+AK13+AN13+AQ13+AT13+AW13+AZ13 -> #DIV/0!
B14: Escola Jaume Balmes - Primaria | C14: P Baixa | D14: Aseos professors | E14: Vinilic | F14: 8.27 | H14: Diario 5/7 | I14: =IF(H14=Tablas!$B$5,Tablas!$C$5,VLOOKUP(H14,Tablas!$B$5:$D$40,2,FALSE)) -> 19 | J14: =IF(I14=0,"",VLOOKUP(I14,Tablas!$C$5:$D$40,2,FALSE)) -> 21.72619 | K14: =IF(G14=0,"0",F14/G14) -> 0 | L14: =IF($X14=3,$K14,0)+IF($X14=4,$K14,0)+IF($X14=5,$K14,0)+IF($X14=6,$K14,0)+IF($X14=7,$K14,0)+IF($X14=10,$K14*2,0)+IF($X14=12,$K14*2,0)+IF($X14=14,$K14*2,0)+IF($X14=21,$K14*3,0)+IF($X14<=1,$K14*$J14/21.75,0)+IF($X14=15,$K14*3,0) -> 0 | M14: =IF($X14=2,$K14,0)+IF($X14=4,$K14,0)+IF($X14=5,$K14,0)+IF($X14=6,$K14,0)+IF($X14=7,$K14,0)+IF($X14=10,$K14*2,0)+IF($X14=12,$K14*2,0)+IF($X14=14,$K14*2,0)+IF($X14=15,$K14*3,0)+IF($X14=21,$K14*3,0)+IF($X14<=1,$K14*$J14/21.75,0) -> 0 | N14: =IF($X14=3,$K14,0)+IF($X14=4,$K14,0)+IF($X14=5,$K14,0)+IF($X14=6,$K14,0)+IF($X14=7,$K14,0)+IF($X14=10,$K14*2,0)+IF($X14=12,$K14*2,0)+IF($X14=14,$K14*2,0)+IF($X14=21,$K14*3,0)+IF($X14<=1,$K14*$J14/21.75,0)+IF($X14=15,$K14*3,0) -> 0 | O14: =IF($X14=2,$K14,0)+IF($X14=4,$K14,0)+IF($X14=5,$K14,0)+IF($X14=6,$K14,0)+IF($X14=7,$K14,0)+IF($X14=10,$K14*2,0)+IF($X14=12,$K14*2,0)+IF($X14=14,$K14*2,0)+IF($X14=15,$K14*3,0)+IF($X14=21,$K14*3,0)+IF($X14<=1,$K14*$J14/21.75,0) -> 0 | P14: =IF($X14=3,$K14,0)+IF($X14=4,$K14,0)+IF($X14=5,$K14,0)+IF($X14=6,$K14,0)+IF($X14=7,$K14,0)+IF($X14=10,$K14*2,0)+IF($X14=12,$K14*2,0)+IF($X14=14,$K14*2,0)+IF($X14=21,$K14*3,0)+IF($X14<=1,$K14*$J14/21.75,0)+IF($X14=15,$K14*3,0) -> 0 | Q14: 0.75 | R14: =(IF($X14=6,$K14,)+IF($X14=7,$K14,)+IF($X14=12,$K14*2,)+IF($X14=18,$K14*3,)+IF($X14=21,$K14*3,)+IF($X14=14,$K14*2,))*Q14 -> 0 | S14: 0.75 | T14: =(IF($X14=7,$K14,)+IF($X14=21,$K14*3,)+IF($X14=14,$K14*2,))*S14 -> 0 | U14: =SUM(+L14+M14+N14+O14+P14+R14+T14) -> 0 | V14: =+U14*4.345 -> 0 | W14: =IF(V14="","",$W$4*V14) -> 0 | X14: =ROUND(J14/4.3452380952381,1) -> 5 | Y14: T | Z14: 1 | AA14: =+IF($Y14="M",$U14,IF($Y14="MT",$U14/2,IF(Y14="MN",$U14/2,IF($Y14="MTN",$U14/3,0))))*Z14 -> 0 | AB14: 1 | AC14: =+IF($Y14="T",$U14,IF($Y14="MT",$U14/2,IF($Y14="TN",$U14/2,IF($Y14="MTN",$U14/3,0))))*AB14 -> 0 | AD14: 1 | AE14: =+IF($Y14="N",$U14,IF($Y14="MN",$U14/2,IF($Y14="TN",$U14/2,IF($Y14="MTN",$U14/3,0))))*AD14 -> 0 | AG14: =+AF14/AH$4 -> #DIV/0! | AH14: =AG14*AG$4/12 -> #DIV/0! | AI14: 1.8 | AJ14: =+AI14/AK$4 -> #DIV/0! | AK14: =AJ14*AJ$4/12 -> #DIV/0! | AL14: 8.27 | AM14: =+AL14/AN$4 -> #DIV/0! | AN14: =AM14*AM$4/12 -> #DIV/0! | AP14: =+AO14/AQ$4 -> #DIV/0! | AQ14: =AP14*AP$4/12 -> #DIV/0! | AS14: =+AR14/AT$4 -> 0 | AT14: =AS14*AS$4/12 -> 0 | AU14: 8.27 | AV14: =+AU14/AW$4 -> #DIV/0! | AW14: =AV14*AV$4/12 -> #DIV/0! | AY14: =+AX14/AZ$4 -> 0 | AZ14: =AY14*AY$4/12 -> 0 | BA14: =+AH14+AK14+AN14+AQ14+AT14+AW14+AZ14 -> #DIV/0!
B15: Escola Jaume Balmes - Primaria | C15: P Baixa | D15: Distribuidor | E15: Terratzo | F15: 7.87 | H15: Diario 5/7 | I15: =IF(H15=Tablas!$B$5,Tablas!$C$5,VLOOKUP(H15,Tablas!$B$5:$D$40,2,FALSE)) -> 19 | J15: =IF(I15=0,"",VLOOKUP(I15,Tablas!$C$5:$D$40,2,FALSE)) -> 21.72619 | K15: =IF(G15=0,"0",F15/G15) -> 0 | L15: =IF($X15=3,$K15,0)+IF($X15=4,$K15,0)+IF($X15=5,$K15,0)+IF($X15=6,$K15,0)+IF($X15=7,$K15,0)+IF($X15=10,$K15*2,0)+IF($X15=12,$K15*2,0)+IF($X15=14,$K15*2,0)+IF($X15=21,$K15*3,0)+IF($X15<=1,$K15*$J15/21.75,0)+IF($X15=15,$K15*3,0) -> 0 | M15: =IF($X15=2,$K15,0)+IF($X15=4,$K15,0)+IF($X15=5,$K15,0)+IF($X15=6,$K15,0)+IF($X15=7,$K15,0)+IF($X15=10,$K15*2,0)+IF($X15=12,$K15*2,0)+IF($X15=14,$K15*2,0)+IF($X15=15,$K15*3,0)+IF($X15=21,$K15*3,0)+IF($X15<=1,$K15*$J15/21.75,0) -> 0 | N15: =IF($X15=3,$K15,0)+IF($X15=4,$K15,0)+IF($X15=5,$K15,0)+IF($X15=6,$K15,0)+IF($X15=7,$K15,0)+IF($X15=10,$K15*2,0)+IF($X15=12,$K15*2,0)+IF($X15=14,$K15*2,0)+IF($X15=21,$K15*3,0)+IF($X15<=1,$K15*$J15/21.75,0)+IF($X15=15,$K15*3,0) -> 0 | O15: =IF($X15=2,$K15,0)+IF($X15=4,$K15,0)+IF($X15=5,$K15,0)+IF($X15=6,$K15,0)+IF($X15=7,$K15,0)+IF($X15=10,$K15*2,0)+IF($X15=12,$K15*2,0)+IF($X15=14,$K15*2,0)+IF($X15=15,$K15*3,0)+IF($X15=21,$K15*3,0)+IF($X15<=1,$K15*$J15/21.75,0) -> 0 | P15: =IF($X15=3,$K15,0)+IF($X15=4,$K15,0)+IF($X15=5,$K15,0)+IF($X15=6,$K15,0)+IF($X15=7,$K15,0)+IF($X15=10,$K15*2,0)+IF($X15=12,$K15*2,0)+IF($X15=14,$K15*2,0)+IF($X15=21,$K15*3,0)+IF($X15<=1,$K15*$J15/21.75,0)+IF($X15=15,$K15*3,0) -> 0 | Q15: 0.75 | R15: =(IF($X15=6,$K15,)+IF($X15=7,$K15,)+IF($X15=12,$K15*2,)+IF($X15=18,$K15*3,)+IF($X15=21,$K15*3,)+IF($X15=14,$K15*2,))*Q15 -> 0 | S15: 0.75 | T15: =(IF($X15=7,$K15,)+IF($X15=21,$K15*3,)+IF($X15=14,$K15*2,))*S15 -> 0 | U15: =SUM(+L15+M15+N15+O15+P15+R15+T15) -> 0 | V15: =+U15*4.345 -> 0 | W15: =IF(V15="","",$W$4*V15) -> 0 | X15: =ROUND(J15/4.3452380952381,1) -> 5 | Y15: T | Z15: 1 | AA15: =+IF($Y15="M",$U15,IF($Y15="MT",$U15/2,IF(Y15="MN",$U15/2,IF($Y15="MTN",$U15/3,0))))*Z15 -> 0 | AB15: 1 | AC15: =+IF($Y15="T",$U15,IF($Y15="MT",$U15/2,IF($Y15="TN",$U15/2,IF($Y15="MTN",$U15/3,0))))*AB15 -> 0 | AD15: 1 | AE15: =+IF($Y15="N",$U15,IF($Y15="MN",$U15/2,IF($Y15="TN",$U15/2,IF($Y15="MTN",$U15/3,0))))*AD15 -> 0 | AG15: =+AF15/AH$4 -> #DIV/0! | AH15: =AG15*AG$4/12 -> #DIV/0! | AJ15: =+AI15/AK$4 -> #DIV/0! | AK15: =AJ15*AJ$4/12 -> #DIV/0! | AL15: 7.87 | AM15: =+AL15/AN$4 -> #DIV/0! | AN15: =AM15*AM$4/12 -> #DIV/0! | AP15: =+AO15/AQ$4 -> #DIV/0! | AQ15: =AP15*AP$4/12 -> #DIV/0! | AS15: =+AR15/AT$4 -> 0 | AT15: =AS15*AS$4/12 -> 0 | AU15: 7.87 | AV15: =+AU15/AW$4 -> #DIV/0! | AW15: =AV15*AV$4/12 -> #DIV/0! | AY15: =+AX15/AZ$4 -> 0 | AZ15: =AY15*AY$4/12 -> 0 | BA15: =+AH15+AK15+AN15+AQ15+AT15+AW15+AZ15 -> #DIV/0!
B16: Escola Jaume Balmes - Primaria | C16: P Baixa | D16: Despatx direcció | E16: Terratzo | F16: 16.43 | H16: Diario 5/7 | I16: =IF(H16=Tablas!$B$5,Tablas!$C$5,VLOOKUP(H16,Tablas!$B$5:$D$40,2,FALSE)) -> 19 | J16: =IF(I16=0,"",VLOOKUP(I16,Tablas!$C$5:$D$40,2,FALSE)) -> 21.72619 | K16: =IF(G16=0,"0",F16/G16) -> 0 | L16: =IF($X16=3,$K16,0)+IF($X16=4,$K16,0)+IF($X16=5,$K16,0)+IF($X16=6,$K16,0)+IF($X16=7,$K16,0)+IF($X16=10,$K16*2,0)+IF($X16=12,$K16*2,0)+IF($X16=14,$K16*2,0)+IF($X16=21,$K16*3,0)+IF($X16<=1,$K16*$J16/21.75,0)+IF($X16=15,$K16*3,0) -> 0 | M16: =IF($X16=2,$K16,0)+IF($X16=4,$K16,0)+IF($X16=5,$K16,0)+IF($X16=6,$K16,0)+IF($X16=7,$K16,0)+IF($X16=10,$K16*2,0)+IF($X16=12,$K16*2,0)+IF($X16=14,$K16*2,0)+IF($X16=15,$K16*3,0)+IF($X16=21,$K16*3,0)+IF($X16<=1,$K16*$J16/21.75,0) -> 0 | N16: =IF($X16=3,$K16,0)+IF($X16=4,$K16,0)+IF($X16=5,$K16,0)+IF($X16=6,$K16,0)+IF($X16=7,$K16,0)+IF($X16=10,$K16*2,0)+IF($X16=12,$K16*2,0)+IF($X16=14,$K16*2,0)+IF($X16=21,$K16*3,0)+IF($X16<=1,$K16*$J16/21.75,0)+IF($X16=15,$K16*3,0) -> 0 | O16: =IF($X16=2,$K16,0)+IF($X16=4,$K16,0)+IF($X16=5,$K16,0)+IF($X16=6,$K16,0)+IF($X16=7,$K16,0)+IF($X16=10,$K16*2,0)+IF($X16=12,$K16*2,0)+IF($X16=14,$K16*2,0)+IF($X16=15,$K16*3,0)+IF($X16=21,$K16*3,0)+IF($X16<=1,$K16*$J16/21.75,0) -> 0 | P16: =IF($X16=3,$K16,0)+IF($X16=4,$K16,0)+IF($X16=5,$K16,0)+IF($X16=6,$K16,0)+IF($X16=7,$K16,0)+IF($X16=10,$K16*2,0)+IF($X16=12,$K16*2,0)+IF($X16=14,$K16*2,0)+IF($X16=21,$K16*3,0)+IF($X16<=1,$K16*$J16/21.75,0)+IF($X16=15,$K16*3,0) -> 0 | Q16: 0.75 | R16: =(IF($X16=6,$K16,)+IF($X16=7,$K16,)+IF($X16=12,$K16*2,)+IF($X16=18,$K16*3,)+IF($X16=21,$K16*3,)+IF($X16=14,$K16*2,))*Q16 -> 0 | S16: 0.75 | T16: =(IF($X16=7,$K16,)+IF($X16=21,$K16*3,)+IF($X16=14,$K16*2,))*S16 -> 0 | U16: =SUM(+L16+M16+N16+O16+P16+R16+T16) -> 0 | V16: =+U16*4.345 -> 0 | W16: =IF(V16="","",$W$4*V16) -> 0 | X16: =ROUND(J16/4.3452380952381,1) -> 5 | Y16: T | Z16: 1 | AA16: =+IF($Y16="M",$U16,IF($Y16="MT",$U16/2,IF(Y16="MN",$U16/2,IF($Y16="MTN",$U16/3,0))))*Z16 -> 0 | AB16: 1 | AC16: =+IF($Y16="T",$U16,IF($Y16="MT",$U16/2,IF($Y16="TN",$U16/2,IF($Y16="MTN",$U16/3,0))))*AB16 -> 0 | AD16: 1 | AE16: =+IF($Y16="N",$U16,IF($Y16="MN",$U16/2,IF($Y16="TN",$U16/2,IF($Y16="MTN",$U16/3,0))))*AD16 -> 0 | AG16: =+AF16/AH$4 -> #DIV/0! | AH16: =AG16*AG$4/12 -> #DIV/0! | AI16: 2.7 | AJ16: =+AI16/AK$4 -> #DIV/0! | AK16: =AJ16*AJ$4/12 -> #DIV/0! | AL16: 16.43 | AM16: =+AL16/AN$4 -> #DIV/0! | AN16: =AM16*AM$4/12 -> #DIV/0! | AP16: =+AO16/AQ$4 -> #DIV/0! | AQ16: =AP16*AP$4/12 -> #DIV/0! | AS16: =+AR16/AT$4 -> 0 | AT16: =AS16*AS$4/12 -> 0 | AU16: 16.43 | AV16: =+AU16/AW$4 -> #DIV/0! | AW16: =AV16*AV$4/12 -> #DIV/0! | AY16: =+AX16/AZ$4 -> 0 | AZ16: =AY16*AY$4/12 -> 0 | BA16: =+AH16+AK16+AN16+AQ16+AT16+AW16+AZ16 -> #DIV/0!
B17: Escola Jaume Balmes - Primaria | C17: P Baixa | D17: Sala de reunnions | E17: Terratzo | F17: 16.21 | H17: Diario 5/7 | I17: =IF(H17=Tablas!$B$5,Tablas!$C$5,VLOOKUP(H17,Tablas!$B$5:$D$40,2,FALSE)) -> 19 | J17: =IF(I17=0,"",VLOOKUP(I17,Tablas!$C$5:$D$40,2,FALSE)) -> 21.72619 | K17: =IF(G17=0,"0",F17/G17) -> 0 | L17: =IF($X17=3,$K17,0)+IF($X17=4,$K17,0)+IF($X17=5,$K17,0)+IF($X17=6,$K17,0)+IF($X17=7,$K17,0)+IF($X17=10,$K17*2,0)+IF($X17=12,$K17*2,0)+IF($X17=14,$K17*2,0)+IF($X17=21,$K17*3,0)+IF($X17<=1,$K17*$J17/21.75,0)+IF($X17=15,$K17*3,0) -> 0 | M17: =IF($X17=2,$K17,0)+IF($X17=4,$K17,0)+IF($X17=5,$K17,0)+IF($X17=6,$K17,0)+IF($X17=7,$K17,0)+IF($X17=10,$K17*2,0)+IF($X17=12,$K17*2,0)+IF($X17=14,$K17*2,0)+IF($X17=15,$K17*3,0)+IF($X17=21,$K17*3,0)+IF($X17<=1,$K17*$J17/21.75,0) -> 0 | N17: =IF($X17=3,$K17,0)+IF($X17=4,$K17,0)+IF($X17=5,$K17,0)+IF($X17=6,$K17,0)+IF($X17=7,$K17,0)+IF($X17=10,$K17*2,0)+IF($X17=12,$K17*2,0)+IF($X17=14,$K17*2,0)+IF($X17=21,$K17*3,0)+IF($X17<=1,$K17*$J17/21.75,0)+IF($X17=15,$K17*3,0) -> 0 | O17: =IF($X17=2,$K17,0)+IF($X17=4,$K17,0)+IF($X17=5,$K17,0)+IF($X17=6,$K17,0)+IF($X17=7,$K17,0)+IF($X17=10,$K17*2,0)+IF($X17=12,$K17*2,0)+IF($X17=14,$K17*2,0)+IF($X17=15,$K17*3,0)+IF($X17=21,$K17*3,0)+IF($X17<=1,$K17*$J17/21.75,0) -> 0 | P17: =IF($X17=3,$K17,0)+IF($X17=4,$K17,0)+IF($X17=5,$K17,0)+IF($X17=6,$K17,0)+IF($X17=7,$K17,0)+IF($X17=10,$K17*2,0)+IF($X17=12,$K17*2,0)+IF($X17=14,$K17*2,0)+IF($X17=21,$K17*3,0)+IF($X17<=1,$K17*$J17/21.75,0)+IF($X17=15,$K17*3,0) -> 0 | Q17: 0.75 | R17: =(IF($X17=6,$K17,)+IF($X17=7,$K17,)+IF($X17=12,$K17*2,)+IF($X17=18,$K17*3,)+IF($X17=21,$K17*3,)+IF($X17=14,$K17*2,))*Q17 -> 0 | S17: 0.75 | T17: =(IF($X17=7,$K17,)+IF($X17=21,$K17*3,)+IF($X17=14,$K17*2,))*S17 -> 0 | U17: =SUM(+L17+M17+N17+O17+P17+R17+T17) -> 0 | V17: =+U17*4.345 -> 0 | W17: =IF(V17="","",$W$4*V17) -> 0 | X17: =ROUND(J17/4.3452380952381,1) -> 5 | Y17: T | Z17: 1 | AA17: =+IF($Y17="M",$U17,IF($Y17="MT",$U17/2,IF(Y17="MN",$U17/2,IF($Y17="MTN",$U17/3,0))))*Z17 -> 0 | AB17: 1 | AC17: =+IF($Y17="T",$U17,IF($Y17="MT",$U17/2,IF($Y17="TN",$U17/2,IF($Y17="MTN",$U17/3,0))))*AB17 -> 0 | AD17: 1 | AE17: =+IF($Y17="N",$U17,IF($Y17="MN",$U17/2,IF($Y17="TN",$U17/2,IF($Y17="MTN",$U17/3,0))))*AD17 -> 0 | AG17: =+AF17/AH$4 -> #DIV/0! | AH17: =AG17*AG$4/12 -> #DIV/0! | AI17: 1.8 | AJ17: =+AI17/AK$4 -> #DIV/0! | AK17: =AJ17*AJ$4/12 -> #DIV/0! | AL17: 16.21 | AM17: =+AL17/AN$4 -> #DIV/0! | AN17: =AM17*AM$4/12 -> #DIV/0! | AP17: =+AO17/AQ$4 -> #DIV/0! | AQ17: =AP17*AP$4/12 -> #DIV/0! | AS17: =+AR17/AT$4 -> 0 | AT17: =AS17*AS$4/12 -> 0 | AU17: 16.21 | AV17: =+AU17/AW$4 -> #DIV/0! | AW17: =AV17*AV$4/12 -> #DIV/0! | AY17: =+AX17/AZ$4 -> 0 | AZ17: =AY17*AY$4/12 -> 0 | BA17: =+AH17+AK17+AN17+AQ17+AT17+AW17+AZ17 -> #DIV/0!
B18: Escola Jaume Balmes - Primaria | C18: P Baixa | D18: Magatzem | F18: 26.87 | H18: Mensual | I18: =IF(H18=Tablas!$B$5,Tablas!$C$5,VLOOKUP(H18,Tablas!$B$5:$D$40,2,FALSE)) -> 29 | J18: =IF(I18=0,"",VLOOKUP(I18,Tablas!$C$5:$D$40,2,FALSE)) -> 1 | K18: =IF(G18=0,"0",F18/G18) -> 0 | L18: =IF($X18=3,$K18,0)+IF($X18=4,$K18,0)+IF($X18=5,$K18,0)+IF($X18=6,$K18,0)+IF($X18=7,$K18,0)+IF($X18=10,$K18*2,0)+IF($X18=12,$K18*2,0)+IF($X18=14,$K18*2,0)+IF($X18=21,$K18*3,0)+IF($X18<=1,$K18*$J18/21.75,0)+IF($X18=15,$K18*3,0) -> 0 | M18: =IF($X18=2,$K18,0)+IF($X18=4,$K18,0)+IF($X18=5,$K18,0)+IF($X18=6,$K18,0)+IF($X18=7,$K18,0)+IF($X18=10,$K18*2,0)+IF($X18=12,$K18*2,0)+IF($X18=14,$K18*2,0)+IF($X18=15,$K18*3,0)+IF($X18=21,$K18*3,0)+IF($X18<=1,$K18*$J18/21.75,0) -> 0 | N18: =IF($X18=3,$K18,0)+IF($X18=4,$K18,0)+IF($X18=5,$K18,0)+IF($X18=6,$K18,0)+IF($X18=7,$K18,0)+IF($X18=10,$K18*2,0)+IF($X18=12,$K18*2,0)+IF($X18=14,$K18*2,0)+IF($X18=21,$K18*3,0)+IF($X18<=1,$K18*$J18/21.75,0)+IF($X18=15,$K18*3,0) -> 0 | O18: =IF($X18=2,$K18,0)+IF($X18=4,$K18,0)+IF($X18=5,$K18,0)+IF($X18=6,$K18,0)+IF($X18=7,$K18,0)+IF($X18=10,$K18*2,0)+IF($X18=12,$K18*2,0)+IF($X18=14,$K18*2,0)+IF($X18=15,$K18*3,0)+IF($X18=21,$K18*3,0)+IF($X18<=1,$K18*$J18/21.75,0) -> 0 | P18: =IF($X18=3,$K18,0)+IF($X18=4,$K18,0)+IF($X18=5,$K18,0)+IF($X18=6,$K18,0)+IF($X18=7,$K18,0)+IF($X18=10,$K18*2,0)+IF($X18=12,$K18*2,0)+IF($X18=14,$K18*2,0)+IF($X18=21,$K18*3,0)+IF($X18<=1,$K18*$J18/21.75,0)+IF($X18=15,$K18*3,0) -> 0 | Q18: 0.75 | R18: =(IF($X18=6,$K18,)+IF($X18=7,$K18,)+IF($X18=12,$K18*2,)+IF($X18=18,$K18*3,)+IF($X18=21,$K18*3,)+IF($X18=14,$K18*2,))*Q18 -> 0 | S18: 0.75 | T18: =(IF($X18=7,$K18,)+IF($X18=21,$K18*3,)+IF($X18=14,$K18*2,))*S18 -> 0 | U18: =SUM(+L18+M18+N18+O18+P18+R18+T18) -> 0 | V18: =+U18*4.345 -> 0 | W18: =IF(V18="","",$W$4*V18) -> 0 | X18: =ROUND(J18/4.3452380952381,1) -> 0.2 | Y18: T | Z18: 1 | AA18: =+IF($Y18="M",$U18,IF($Y18="MT",$U18/2,IF(Y18="MN",$U18/2,IF($Y18="MTN",$U18/3,0))))*Z18 -> 0 | AB18: 1 | AC18: =+IF($Y18="T",$U18,IF($Y18="MT",$U18/2,IF($Y18="TN",$U18/2,IF($Y18="MTN",$U18/3,0))))*AB18 -> 0 | AD18: 1 | AE18: =+IF($Y18="N",$U18,IF($Y18="MN",$U18/2,IF($Y18="TN",$U18/2,IF($Y18="MTN",$U18/3,0))))*AD18 -> 0 | AG18: =+AF18/AH$4 -> #DIV/0! | AH18: =AG18*AG$4/12 -> #DIV/0! | AI18: 1.8 | AJ18: =+AI18/AK$4 -> #DIV/0! | AK18: =AJ18*AJ$4/12 -> #DIV/0! | AL18: 26.87 | AM18: =+AL18/AN$4 -> #DIV/0! | AN18: =AM18*AM$4/12 -> #DIV/0! | AP18: =+AO18/AQ$4 -> #DIV/0! | AQ18: =AP18*AP$4/12 -> #DIV/0! | AS18: =+AR18/AT$4 -> 0 | AT18: =AS18*AS$4/12 -> 0 | AU18: 26.87 | AV18: =+AU18/AW$4 -> #DIV/0! | AW18: =AV18*AV$4/12 -> #DIV/0! | AY18: =+AX18/AZ$4 -> 0 | AZ18: =AY18*AY$4/12 -> 0 | BA18: =+AH18+AK18+AN18+AQ18+AT18+AW18+AZ18 -> #DIV/0!
B19: Escola Jaume Balmes - Primaria | C19: P Baixa | D19: Aula 1er | F19: 47.9 | H19: Diario 5/7 | I19: =IF(H19=Tablas!$B$5,Tablas!$C$5,VLOOKUP(H19,Tablas!$B$5:$D$40,2,FALSE)) -> 19 | J19: =IF(I19=0,"",VLOOKUP(I19,Tablas!$C$5:$D$40,2,FALSE)) -> 21.72619 | K19: =IF(G19=0,"0",F19/G19) -> 0 | L19: =IF($X19=3,$K19,0)+IF($X19=4,$K19,0)+IF($X19=5,$K19,0)+IF($X19=6,$K19,0)+IF($X19=7,$K19,0)+IF($X19=10,$K19*2,0)+IF($X19=12,$K19*2,0)+IF($X19=14,$K19*2,0)+IF($X19=21,$K19*3,0)+IF($X19<=1,$K19*$J19/21.75,0)+IF($X19=15,$K19*3,0) -> 0 | M19: =IF($X19=2,$K19,0)+IF($X19=4,$K19,0)+IF($X19=5,$K19,0)+IF($X19=6,$K19,0)+IF($X19=7,$K19,0)+IF($X19=10,$K19*2,0)+IF($X19=12,$K19*2,0)+IF($X19=14,$K19*2,0)+IF($X19=15,$K19*3,0)+IF($X19=21,$K19*3,0)+IF($X19<=1,$K19*$J19/21.75,0) -> 0 | N19: =IF($X19=3,$K19,0)+IF($X19=4,$K19,0)+IF($X19=5,$K19,0)+IF($X19=6,$K19,0)+IF($X19=7,$K19,0)+IF($X19=10,$K19*2,0)+IF($X19=12,$K19*2,0)+IF($X19=14,$K19*2,0)+IF($X19=21,$K19*3,0)+IF($X19<=1,$K19*$J19/21.75,0)+IF($X19=15,$K19*3,0) -> 0 | O19: =IF($X19=2,$K19,0)+IF($X19=4,$K19,0)+IF($X19=5,$K19,0)+IF($X19=6,$K19,0)+IF($X19=7,$K19,0)+IF($X19=10,$K19*2,0)+IF($X19=12,$K19*2,0)+IF($X19=14,$K19*2,0)+IF($X19=15,$K19*3,0)+IF($X19=21,$K19*3,0)+IF($X19<=1,$K19*$J19/21.75,0) -> 0 | P19: =IF($X19=3,$K19,0)+IF($X19=4,$K19,0)+IF($X19=5,$K19,0)+IF($X19=6,$K19,0)+IF($X19=7,$K19,0)+IF($X19=10,$K19*2,0)+IF($X19=12,$K19*2,0)+IF($X19=14,$K19*2,0)+IF($X19=21,$K19*3,0)+IF($X19<=1,$K19*$J19/21.75,0)+IF($X19=15,$K19*3,0) -> 0 | Q19: 0.75 | R19: =(IF($X19=6,$K19,)+IF($X19=7,$K19,)+IF($X19=12,$K19*2,)+IF($X19=18,$K19*3,)+IF($X19=21,$K19*3,)+IF($X19=14,$K19*2,))*Q19 -> 0 | S19: 0.75 | T19: =(IF($X19=7,$K19,)+IF($X19=21,$K19*3,)+IF($X19=14,$K19*2,))*S19 -> 0 | U19: =SUM(+L19+M19+N19+O19+P19+R19+T19) -> 0 | V19: =+U19*4.345 -> 0 | W19: =IF(V19="","",$W$4*V19) -> 0 | X19: =ROUND(J19/4.3452380952381,1) -> 5 | Y19: T | Z19: 1 | AA19: =+IF($Y19="M",$U19,IF($Y19="MT",$U19/2,IF(Y19="MN",$U19/2,IF($Y19="MTN",$U19/3,0))))*Z19 -> 0 | AB19: 1 | AC19: =+IF($Y19="T",$U19,IF($Y19="MT",$U19/2,IF($Y19="TN",$U19/2,IF($Y19="MTN",$U19/3,0))))*AB19 -> 0 | AD19: 1 | AE19: =+IF($Y19="N",$U19,IF($Y19="MN",$U19/2,IF($Y19="TN",$U19/2,IF($Y19="MTN",$U19/3,0))))*AD19 -> 0 | AF19: 1.7 | AG19: =+AF19/AH$4 -> #DIV/0! | AH19: =AG19*AG$4/12 -> #DIV/0! | AI19: 8.1 | AJ19: =+AI19/AK$4 -> #DIV/0! | AK19: =AJ19*AJ$4/12 -> #DIV/0! | AL19: 47.9 | AM19: =+AL19/AN$4 -> #DIV/0! | AN19: =AM19*AM$4/12 -> #DIV/0! | AP19: =+AO19/AQ$4 -> #DIV/0! | AQ19: =AP19*AP$4/12 -> #DIV/0! | AS19: =+AR19/AT$4 -> 0 | AT19: =AS19*AS$4/12 -> 0 | AU19: 47.9 | AV19: =+AU19/AW$4 -> #DIV/0! | AW19: =AV19*AV$4/12 -> #DIV/0! | AY19: =+AX19/AZ$4 -> 0 | AZ19: =AY19*AY$4/12 -> 0 | BA19: =+AH19+AK19+AN19+AQ19+AT19+AW19+AZ19 -> #DIV/0!
B20: Escola Jaume Balmes - Primaria | C20: P Baixa | D20: Aula 1er | E20: Vinilic | F20: 47.95 | H20: Diario 5/7 | I20: =IF(H20=Tablas!$B$5,Tablas!$C$5,VLOOKUP(H20,Tablas!$B$5:$D$40,2,FALSE)) -> 19 | J20: =IF(I20=0,"",VLOOKUP(I20,Tablas!$C$5:$D$40,2,FALSE)) -> 21.72619 | K20: =IF(G20=0,"0",F20/G20) -> 0 | L20: =IF($X20=3,$K20,0)+IF($X20=4,$K20,0)+IF($X20=5,$K20,0)+IF($X20=6,$K20,0)+IF($X20=7,$K20,0)+IF($X20=10,$K20*2,0)+IF($X20=12,$K20*2,0)+IF($X20=14,$K20*2,0)+IF($X20=21,$K20*3,0)+IF($X20<=1,$K20*$J20/21.75,0)+IF($X20=15,$K20*3,0) -> 0 | M20: =IF($X20=2,$K20,0)+IF($X20=4,$K20,0)+IF($X20=5,$K20,0)+IF($X20=6,$K20,0)+IF($X20=7,$K20,0)+IF($X20=10,$K20*2,0)+IF($X20=12,$K20*2,0)+IF($X20=14,$K20*2,0)+IF($X20=15,$K20*3,0)+IF($X20=21,$K20*3,0)+IF($X20<=1,$K20*$J20/21.75,0) -> 0 | N20: =IF($X20=3,$K20,0)+IF($X20=4,$K20,0)+IF($X20=5,$K20,0)+IF($X20=6,$K20,0)+IF($X20=7,$K20,0)+IF($X20=10,$K20*2,0)+IF($X20=12,$K20*2,0)+IF($X20=14,$K20*2,0)+IF($X20=21,$K20*3,0)+IF($X20<=1,$K20*$J20/21.75,0)+IF($X20=15,$K20*3,0) -> 0 | O20: =IF($X20=2,$K20,0)+IF($X20=4,$K20,0)+IF($X20=5,$K20,0)+IF($X20=6,$K20,0)+IF($X20=7,$K20,0)+IF($X20=10,$K20*2,0)+IF($X20=12,$K20*2,0)+IF($X20=14,$K20*2,0)+IF($X20=15,$K20*3,0)+IF($X20=21,$K20*3,0)+IF($X20<=1,$K20*$J20/21.75,0) -> 0 | P20: =IF($X20=3,$K20,0)+IF($X20=4,$K20,0)+IF($X20=5,$K20,0)+IF($X20=6,$K20,0)+IF($X20=7,$K20,0)+IF($X20=10,$K20*2,0)+IF($X20=12,$K20*2,0)+IF($X20=14,$K20*2,0)+IF($X20=21,$K20*3,0)+IF($X20<=1,$K20*$J20/21.75,0)+IF($X20=15,$K20*3,0) -> 0 | Q20: 0.75 | R20: =(IF($X20=6,$K20,)+IF($X20=7,$K20,)+IF($X20=12,$K20*2,)+IF($X20=18,$K20*3,)+IF($X20=21,$K20*3,)+IF($X20=14,$K20*2,))*Q20 -> 0 | S20: 0.75 | T20: =(IF($X20=7,$K20,)+IF($X20=21,$K20*3,)+IF($X20=14,$K20*2,))*S20 -> 0 | U20: =SUM(+L20+M20+N20+O20+P20+R20+T20) -> 0 | V20: =+U20*4.345 -> 0 | W20: =IF(V20="","",$W$4*V20) -> 0 | X20: =ROUND(J20/4.3452380952381,1) -> 5 | Y20: T | Z20: 1 | AA20: =+IF($Y20="M",$U20,IF($Y20="MT",$U20/2,IF(Y20="MN",$U20/2,IF($Y20="MTN",$U20/3,0))))*Z20 -> 0 | AB20: 1 | AC20: =+IF($Y20="T",$U20,IF($Y20="MT",$U20/2,IF($Y20="TN",$U20/2,IF($Y20="MTN",$U20/3,0))))*AB20 -> 0 | AD20: 1 | AE20: =+IF($Y20="N",$U20,IF($Y20="MN",$U20/2,IF($Y20="TN",$U20/2,IF($Y20="MTN",$U20/3,0))))*AD20 -> 0 | AF20: 1.7 | AG20: =+AF20/AH$4 -> #DIV/0! | AH20: =AG20*AG$4/12 -> #DIV/0! | AI20: 5.4 | AJ20: =+AI20/AK$4 -> #DIV/0! | AK20: =AJ20*AJ$4/12 -> #DIV/0! | AL20: 47.95 | AM20: =+AL20/AN$4 -> #DIV/0! | AN20: =AM20*AM$4/12 -> #DIV/0! | AP20: =+AO20/AQ$4 -> #DIV/0! | AQ20: =AP20*AP$4/12 -> #DIV/0! | AS20: =+AR20/AT$4 -> 0 | AT20: =AS20*AS$4/12 -> 0 | AU20: 47.95 | AV20: =+AU20/AW$4 -> #DIV/0! | AW20: =AV20*AV$4/12 -> #DIV/0! | AY20: =+AX20/AZ$4 -> 0 | AZ20: =AY20*AY$4/12 -> 0 | BA20: =+AH20+AK20+AN20+AQ20+AT20+AW20+AZ20 -> #DIV/0!
B21: Escola Jaume Balmes - Primaria | C21: P Baixa | D21: Aula 2n | F21: 58.08 | H21: Diario 5/7 | I21: =IF(H21=Tablas!$B$5,Tablas!$C$5,VLOOKUP(H21,Tablas!$B$5:$D$40,2,FALSE)) -> 19 | J21: =IF(I21=0,"",VLOOKUP(I21,Tablas!$C$5:$D$40,2,FALSE)) -> 21.72619 | K21: =IF(G21=0,"0",F21/G21) -> 0 | L21: =IF($X21=3,$K21,0)+IF($X21=4,$K21,0)+IF($X21=5,$K21,0)+IF($X21=6,$K21,0)+IF($X21=7,$K21,0)+IF($X21=10,$K21*2,0)+IF($X21=12,$K21*2,0)+IF($X21=14,$K21*2,0)+IF($X21=21,$K21*3,0)+IF($X21<=1,$K21*$J21/21.75,0)+IF($X21=15,$K21*3,0) -> 0 | M21: =IF($X21=2,$K21,0)+IF($X21=4,$K21,0)+IF($X21=5,$K21,0)+IF($X21=6,$K21,0)+IF($X21=7,$K21,0)+IF($X21=10,$K21*2,0)+IF($X21=12,$K21*2,0)+IF($X21=14,$K21*2,0)+IF($X21=15,$K21*3,0)+IF($X21=21,$K21*3,0)+IF($X21<=1,$K21*$J21/21.75,0) -> 0 | N21: =IF($X21=3,$K21,0)+IF($X21=4,$K21,0)+IF($X21=5,$K21,0)+IF($X21=6,$K21,0)+IF($X21=7,$K21,0)+IF($X21=10,$K21*2,0)+IF($X21=12,$K21*2,0)+IF($X21=14,$K21*2,0)+IF($X21=21,$K21*3,0)+IF($X21<=1,$K21*$J21/21.75,0)+IF($X21=15,$K21*3,0) -> 0 | O21: =IF($X21=2,$K21,0)+IF($X21=4,$K21,0)+IF($X21=5,$K21,0)+IF($X21=6,$K21,0)+IF($X21=7,$K21,0)+IF($X21=10,$K21*2,0)+IF($X21=12,$K21*2,0)+IF($X21=14,$K21*2,0)+IF($X21=15,$K21*3,0)+IF($X21=21,$K21*3,0)+IF($X21<=1,$K21*$J21/21.75,0) -> 0 | P21: =IF($X21=3,$K21,0)+IF($X21=4,$K21,0)+IF($X21=5,$K21,0)+IF($X21=6,$K21,0)+IF($X21=7,$K21,0)+IF($X21=10,$K21*2,0)+IF($X21=12,$K21*2,0)+IF($X21=14,$K21*2,0)+IF($X21=21,$K21*3,0)+IF($X21<=1,$K21*$J21/21.75,0)+IF($X21=15,$K21*3,0) -> 0 | Q21: 0.75 | R21: =(IF($X21=6,$K21,)+IF($X21=7,$K21,)+IF($X21=12,$K21*2,)+IF($X21=18,$K21*3,)+IF($X21=21,$K21*3,)+IF($X21=14,$K21*2,))*Q21 -> 0 | S21: 0.75 | T21: =(IF($X21=7,$K21,)+IF($X21=21,$K21*3,)+IF($X21=14,$K21*2,))*S21 -> 0 | U21: =SUM(+L21+M21+N21+O21+P21+R21+T21) -> 0 | V21: =+U21*4.345 -> 0 | W21: =IF(V21="","",$W$4*V21) -> 0 | X21: =ROUND(J21/4.3452380952381,1) -> 5 | Y21: T | Z21: 1 | AA21: =+IF($Y21="M",$U21,IF($Y21="MT",$U21/2,IF(Y21="MN",$U21/2,IF($Y21="MTN",$U21/3,0))))*Z21 -> 0 | AB21: 1 | AC21: =+IF($Y21="T",$U21,IF($Y21="MT",$U21/2,IF($Y21="TN",$U21/2,IF($Y21="MTN",$U21/3,0))))*AB21 -> 0 | AD21: 1 | AE21: =+IF($Y21="N",$U21,IF($Y21="MN",$U21/2,IF($Y21="TN",$U21/2,IF($Y21="MTN",$U21/3,0))))*AD21 -> 0 | AF21: 1.7 | AG21: =+AF21/AH$4 -> #DIV/0! | AH21: =AG21*AG$4/12 -> #DIV/0! | AI21: 18 | AJ21: =+AI21/AK$4 -> #DIV/0! | AK21: =AJ21*AJ$4/12 -> #DIV/0! | AL21: 58.08 | AM21: =+AL21/AN$4 -> #DIV/0! | AN21: =AM21*AM$4/12 -> #DIV/0! | AP21: =+AO21/AQ$4 -> #DIV/0! | AQ21: =AP21*AP$4/12 -> #DIV/0! | AS21: =+AR21/AT$4 -> 0 | AT21: =AS21*AS$4/12 -> 0 | AU21: 58.08 | AV21: =+AU21/AW$4 -> #DIV/0! | AW21: =AV21*AV$4/12 -> #DIV/0! | AY21: =+AX21/AZ$4 -> 0 | AZ21: =AY21*AY$4/12 -> 0 | BA21: =+AH21+AK21+AN21+AQ21+AT21+AW21+AZ21 -> #DIV/0!
B22: Escola Jaume Balmes - Primaria | C22: P Baixa | D22: Aula 2n | F22: 47.57 | H22: Diario 5/7 | I22: =IF(H22=Tablas!$B$5,Tablas!$C$5,VLOOKUP(H22,Tablas!$B$5:$D$40,2,FALSE)) -> 19 | J22: =IF(I22=0,"",VLOOKUP(I22,Tablas!$C$5:$D$40,2,FALSE)) -> 21.72619 | K22: =IF(G22=0,"0",F22/G22) -> 0 | L22: =IF($X22=3,$K22,0)+IF($X22=4,$K22,0)+IF($X22=5,$K22,0)+IF($X22=6,$K22,0)+IF($X22=7,$K22,0)+IF($X22=10,$K22*2,0)+IF($X22=12,$K22*2,0)+IF($X22=14,$K22*2,0)+IF($X22=21,$K22*3,0)+IF($X22<=1,$K22*$J22/21.75,0)+IF($X22=15,$K22*3,0) -> 0 | M22: =IF($X22=2,$K22,0)+IF($X22=4,$K22,0)+IF($X22=5,$K22,0)+IF($X22=6,$K22,0)+IF($X22=7,$K22,0)+IF($X22=10,$K22*2,0)+IF($X22=12,$K22*2,0)+IF($X22=14,$K22*2,0)+IF($X22=15,$K22*3,0)+IF($X22=21,$K22*3,0)+IF($X22<=1,$K22*$J22/21.75,0) -> 0 | N22: =IF($X22=3,$K22,0)+IF($X22=4,$K22,0)+IF($X22=5,$K22,0)+IF($X22=6,$K22,0)+IF($X22=7,$K22,0)+IF($X22=10,$K22*2,0)+IF($X22=12,$K22*2,0)+IF($X22=14,$K22*2,0)+IF($X22=21,$K22*3,0)+IF($X22<=1,$K22*$J22/21.75,0)+IF($X22=15,$K22*3,0) -> 0 | O22: =IF($X22=2,$K22,0)+IF($X22=4,$K22,0)+IF($X22=5,$K22,0)+IF($X22=6,$K22,0)+IF($X22=7,$K22,0)+IF($X22=10,$K22*2,0)+IF($X22=12,$K22*2,0)+IF($X22=14,$K22*2,0)+IF($X22=15,$K22*3,0)+IF($X22=21,$K22*3,0)+IF($X22<=1,$K22*$J22/21.75,0) -> 0 | P22: =IF($X22=3,$K22,0)+IF($X22=4,$K22,0)+IF($X22=5,$K22,0)+IF($X22=6,$K22,0)+IF($X22=7,$K22,0)+IF($X22=10,$K22*2,0)+IF($X22=12,$K22*2,0)+IF($X22=14,$K22*2,0)+IF($X22=21,$K22*3,0)+IF($X22<=1,$K22*$J22/21.75,0)+IF($X22=15,$K22*3,0) -> 0 | Q22: 0.75 | R22: =(IF($X22=6,$K22,)+IF($X22=7,$K22,)+IF($X22=12,$K22*2,)+IF($X22=18,$K22*3,)+IF($X22=21,$K22*3,)+IF($X22=14,$K22*2,))*Q22 -> 0 | S22: 0.75 | T22: =(IF($X22=7,$K22,)+IF($X22=21,$K22*3,)+IF($X22=14,$K22*2,))*S22 -> 0 | U22: =SUM(+L22+M22+N22+O22+P22+R22+T22) -> 0 | V22: =+U22*4.345 -> 0 | W22: =IF(V22="","",$W$4*V22) -> 0 | X22: =ROUND(J22/4.3452380952381,1) -> 5 | Y22: T | Z22: 1 | AA22: =+IF($Y22="M",$U22,IF($Y22="MT",$U22/2,IF(Y22="MN",$U22/2,IF($Y22="MTN",$U22/3,0))))*Z22 -> 0 | AB22: 1 | AC22: =+IF($Y22="T",$U22,IF($Y22="MT",$U22/2,IF($Y22="TN",$U22/2,IF($Y22="MTN",$U22/3,0))))*AB22 -> 0 | AD22: 1 | AE22: =+IF($Y22="N",$U22,IF($Y22="MN",$U22/2,IF($Y22="TN",$U22/2,IF($Y22="MTN",$U22/3,0))))*AD22 -> 0 | AF22: 3.75 | AG22: =+AF22/AH$4 -> #DIV/0! | AH22: =AG22*AG$4/12 -> #DIV/0! | AI22: 15 | AJ22: =+AI22/AK$4 -> #DIV/0! | AK22: =AJ22*AJ$4/12 -> #DIV/0! | AL22: 47.57 | AM22: =+AL22/AN$4 -> #DIV/0! | AN22: =AM22*AM$4/12 -> #DIV/0! | AP22: =+AO22/AQ$4 -> #DIV/0! | AQ22: =AP22*AP$4/12 -> #DIV/0! | AS22: =+AR22/AT$4 -> 0 | AT22: =AS22*AS$4/12 -> 0 | AU22: 47.57 | AV22: =+AU22/AW$4 -> #DIV/0! | AW22: =AV22*AV$4/12 -> #DIV/0! | AY22: =+AX22/AZ$4 -> 0 | AZ22: =AY22*AY$4/12 -> 0 | BA22: =+AH22+AK22+AN22+AQ22+AT22+AW22+AZ22 -> #DIV/0!
B23: Escola Jaume Balmes - Primaria | C23: P Baixa | D23: Aula audiovisuals-música | F23: 75.69 | H23: Diario 5/7 | I23: =IF(H23=Tablas!$B$5,Tablas!$C$5,VLOOKUP(H23,Tablas!$B$5:$D$40,2,FALSE)) -> 19 | J23: =IF(I23=0,"",VLOOKUP(I23,Tablas!$C$5:$D$40,2,FALSE)) -> 21.72619 | K23: =IF(G23=0,"0",F23/G23) -> 0 | L23: =IF($X23=3,$K23,0)+IF($X23=4,$K23,0)+IF($X23=5,$K23,0)+IF($X23=6,$K23,0)+IF($X23=7,$K23,0)+IF($X23=10,$K23*2,0)+IF($X23=12,$K23*2,0)+IF($X23=14,$K23*2,0)+IF($X23=21,$K23*3,0)+IF($X23<=1,$K23*$J23/21.75,0)+IF($X23=15,$K23*3,0) -> 0 | M23: =IF($X23=2,$K23,0)+IF($X23=4,$K23,0)+IF($X23=5,$K23,0)+IF($X23=6,$K23,0)+IF($X23=7,$K23,0)+IF($X23=10,$K23*2,0)+IF($X23=12,$K23*2,0)+IF($X23=14,$K23*2,0)+IF($X23=15,$K23*3,0)+IF($X23=21,$K23*3,0)+IF($X23<=1,$K23*$J23/21.75,0) -> 0 | N23: =IF($X23=3,$K23,0)+IF($X23=4,$K23,0)+IF($X23=5,$K23,0)+IF($X23=6,$K23,0)+IF($X23=7,$K23,0)+IF($X23=10,$K23*2,0)+IF($X23=12,$K23*2,0)+IF($X23=14,$K23*2,0)+IF($X23=21,$K23*3,0)+IF($X23<=1,$K23*$J23/21.75,0)+IF($X23=15,$K23*3,0) -> 0 | O23: =IF($X23=2,$K23,0)+IF($X23=4,$K23,0)+IF($X23=5,$K23,0)+IF($X23=6,$K23,0)+IF($X23=7,$K23,0)+IF($X23=10,$K23*2,0)+IF($X23=12,$K23*2,0)+IF($X23=14,$K23*2,0)+IF($X23=15,$K23*3,0)+IF($X23=21,$K23*3,0)+IF($X23<=1,$K23*$J23/21.75,0) -> 0 | P23: =IF($X23=3,$K23,0)+IF($X23=4,$K23,0)+IF($X23=5,$K23,0)+IF($X23=6,$K23,0)+IF($X23=7,$K23,0)+IF($X23=10,$K23*2,0)+IF($X23=12,$K23*2,0)+IF($X23=14,$K23*2,0)+IF($X23=21,$K23*3,0)+IF($X23<=1,$K23*$J23/21.75,0)+IF($X23=15,$K23*3,0) -> 0 | Q23: 0.75 | R23: =(IF($X23=6,$K23,)+IF($X23=7,$K23,)+IF($X23=12,$K23*2,)+IF($X23=18,$K23*3,)+IF($X23=21,$K23*3,)+IF($X23=14,$K23*2,))*Q23 -> 0 | S23: 0.75 | T23: =(IF($X23=7,$K23,)+IF($X23=21,$K23*3,)+IF($X23=14,$K23*2,))*S23 -> 0 | U23: =SUM(+L23+M23+N23+O23+P23+R23+T23) -> 0 | V23: =+U23*4.345 -> 0 | W23: =IF(V23="","",$W$4*V23) -> 0 | X23: =ROUND(J23/4.3452380952381,1) -> 5 | Y23: T | Z23: 1 | AA23: =+IF($Y23="M",$U23,IF($Y23="MT",$U23/2,IF(Y23="MN",$U23/2,IF($Y23="MTN",$U23/3,0))))*Z23 -> 0 | AB23: 1 | AC23: =+IF($Y23="T",$U23,IF($Y23="MT",$U23/2,IF($Y23="TN",$U23/2,IF($Y23="MTN",$U23/3,0))))*AB23 -> 0 | AD23: 1 | AE23: =+IF($Y23="N",$U23,IF($Y23="MN",$U23/2,IF($Y23="TN",$U23/2,IF($Y23="MTN",$U23/3,0))))*AD23 -> 0 | AF23: 29.1 | AG23: =+AF23/AH$4 -> #DIV/0! | AH23: =AG23*AG$4/12 -> #DIV/0! | AI23: 4 | AJ23: =+AI23/AK$4 -> #DIV/0! | AK23: =AJ23*AJ$4/12 -> #DIV/0! | AL23: 75.69 | AM23: =+AL23/AN$4 -> #DIV/0! | AN23: =AM23*AM$4/12 -> #DIV/0! | AP23: =+AO23/AQ$4 -> #DIV/0! | AQ23: =AP23*AP$4/12 -> #DIV/0! | AS23: =+AR23/AT$4 -> 0 | AT23: =AS23*AS$4/12 -> 0 | AU23: 75.69 | AV23: =+AU23/AW$4 -> #DIV/0! | AW23: =AV23*AV$4/12 -> #DIV/0! | AY23: =+AX23/AZ$4 -> 0 | AZ23: =AY23*AY$4/12 -> 0 | BA23: =+AH23+AK23+AN23+AQ23+AT23+AW23+AZ23 -> #DIV/0!
B24: Escola Jaume Balmes - Primaria | C24: P Baixa | D24: Aseos nois | E24: Gres | F24: 17.22 | H24: Diario 5/7 | I24: =IF(H24=Tablas!$B$5,Tablas!$C$5,VLOOKUP(H24,Tablas!$B$5:$D$40,2,FALSE)) -> 19 | J24: =IF(I24=0,"",VLOOKUP(I24,Tablas!$C$5:$D$40,2,FALSE)) -> 21.72619 | K24: =IF(G24=0,"0",F24/G24) -> 0 | L24: =IF($X24=3,$K24,0)+IF($X24=4,$K24,0)+IF($X24=5,$K24,0)+IF($X24=6,$K24,0)+IF($X24=7,$K24,0)+IF($X24=10,$K24*2,0)+IF($X24=12,$K24*2,0)+IF($X24=14,$K24*2,0)+IF($X24=21,$K24*3,0)+IF($X24<=1,$K24*$J24/21.75,0)+IF($X24=15,$K24*3,0) -> 0 | M24: =IF($X24=2,$K24,0)+IF($X24=4,$K24,0)+IF($X24=5,$K24,0)+IF($X24=6,$K24,0)+IF($X24=7,$K24,0)+IF($X24=10,$K24*2,0)+IF($X24=12,$K24*2,0)+IF($X24=14,$K24*2,0)+IF($X24=15,$K24*3,0)+IF($X24=21,$K24*3,0)+IF($X24<=1,$K24*$J24/21.75,0) -> 0 | N24: =IF($X24=3,$K24,0)+IF($X24=4,$K24,0)+IF($X24=5,$K24,0)+IF($X24=6,$K24,0)+IF($X24=7,$K24,0)+IF($X24=10,$K24*2,0)+IF($X24=12,$K24*2,0)+IF($X24=14,$K24*2,0)+IF($X24=21,$K24*3,0)+IF($X24<=1,$K24*$J24/21.75,0)+IF($X24=15,$K24*3,0) -> 0 | O24: =IF($X24=2,$K24,0)+IF($X24=4,$K24,0)+IF($X24=5,$K24,0)+IF($X24=6,$K24,0)+IF($X24=7,$K24,0)+IF($X24=10,$K24*2,0)+IF($X24=12,$K24*2,0)+IF($X24=14,$K24*2,0)+IF($X24=15,$K24*3,0)+IF($X24=21,$K24*3,0)+IF($X24<=1,$K24*$J24/21.75,0) -> 0 | P24: =IF($X24=3,$K24,0)+IF($X24=4,$K24,0)+IF($X24=5,$K24,0)+IF($X24=6,$K24,0)+IF($X24=7,$K24,0)+IF($X24=10,$K24*2,0)+IF($X24=12,$K24*2,0)+IF($X24=14,$K24*2,0)+IF($X24=21,$K24*3,0)+IF($X24<=1,$K24*$J24/21.75,0)+IF($X24=15,$K24*3,0) -> 0 | Q24: 0.75 | R24: =(IF($X24=6,$K24,)+IF($X24=7,$K24,)+IF($X24=12,$K24*2,)+IF($X24=18,$K24*3,)+IF($X24=21,$K24*3,)+IF($X24=14,$K24*2,))*Q24 -> 0 | S24: 0.75 | T24: =(IF($X24=7,$K24,)+IF($X24=21,$K24*3,)+IF($X24=14,$K24*2,))*S24 -> 0 | U24: =SUM(+L24+M24+N24+O24+P24+R24+T24) -> 0 | V24: =+U24*4.345 -> 0 | W24: =IF(V24="","",$W$4*V24) -> 0 | X24: =ROUND(J24/4.3452380952381,1) -> 5 | Y24: T | Z24: 1 | AA24: =+IF($Y24="M",$U24,IF($Y24="MT",$U24/2,IF(Y24="MN",$U24/2,IF($Y24="MTN",$U24/3,0))))*Z24 -> 0 | AB24: 1 | AC24: =+IF($Y24="T",$U24,IF($Y24="MT",$U24/2,IF($Y24="TN",$U24/2,IF($Y24="MTN",$U24/3,0))))*AB24 -> 0 | AD24: 1 | AE24: =+IF($Y24="N",$U24,IF($Y24="MN",$U24/2,IF($Y24="TN",$U24/2,IF($Y24="MTN",$U24/3,0))))*AD24 -> 0 | AG24: =+AF24/AH$4 -> #DIV/0! | AH24: =AG24*AG$4/12 -> #DIV/0! | AI24: 2.7 | AJ24: =+AI24/AK$4 -> #DIV/0! | AK24: =AJ24*AJ$4/12 -> #DIV/0! | AL24: 17.22 | AM24: =+AL24/AN$4 -> #DIV/0! | AN24: =AM24*AM$4/12 -> #DIV/0! | AP24: =+AO24/AQ$4 -> #DIV/0! | AQ24: =AP24*AP$4/12 -> #DIV/0! | AS24: =+AR24/AT$4 -> 0 | AT24: =AS24*AS$4/12 -> 0 | AU24: 17.22 | AV24: =+AU24/AW$4 -> #DIV/0! | AW24: =AV24*AV$4/12 -> #DIV/0! | AY24: =+AX24/AZ$4 -> 0 | AZ24: =AY24*AY$4/12 -> 0 | BA24: =+AH24+AK24+AN24+AQ24+AT24+AW24+AZ24 -> #DIV/0!
B25: Escola Jaume Balmes - Primaria | C25: P Baixa | D25: Aseos noies | E25: Gres | F25: 16.31 | H25: Diario 5/7 | I25: =IF(H25=Tablas!$B$5,Tablas!$C$5,VLOOKUP(H25,Tablas!$B$5:$D$40,2,FALSE)) -> 19 | J25: =IF(I25=0,"",VLOOKUP(I25,Tablas!$C$5:$D$40,2,FALSE)) -> 21.72619 | K25: =IF(G25=0,"0",F25/G25) -> 0 | L25: =IF($X25=3,$K25,0)+IF($X25=4,$K25,0)+IF($X25=5,$K25,0)+IF($X25=6,$K25,0)+IF($X25=7,$K25,0)+IF($X25=10,$K25*2,0)+IF($X25=12,$K25*2,0)+IF($X25=14,$K25*2,0)+IF($X25=21,$K25*3,0)+IF($X25<=1,$K25*$J25/21.75,0)+IF($X25=15,$K25*3,0) -> 0 | M25: =IF($X25=2,$K25,0)+IF($X25=4,$K25,0)+IF($X25=5,$K25,0)+IF($X25=6,$K25,0)+IF($X25=7,$K25,0)+IF($X25=10,$K25*2,0)+IF($X25=12,$K25*2,0)+IF($X25=14,$K25*2,0)+IF($X25=15,$K25*3,0)+IF($X25=21,$K25*3,0)+IF($X25<=1,$K25*$J25/21.75,0) -> 0 | N25: =IF($X25=3,$K25,0)+IF($X25=4,$K25,0)+IF($X25=5,$K25,0)+IF($X25=6,$K25,0)+IF($X25=7,$K25,0)+IF($X25=10,$K25*2,0)+IF($X25=12,$K25*2,0)+IF($X25=14,$K25*2,0)+IF($X25=21,$K25*3,0)+IF($X25<=1,$K25*$J25/21.75,0)+IF($X25=15,$K25*3,0) -> 0 | O25: =IF($X25=2,$K25,0)+IF($X25=4,$K25,0)+IF($X25=5,$K25,0)+IF($X25=6,$K25,0)+IF($X25=7,$K25,0)+IF($X25=10,$K25*2,0)+IF($X25=12,$K25*2,0)+IF($X25=14,$K25*2,0)+IF($X25=15,$K25*3,0)+IF($X25=21,$K25*3,0)+IF($X25<=1,$K25*$J25/21.75,0) -> 0 | P25: =IF($X25=3,$K25,0)+IF($X25=4,$K25,0)+IF($X25=5,$K25,0)+IF($X25=6,$K25,0)+IF($X25=7,$K25,0)+IF($X25=10,$K25*2,0)+IF($X25=12,$K25*2,0)+IF($X25=14,$K25*2,0)+IF($X25=21,$K25*3,0)+IF($X25<=1,$K25*$J25/21.75,0)+IF($X25=15,$K25*3,0) -> 0 | Q25: 0.75 | R25: =(IF($X25=6,$K25,)+IF($X25=7,$K25,)+IF($X25=12,$K25*2,)+IF($X25=18,$K25*3,)+IF($X25=21,$K25*3,)+IF($X25=14,$K25*2,))*Q25 -> 0 | S25: 0.75 | T25: =(IF($X25=7,$K25,)+IF($X25=21,$K25*3,)+IF($X25=14,$K25*2,))*S25 -> 0 | U25: =SUM(+L25+M25+N25+O25+P25+R25+T25) -> 0 | V25: =+U25*4.345 -> 0 | W25: =IF(V25="","",$W$4*V25) -> 0 | X25: =ROUND(J25/4.3452380952381,1) -> 5 | Y25: T | Z25: 1 | AA25: =+IF($Y25="M",$U25,IF($Y25="MT",$U25/2,IF(Y25="MN",$U25/2,IF($Y25="MTN",$U25/3,0))))*Z25 -> 0 | AB25: 1 | AC25: =+IF($Y25="T",$U25,IF($Y25="MT",$U25/2,IF($Y25="TN",$U25/2,IF($Y25="MTN",$U25/3,0))))*AB25 -> 0 | AD25: 1 | AE25: =+IF($Y25="N",$U25,IF($Y25="MN",$U25/2,IF($Y25="TN",$U25/2,IF($Y25="MTN",$U25/3,0))))*AD25 -> 0 | AG25: =+AF25/AH$4 -> #DIV/0! | AH25: =AG25*AG$4/12 -> #DIV/0! | AI25: 2.7 | AJ25: =+AI25/AK$4 -> #DIV/0! | AK25: =AJ25*AJ$4/12 -> #DIV/0! | AL25: 16.31 | AM25: =+AL25/AN$4 -> #DIV/0! | AN25: =AM25*AM$4/12 -> #DIV/0! | AP25: =+AO25/AQ$4 -> #DIV/0! | AQ25: =AP25*AP$4/12 -> #DIV/0! | AS25: =+AR25/AT$4 -> 0 | AT25: =AS25*AS$4/12 -> 0 | AU25: 16.31 | AV25: =+AU25/AW$4 -> #DIV/0! | AW25: =AV25*AV$4/12 -> #DIV/0! | AY25: =+AX25/AZ$4 -> 0 | AZ25: =AY25*AY$4/12 -> 0 | BA25: =+AH25+AK25+AN25+AQ25+AT25+AW25+AZ25 -> #DIV/0!
B26: Escola Jaume Balmes - Primaria | C26: P Baixa | D26: Neteja | E26: Terratzo | F26: 2.89 | H26: Mensual | I26: =IF(H26=Tablas!$B$5,Tablas!$C$5,VLOOKUP(H26,Tablas!$B$5:$D$40,2,FALSE)) -> 29 | J26: =IF(I26=0,"",VLOOKUP(I26,Tablas!$C$5:$D$40,2,FALSE)) -> 1 | K26: =IF(G26=0,"0",F26/G26) -> 0 | L26: =IF($X26=3,$K26,0)+IF($X26=4,$K26,0)+IF($X26=5,$K26,0)+IF($X26=6,$K26,0)+IF($X26=7,$K26,0)+IF($X26=10,$K26*2,0)+IF($X26=12,$K26*2,0)+IF($X26=14,$K26*2,0)+IF($X26=21,$K26*3,0)+IF($X26<=1,$K26*$J26/21.75,0)+IF($X26=15,$K26*3,0) -> 0 | M26: =IF($X26=2,$K26,0)+IF($X26=4,$K26,0)+IF($X26=5,$K26,0)+IF($X26=6,$K26,0)+IF($X26=7,$K26,0)+IF($X26=10,$K26*2,0)+IF($X26=12,$K26*2,0)+IF($X26=14,$K26*2,0)+IF($X26=15,$K26*3,0)+IF($X26=21,$K26*3,0)+IF($X26<=1,$K26*$J26/21.75,0) -> 0 | N26: =IF($X26=3,$K26,0)+IF($X26=4,$K26,0)+IF($X26=5,$K26,0)+IF($X26=6,$K26,0)+IF($X26=7,$K26,0)+IF($X26=10,$K26*2,0)+IF($X26=12,$K26*2,0)+IF($X26=14,$K26*2,0)+IF($X26=21,$K26*3,0)+IF($X26<=1,$K26*$J26/21.75,0)+IF($X26=15,$K26*3,0) -> 0 | O26: =IF($X26=2,$K26,0)+IF($X26=4,$K26,0)+IF($X26=5,$K26,0)+IF($X26=6,$K26,0)+IF($X26=7,$K26,0)+IF($X26=10,$K26*2,0)+IF($X26=12,$K26*2,0)+IF($X26=14,$K26*2,0)+IF($X26=15,$K26*3,0)+IF($X26=21,$K26*3,0)+IF($X26<=1,$K26*$J26/21.75,0) -> 0 | P26: =IF($X26=3,$K26,0)+IF($X26=4,$K26,0)+IF($X26=5,$K26,0)+IF($X26=6,$K26,0)+IF($X26=7,$K26,0)+IF($X26=10,$K26*2,0)+IF($X26=12,$K26*2,0)+IF($X26=14,$K26*2,0)+IF($X26=21,$K26*3,0)+IF($X26<=1,$K26*$J26/21.75,0)+IF($X26=15,$K26*3,0) -> 0 | Q26: 0.75 | R26: =(IF($X26=6,$K26,)+IF($X26=7,$K26,)+IF($X26=12,$K26*2,)+IF($X26=18,$K26*3,)+IF($X26=21,$K26*3,)+IF($X26=14,$K26*2,))*Q26 -> 0 | S26: 0.75 | T26: =(IF($X26=7,$K26,)+IF($X26=21,$K26*3,)+IF($X26=14,$K26*2,))*S26 -> 0 | U26: =SUM(+L26+M26+N26+O26+P26+R26+T26) -> 0 | V26: =+U26*4.345 -> 0 | W26: =IF(V26="","",$W$4*V26) -> 0 | X26: =ROUND(J26/4.3452380952381,1) -> 0.2 | Y26: T | Z26: 1 | AA26: =+IF($Y26="M",$U26,IF($Y26="MT",$U26/2,IF(Y26="MN",$U26/2,IF($Y26="MTN",$U26/3,0))))*Z26 -> 0 | AB26: 1 | AC26: =+IF($Y26="T",$U26,IF($Y26="MT",$U26/2,IF($Y26="TN",$U26/2,IF($Y26="MTN",$U26/3,0))))*AB26 -> 0 | AD26: 1 | AE26: =+IF($Y26="N",$U26,IF($Y26="MN",$U26/2,IF($Y26="TN",$U26/2,IF($Y26="MTN",$U26/3,0))))*AD26 -> 0 | AG26: =+AF26/AH$4 -> #DIV/0! | AH26: =AG26*AG$4/12 -> #DIV/0! | AJ26: =+AI26/AK$4 -> #DIV/0! | AK26: =AJ26*AJ$4/12 -> #DIV/0! | AL26: 2.89 | AM26: =+AL26/AN$4 -> #DIV/0! | AN26: =AM26*AM$4/12 -> #DIV/0! | AP26: =+AO26/AQ$4 -> #DIV/0! | AQ26: =AP26*AP$4/12 -> #DIV/0! | AS26: =+AR26/AT$4 -> 0 | AT26: =AS26*AS$4/12 -> 0 | AU26: 2.89 | AV26: =+AU26/AW$4 -> #DIV/0! | AW26: =AV26*AV$4/12 -> #DIV/0! | AY26: =+AX26/AZ$4 -> 0 | AZ26: =AY26*AY$4/12 -> 0 | BA26: =+AH26+AK26+AN26+AQ26+AT26+AW26+AZ26 -> #DIV/0!
B27: Escola Jaume Balmes - Primaria | C27: P Baixa | D27: Traster | E27: Terratzo | F27: 2.59 | H27: Mensual | I27: =IF(H27=Tablas!$B$5,Tablas!$C$5,VLOOKUP(H27,Tablas!$B$5:$D$40,2,FALSE)) -> 29 | J27: =IF(I27=0,"",VLOOKUP(I27,Tablas!$C$5:$D$40,2,FALSE)) -> 1 | K27: =IF(G27=0,"0",F27/G27) -> 0 | L27: =IF($X27=3,$K27,0)+IF($X27=4,$K27,0)+IF($X27=5,$K27,0)+IF($X27=6,$K27,0)+IF($X27=7,$K27,0)+IF($X27=10,$K27*2,0)+IF($X27=12,$K27*2,0)+IF($X27=14,$K27*2,0)+IF($X27=21,$K27*3,0)+IF($X27<=1,$K27*$J27/21.75,0)+IF($X27=15,$K27*3,0) -> 0 | M27: =IF($X27=2,$K27,0)+IF($X27=4,$K27,0)+IF($X27=5,$K27,0)+IF($X27=6,$K27,0)+IF($X27=7,$K27,0)+IF($X27=10,$K27*2,0)+IF($X27=12,$K27*2,0)+IF($X27=14,$K27*2,0)+IF($X27=15,$K27*3,0)+IF($X27=21,$K27*3,0)+IF($X27<=1,$K27*$J27/21.75,0) -> 0 | N27: =IF($X27=3,$K27,0)+IF($X27=4,$K27,0)+IF($X27=5,$K27,0)+IF($X27=6,$K27,0)+IF($X27=7,$K27,0)+IF($X27=10,$K27*2,0)+IF($X27=12,$K27*2,0)+IF($X27=14,$K27*2,0)+IF($X27=21,$K27*3,0)+IF($X27<=1,$K27*$J27/21.75,0)+IF($X27=15,$K27*3,0) -> 0 | O27: =IF($X27=2,$K27,0)+IF($X27=4,$K27,0)+IF($X27=5,$K27,0)+IF($X27=6,$K27,0)+IF($X27=7,$K27,0)+IF($X27=10,$K27*2,0)+IF($X27=12,$K27*2,0)+IF($X27=14,$K27*2,0)+IF($X27=15,$K27*3,0)+IF($X27=21,$K27*3,0)+IF($X27<=1,$K27*$J27/21.75,0) -> 0 | P27: =IF($X27=3,$K27,0)+IF($X27=4,$K27,0)+IF($X27=5,$K27,0)+IF($X27=6,$K27,0)+IF($X27=7,$K27,0)+IF($X27=10,$K27*2,0)+IF($X27=12,$K27*2,0)+IF($X27=14,$K27*2,0)+IF($X27=21,$K27*3,0)+IF($X27<=1,$K27*$J27/21.75,0)+IF($X27=15,$K27*3,0) -> 0 | Q27: 0.75 | R27: =(IF($X27=6,$K27,)+IF($X27=7,$K27,)+IF($X27=12,$K27*2,)+IF($X27=18,$K27*3,)+IF($X27=21,$K27*3,)+IF($X27=14,$K27*2,))*Q27 -> 0 | S27: 0.75 | T27: =(IF($X27=7,$K27,)+IF($X27=21,$K27*3,)+IF($X27=14,$K27*2,))*S27 -> 0 | U27: =SUM(+L27+M27+N27+O27+P27+R27+T27) -> 0 | V27: =+U27*4.345 -> 0 | W27: =IF(V27="","",$W$4*V27) -> 0 | X27: =ROUND(J27/4.3452380952381,1) -> 0.2 | Y27: T | Z27: 1 | AA27: =+IF($Y27="M",$U27,IF($Y27="MT",$U27/2,IF(Y27="MN",$U27/2,IF($Y27="MTN",$U27/3,0))))*Z27 -> 0 | AB27: 1 | AC27: =+IF($Y27="T",$U27,IF($Y27="MT",$U27/2,IF($Y27="TN",$U27/2,IF($Y27="MTN",$U27/3,0))))*AB27 -> 0 | AD27: 1 | AE27: =+IF($Y27="N",$U27,IF($Y27="MN",$U27/2,IF($Y27="TN",$U27/2,IF($Y27="MTN",$U27/3,0))))*AD27 -> 0 | AG27: =+AF27/AH$4 -> #DIV/0! | AH27: =AG27*AG$4/12 -> #DIV/0! | AJ27: =+AI27/AK$4 -> #DIV/0! | AK27: =AJ27*AJ$4/12 -> #DIV/0! | AL27: 2.59 | AM27: =+AL27/AN$4 -> #DIV/0! | AN27: =AM27*AM$4/12 -> #DIV/0! | AP27: =+AO27/AQ$4 -> #DIV/0! | AQ27: =AP27*AP$4/12 -> #DIV/0! | AS27: =+AR27/AT$4 -> 0 | AT27: =AS27*AS$4/12 -> 0 | AU27: 2.59 | AV27: =+AU27/AW$4 -> #DIV/0! | AW27: =AV27*AV$4/12 -> #DIV/0! | AY27: =+AX27/AZ$4 -> 0 | AZ27: =AY27*AY$4/12 -> 0 | BA27: =+AH27+AK27+AN27+AQ27+AT27+AW27+AZ27 -> #DIV/0!
