Workbook

Sheet Petició Oferta
A1: It. | B1: Unitats | C1: ProductId | D1: SkuId | E1: Productes amb preus de referencia del mes de maig 2024 | F1: Període subscripció | G1: Preu (IVA exclòs) Juliol 2026 | H1: Pagament mensual/ anual | I1: Durada contracte en mesos | J1: Preu total exclòs IVA | K1: % de Descompte a complimentar pel licitador | L1: Preu unitari ofert exclòs IVA | M1: Preu total ofert exclòs IVA | N1: Preu total ofert IVA inclòs
A2: 1 | B2: 93 | C2: CFQ7TTC0LH0L | D2: 1 | E2: Exchange Online Kiosk | F2: Anual | G2: =IF(TablaPreusOferta[[#This Row],[ProductId]]="","",SUMIFS('Preus Localret Juliol 2026'!$F$3:$F$1550,'Preus Localret Juliol 2026'!$A$3:$A$1550,TablaPreusOferta[[#This Row],[ProductId]],'Preus Localret Juliol 2026'!$B$3:$B$1550,TEXT(TablaPreusOferta[[#This Row],[SkuId]],"0000"),'Preus Localret Juliol 2026'!$D$3:$D$1550,TablaPreusOferta[[#This Row],[Pagament mensual/ anual]],'Preus Localret Juliol 2026'!$E$3:$E$1550,TEXT(TablaPreusOferta[[#This Row],[Durada contracte en mesos]],"0")&" mesos")) -> 1.82 | H2: Mensual | I2: 12 | J2: =IF(TablaPreusOferta[[#This Row],[ProductId]]="",0,TablaPreusOferta[[#This Row],[Preu (IVA exclòs) Juliol 2026]]*TablaPreusOferta[[#This Row],[Unitats]]*TablaPreusOferta[[#This Row],[Durada contracte en mesos]]) -> 2031.12 | L2: =IF(TablaPreusOferta[[#This Row],[ProductId]]="",0,(100%-TablaPreusOferta[[#This Row],[% de Descompte a complimentar pel licitador]])*TablaPreusOferta[[#This Row],[Preu (IVA exclòs) Juliol 2026]]) -> 1.82 | M2: =IF(TablaPreusOferta[[#This Row],[ProductId]]="",0,TablaPreusOferta[[#This Row],[Preu unitari ofert exclòs IVA]]*TablaPreusOferta[[#This Row],[Unitats]]*TablaPreusOferta[[#This Row],[Durada contracte en mesos]]) -> 2031.12 | N2: =IF(TablaPreusOferta[[#This Row],[ProductId]]="",0,TablaPreusOferta[[#This Row],[Preu total ofert exclòs IVA]]*1.21) -> 2457.6552
A3: 2 | B3: 46 | C3: CFQ7TTC0LH16 | D3: 1 | E3: Exchange Online (Plan 1) | F3: Anual | G3: =IF(TablaPreusOferta[[#This Row],[ProductId]]="","",SUMIFS('Preus Localret Juliol 2026'!$F$3:$F$1550,'Preus Localret Juliol 2026'!$A$3:$A$1550,TablaPreusOferta[[#This Row],[ProductId]],'Preus Localret Juliol 2026'!$B$3:$B$1550,TEXT(TablaPreusOferta[[#This Row],[SkuId]],"0000"),'Preus Localret Juliol 2026'!$D$3:$D$1550,TablaPreusOferta[[#This Row],[Pagament mensual/ anual]],'Preus Localret Juliol 2026'!$E$3:$E$1550,TEXT(TablaPreusOferta[[#This Row],[Durada contracte en mesos]],"0")&" mesos")) -> 3.68 | H3: Mensual | I3: 12 | J3: =IF(TablaPreusOferta[[#This Row],[ProductId]]="",0,TablaPreusOferta[[#This Row],[Preu (IVA exclòs) Juliol 2026]]*TablaPreusOferta[[#This Row],[Unitats]]*TablaPreusOferta[[#This Row],[Durada contracte en mesos]]) -> 2031.36 | L3: =IF(TablaPreusOferta[[#This Row],[ProductId]]="",0,(100%-TablaPreusOferta[[#This Row],[% de Descompte a complimentar pel licitador]])*TablaPreusOferta[[#This Row],[Preu (IVA exclòs) Juliol 2026]]) -> 3.68 | M3: =IF(TablaPreusOferta[[#This Row],[ProductId]]="",0,TablaPreusOferta[[#This Row],[Preu unitari ofert exclòs IVA]]*TablaPreusOferta[[#This Row],[Unitats]]*TablaPreusOferta[[#This Row],[Durada contracte en mesos]]) -> 2031.36 | N3: =IF(TablaPreusOferta[[#This Row],[ProductId]]="",0,TablaPreusOferta[[#This Row],[Preu total ofert exclòs IVA]]*1.21) -> 2457.9456
A4: 3 | B4: 28 | C4: CFQ7TTC0LH18 | D4: 1 | E4: Microsoft 365 Business Basic | F4: Anual | G4: =IF(TablaPreusOferta[[#This Row],[ProductId]]="","",SUMIFS('Preus Localret Juliol 2026'!$F$3:$F$1550,'Preus Localret Juliol 2026'!$A$3:$A$1550,TablaPreusOferta[[#This Row],[ProductId]],'Preus Localret Juliol 2026'!$B$3:$B$1550,TEXT(TablaPreusOferta[[#This Row],[SkuId]],"0000"),'Preus Localret Juliol 2026'!$D$3:$D$1550,TablaPreusOferta[[#This Row],[Pagament mensual/ anual]],'Preus Localret Juliol 2026'!$E$3:$E$1550,TEXT(TablaPreusOferta[[#This Row],[Durada contracte en mesos]],"0")&" mesos")) -> 6.37 | H4: Mensual | I4: 12 | J4: =IF(TablaPreusOferta[[#This Row],[ProductId]]="",0,TablaPreusOferta[[#This Row],[Preu (IVA exclòs) Juliol 2026]]*TablaPreusOferta[[#This Row],[Unitats]]*TablaPreusOferta[[#This Row],[Durada contracte en mesos]]) -> 2140.32 | L4: =IF(TablaPreusOferta[[#This Row],[ProductId]]="",0,(100%-TablaPreusOferta[[#This Row],[% de Descompte a complimentar pel licitador]])*TablaPreusOferta[[#This Row],[Preu (IVA exclòs) Juliol 2026]]) -> 6.37 | M4: =IF(TablaPreusOferta[[#This Row],[ProductId]]="",0,TablaPreusOferta[[#This Row],[Preu unitari ofert exclòs IVA]]*TablaPreusOferta[[#This Row],[Unitats]]*TablaPreusOferta[[#This Row],[Durada contracte en mesos]]) -> 2140.32 | N4: =IF(TablaPreusOferta[[#This Row],[ProductId]]="",0,TablaPreusOferta[[#This Row],[Preu total ofert exclòs IVA]]*1.21) -> 2589.7872
A5: 4 | B5: 300 | C5: CFQ7TTC0LCHC | D5: 2 | E5: Microsoft 365 Business Premium | F5: Anual | G5: =IF(TablaPreusOferta[[#This Row],[ProductId]]="","",SUMIFS('Preus Localret Juliol 2026'!$F$3:$F$1550,'Preus Localret Juliol 2026'!$A$3:$A$1550,TablaPreusOferta[[#This Row],[ProductId]],'Preus Localret Juliol 2026'!$B$3:$B$1550,TEXT(TablaPreusOferta[[#This Row],[SkuId]],"0000"),'Preus Localret Juliol 2026'!$D$3:$D$1550,TablaPreusOferta[[#This Row],[Pagament mensual/ anual]],'Preus Localret Juliol 2026'!$E$3:$E$1550,TEXT(TablaPreusOferta[[#This Row],[Durada contracte en mesos]],"0")&" mesos")) -> 20.01 | H5: Mensual | I5: 12 | J5: =IF(TablaPreusOferta[[#This Row],[ProductId]]="",0,TablaPreusOferta[[#This Row],[Preu (IVA exclòs) Juliol 2026]]*TablaPreusOferta[[#This Row],[Unitats]]*TablaPreusOferta[[#This Row],[Durada contracte en mesos]]) -> 72036 | L5: =IF(TablaPreusOferta[[#This Row],[ProductId]]="",0,(100%-TablaPreusOferta[[#This Row],[% de Descompte a complimentar pel licitador]])*TablaPreusOferta[[#This Row],[Preu (IVA exclòs) Juliol 2026]]) -> 20.01 | M5: =IF(TablaPreusOferta[[#This Row],[ProductId]]="",0,TablaPreusOferta[[#This Row],[Preu unitari ofert exclòs IVA]]*TablaPreusOferta[[#This Row],[Unitats]]*TablaPreusOferta[[#This Row],[Durada contracte en mesos]]) -> 72036 | N5: =IF(TablaPreusOferta[[#This Row],[ProductId]]="",0,TablaPreusOferta[[#This Row],[Preu total ofert exclòs IVA]]*1.21) -> 87163.56
A6: 5 | B6: 1 | C6: CFQ7TTC0LFLX | D6: 10 | E6: Microsoft 365 E3 EEA (no Teams) | F6: Anual | G6: =IF(TablaPreusOferta[[#This Row],[ProductId]]="","",SUMIFS('Preus Localret Juliol 2026'!$F$3:$F$1550,'Preus Localret Juliol 2026'!$A$3:$A$1550,TablaPreusOferta[[#This Row],[ProductId]],'Preus Localret Juliol 2026'!$B$3:$B$1550,TEXT(TablaPreusOferta[[#This Row],[SkuId]],"0000"),'Preus Localret Juliol 2026'!$D$3:$D$1550,TablaPreusOferta[[#This Row],[Pagament mensual/ anual]],'Preus Localret Juliol 2026'!$E$3:$E$1550,TEXT(TablaPreusOferta[[#This Row],[Durada contracte en mesos]],"0")&" mesos")) -> 31.88 | H6: Mensual | I6: 12 | J6: =IF(TablaPreusOferta[[#This Row],[ProductId]]="",0,TablaPreusOferta[[#This Row],[Preu (IVA exclòs) Juliol 2026]]*TablaPreusOferta[[#This Row],[Unitats]]*TablaPreusOferta[[#This Row],[Durada contracte en mesos]]) -> 382.56 | L6: =IF(TablaPreusOferta[[#This Row],[ProductId]]="",0,(100%-TablaPreusOferta[[#This Row],[% de Descompte a complimentar pel licitador]])*TablaPreusOferta[[#This Row],[Preu (IVA exclòs) Juliol 2026]]) -> 31.88 | M6: =IF(TablaPreusOferta[[#This Row],[ProductId]]="",0,TablaPreusOferta[[#This Row],[Preu unitari ofert exclòs IVA]]*TablaPreusOferta[[#This Row],[Unitats]]*TablaPreusOferta[[#This Row],[Durada contracte en mesos]]) -> 382.56 | N6: =IF(TablaPreusOferta[[#This Row],[ProductId]]="",0,TablaPreusOferta[[#This Row],[Preu total ofert exclòs IVA]]*1.21) -> 462.8976
A7: 6 | B7: 160 | C7: CFQ7TTC0LF8R | D7: 12 | E7: Office 365 E3 EEA (no Teams) | F7: Anual | G7: =IF(TablaPreusOferta[[#This Row],[ProductId]]="","",SUMIFS('Preus Localret Juliol 2026'!$F$3:$F$1550,'Preus Localret Juliol 2026'!$A$3:$A$1550,TablaPreusOferta[[#This Row],[ProductId]],'Preus Localret Juliol 2026'!$B$3:$B$1550,TEXT(TablaPreusOferta[[#This Row],[SkuId]],"0000"),'Preus Localret Juliol 2026'!$D$3:$D$1550,TablaPreusOferta[[#This Row],[Pagament mensual/ anual]],'Preus Localret Juliol 2026'!$E$3:$E$1550,TEXT(TablaPreusOferta[[#This Row],[Durada contracte en mesos]],"0")&" mesos")) -> 19.79 | H7: Mensual | I7: 12 | J7: =IF(TablaPreusOferta[[#This Row],[ProductId]]="",0,TablaPreusOferta[[#This Row],[Preu (IVA exclòs) Juliol 2026]]*TablaPreusOferta[[#This Row],[Unitats]]*TablaPreusOferta[[#This Row],[Durada contracte en mesos]]) -> 37996.8 | L7: =IF(TablaPreusOferta[[#This Row],[ProductId]]="",0,(100%-TablaPreusOferta[[#This Row],[% de Descompte a complimentar pel licitador]])*TablaPreusOferta[[#This Row],[Preu (IVA exclòs) Juliol 2026]]) -> 19.79 | M7: =IF(TablaPreusOferta[[#This Row],[ProductId]]="",0,TablaPreusOferta[[#This Row],[Preu unitari ofert exclòs IVA]]*TablaPreusOferta[[#This Row],[Unitats]]*TablaPreusOferta[[#This Row],[Durada contracte en mesos]]) -> 37996.8 | N7: =IF(TablaPreusOferta[[#This Row],[ProductId]]="",0,TablaPreusOferta[[#This Row],[Preu total ofert exclòs IVA]]*1.21) -> 45976.128
A8: 7 | B8: 151 | C8: CFQ7TTC0MZJF | D8: 4 | E8: Microsoft Teams EEA | F8: Anual | G8: =IF(TablaPreusOferta[[#This Row],[ProductId]]="","",SUMIFS('Preus Localret Juliol 2026'!$F$3:$F$1550,'Preus Localret Juliol 2026'!$A$3:$A$1550,TablaPreusOferta[[#This Row],[ProductId]],'Preus Localret Juliol 2026'!$B$3:$B$1550,TEXT(TablaPreusOferta[[#This Row],[SkuId]],"0000"),'Preus Localret Juliol 2026'!$D$3:$D$1550,TablaPreusOferta[[#This Row],[Pagament mensual/ anual]],'Preus Localret Juliol 2026'!$E$3:$E$1550,TEXT(TablaPreusOferta[[#This Row],[Durada contracte en mesos]],"0")&" mesos")) -> 7.78 | H8: Mensual | I8: 12 | J8: =IF(TablaPreusOferta[[#This Row],[ProductId]]="",0,TablaPreusOferta[[#This Row],[Preu (IVA exclòs) Juliol 2026]]*TablaPreusOferta[[#This Row],[Unitats]]*TablaPreusOferta[[#This Row],[Durada contracte en mesos]]) -> 14097.36 | L8: =IF(TablaPreusOferta[[#This Row],[ProductId]]="",0,(100%-TablaPreusOferta[[#This Row],[% de Descompte a complimentar pel licitador]])*TablaPreusOferta[[#This Row],[Preu (IVA exclòs) Juliol 2026]]) -> 7.78 | M8: =IF(TablaPreusOferta[[#This Row],[ProductId]]="",0,TablaPreusOferta[[#This Row],[Preu unitari ofert exclòs IVA]]*TablaPreusOferta[[#This Row],[Unitats]]*TablaPreusOferta[[#This Row],[Durada contracte en mesos]]) -> 14097.36 | N8: =IF(TablaPreusOferta[[#This Row],[ProductId]]="",0,TablaPreusOferta[[#This Row],[Preu total ofert exclòs IVA]]*1.21) -> 17057.806
A9: 8 | G9: =IF(TablaPreusOferta[[#This Row],[ProductId]]="","",SUMIFS('Preus Localret Juliol 2026'!$F$3:$F$1550,'Preus Localret Juliol 2026'!$A$3:$A$1550,TablaPreusOferta[[#This Row],[ProductId]],'Preus Localret Juliol 2026'!$B$3:$B$1550,TEXT(TablaPreusOferta[[#This Row],[SkuId]],"0000"),'Preus Localret Juliol 2026'!$D$3:$D$1550,TablaPreusOferta[[#This Row],[Pagament mensual/ anual]],'Preus Localret Juliol 2026'!$E$3:$E$1550,TEXT(TablaPreusOferta[[#This Row],[Durada contracte en mesos]],"0")&" mesos")) | J9: =IF(TablaPreusOferta[[#This Row],[ProductId]]="",0,TablaPreusOferta[[#This Row],[Preu (IVA exclòs) Juliol 2026]]*TablaPreusOferta[[#This Row],[Unitats]]*TablaPreusOferta[[#This Row],[Durada contracte en mesos]]) -> 0 | L9: =IF(TablaPreusOferta[[#This Row],[ProductId]]="",0,(100%-TablaPreusOferta[[#This Row],[% de Descompte a complimentar pel licitador]])*TablaPreusOferta[[#This Row],[Preu (IVA exclòs) Juliol 2026]]) -> 0 | M9: =IF(TablaPreusOferta[[#This Row],[ProductId]]="",0,TablaPreusOferta[[#This Row],[Preu unitari ofert exclòs IVA]]*TablaPreusOferta[[#This Row],[Unitats]]*TablaPreusOferta[[#This Row],[Durada contracte en mesos]]) -> 0 | N9: =IF(TablaPreusOferta[[#This Row],[ProductId]]="",0,TablaPreusOferta[[#This Row],[Preu total ofert exclòs IVA]]*1.21) -> 0
A10: 9 | G10: =IF(TablaPreusOferta[[#This Row],[ProductId]]="","",SUMIFS('Preus Localret Juliol 2026'!$F$3:$F$1550,'Preus Localret Juliol 2026'!$A$3:$A$1550,TablaPreusOferta[[#This Row],[ProductId]],'Preus Localret Juliol 2026'!$B$3:$B$1550,TEXT(TablaPreusOferta[[#This Row],[SkuId]],"0000"),'Preus Localret Juliol 2026'!$D$3:$D$1550,TablaPreusOferta[[#This Row],[Pagament mensual/ anual]],'Preus Localret Juliol 2026'!$E$3:$E$1550,TEXT(TablaPreusOferta[[#This Row],[Durada contracte en mesos]],"0")&" mesos")) | J10: =IF(TablaPreusOferta[[#This Row],[ProductId]]="",0,TablaPreusOferta[[#This Row],[Preu (IVA exclòs) Juliol 2026]]*TablaPreusOferta[[#This Row],[Unitats]]*TablaPreusOferta[[#This Row],[Durada contracte en mesos]]) -> 0 | L10: =IF(TablaPreusOferta[[#This Row],[ProductId]]="",0,(100%-TablaPreusOferta[[#This Row],[% de Descompte a complimentar pel licitador]])*TablaPreusOferta[[#This Row],[Preu (IVA exclòs) Juliol 2026]]) -> 0 | M10: =IF(TablaPreusOferta[[#This Row],[ProductId]]="",0,TablaPreusOferta[[#This Row],[Preu unitari ofert exclòs IVA]]*TablaPreusOferta[[#This Row],[Unitats]]*TablaPreusOferta[[#This Row],[Durada contracte en mesos]]) -> 0 | N10: =IF(TablaPreusOferta[[#This Row],[ProductId]]="",0,TablaPreusOferta[[#This Row],[Preu total ofert exclòs IVA]]*1.21) -> 0
A11: 10 | G11: =IF(TablaPreusOferta[[#This Row],[ProductId]]="","",SUMIFS('Preus Localret Juliol 2026'!$F$3:$F$1550,'Preus Localret Juliol 2026'!$A$3:$A$1550,TablaPreusOferta[[#This Row],[ProductId]],'Preus Localret Juliol 2026'!$B$3:$B$1550,TEXT(TablaPreusOferta[[#This Row],[SkuId]],"0000"),'Preus Localret Juliol 2026'!$D$3:$D$1550,TablaPreusOferta[[#This Row],[Pagament mensual/ anual]],'Preus Localret Juliol 2026'!$E$3:$E$1550,TEXT(TablaPreusOferta[[#This Row],[Durada contracte en mesos]],"0")&" mesos")) | J11: =IF(TablaPreusOferta[[#This Row],[ProductId]]="",0,TablaPreusOferta[[#This Row],[Preu (IVA exclòs) Juliol 2026]]*TablaPreusOferta[[#This Row],[Unitats]]*TablaPreusOferta[[#This Row],[Durada contracte en mesos]]) -> 0 | L11: =IF(TablaPreusOferta[[#This Row],[ProductId]]="",0,(100%-TablaPreusOferta[[#This Row],[% de Descompte a complimentar pel licitador]])*TablaPreusOferta[[#This Row],[Preu (IVA exclòs) Juliol 2026]]) -> 0 | M11: =IF(TablaPreusOferta[[#This Row],[ProductId]]="",0,TablaPreusOferta[[#This Row],[Preu unitari ofert exclòs IVA]]*TablaPreusOferta[[#This Row],[Unitats]]*TablaPreusOferta[[#This Row],[Durada contracte en mesos]]) -> 0 | N11: =IF(TablaPreusOferta[[#This Row],[ProductId]]="",0,TablaPreusOferta[[#This Row],[Preu total ofert exclòs IVA]]*1.21) -> 0
A12: 11 | G12: =IF(TablaPreusOferta[[#This Row],[ProductId]]="","",SUMIFS('Preus Localret Juliol 2026'!$F$3:$F$1550,'Preus Localret Juliol 2026'!$A$3:$A$1550,TablaPreusOferta[[#This Row],[ProductId]],'Preus Localret Juliol 2026'!$B$3:$B$1550,TEXT(TablaPreusOferta[[#This Row],[SkuId]],"0000"),'Preus Localret Juliol 2026'!$D$3:$D$1550,TablaPreusOferta[[#This Row],[Pagament mensual/ anual]],'Preus Localret Juliol 2026'!$E$3:$E$1550,TEXT(TablaPreusOferta[[#This Row],[Durada contracte en mesos]],"0")&" mesos")) | J12: =IF(TablaPreusOferta[[#This Row],[ProductId]]="",0,TablaPreusOferta[[#This Row],[Preu (IVA exclòs) Juliol 2026]]*TablaPreusOferta[[#This Row],[Unitats]]*TablaPreusOferta[[#This Row],[Durada contracte en mesos]]) -> 0 | L12: =IF(TablaPreusOferta[[#This Row],[ProductId]]="",0,(100%-TablaPreusOferta[[#This Row],[% de Descompte a complimentar pel licitador]])*TablaPreusOferta[[#This Row],[Preu (IVA exclòs) Juliol 2026]]) -> 0 | M12: =IF(TablaPreusOferta[[#This Row],[ProductId]]="",0,TablaPreusOferta[[#This Row],[Preu unitari ofert exclòs IVA]]*TablaPreusOferta[[#This Row],[Unitats]]*TablaPreusOferta[[#This Row],[Durada contracte en mesos]]) -> 0 | N12: =IF(TablaPreusOferta[[#This Row],[ProductId]]="",0,TablaPreusOferta[[#This Row],[Preu total ofert exclòs IVA]]*1.21) -> 0
A13: 12 | G13: =IF(TablaPreusOferta[[#This Row],[ProductId]]="","",SUMIFS('Preus Localret Juliol 2026'!$F$3:$F$1550,'Preus Localret Juliol 2026'!$A$3:$A$1550,TablaPreusOferta[[#This Row],[ProductId]],'Preus Localret Juliol 2026'!$B$3:$B$1550,TEXT(TablaPreusOferta[[#This Row],[SkuId]],"0000"),'Preus Localret Juliol 2026'!$D$3:$D$1550,TablaPreusOferta[[#This Row],[Pagament mensual/ anual]],'Preus Localret Juliol 2026'!$E$3:$E$1550,TEXT(TablaPreusOferta[[#This Row],[Durada contracte en mesos]],"0")&" mesos")) | J13: =IF(TablaPreusOferta[[#This Row],[ProductId]]="",0,TablaPreusOferta[[#This Row],[Preu (IVA exclòs) Juliol 2026]]*TablaPreusOferta[[#This Row],[Unitats]]*TablaPreusOferta[[#This Row],[Durada contracte en mesos]]) -> 0 | L13: =IF(TablaPreusOferta[[#This Row],[ProductId]]="",0,(100%-TablaPreusOferta[[#This Row],[% de Descompte a complimentar pel licitador]])*TablaPreusOferta[[#This Row],[Preu (IVA exclòs) Juliol 2026]]) -> 0 | M13: =IF(TablaPreusOferta[[#This Row],[ProductId]]="",0,TablaPreusOferta[[#This Row],[Preu unitari ofert exclòs IVA]]*TablaPreusOferta[[#This Row],[Unitats]]*TablaPreusOferta[[#This Row],[Durada contracte en mesos]]) -> 0 | N13: =IF(TablaPreusOferta[[#This Row],[ProductId]]="",0,TablaPreusOferta[[#This Row],[Preu total ofert exclòs IVA]]*1.21) -> 0
A14: 13 | G14: =IF(TablaPreusOferta[[#This Row],[ProductId]]="","",SUMIFS('Preus Localret Juliol 2026'!$F$3:$F$1550,'Preus Localret Juliol 2026'!$A$3:$A$1550,TablaPreusOferta[[#This Row],[ProductId]],'Preus Localret Juliol 2026'!$B$3:$B$1550,TEXT(TablaPreusOferta[[#This Row],[SkuId]],"0000"),'Preus Localret Juliol 2026'!$D$3:$D$1550,TablaPreusOferta[[#This Row],[Pagament mensual/ anual]],'Preus Localret Juliol 2026'!$E$3:$E$1550,TEXT(TablaPreusOferta[[#This Row],[Durada contracte en mesos]],"0")&" mesos")) | J14: =IF(TablaPreusOferta[[#This Row],[ProductId]]="",0,TablaPreusOferta[[#This Row],[Preu (IVA exclòs) Juliol 2026]]*TablaPreusOferta[[#This Row],[Unitats]]*TablaPreusOferta[[#This Row],[Durada contracte en mesos]]) -> 0 | L14: =IF(TablaPreusOferta[[#This Row],[ProductId]]="",0,(100%-TablaPreusOferta[[#This Row],[% de Descompte a complimentar pel licitador]])*TablaPreusOferta[[#This Row],[Preu (IVA exclòs) Juliol 2026]]) -> 0 | M14: =IF(TablaPreusOferta[[#This Row],[ProductId]]="",0,TablaPreusOferta[[#This Row],[Preu unitari ofert exclòs IVA]]*TablaPreusOferta[[#This Row],[Unitats]]*TablaPreusOferta[[#This Row],[Durada contracte en mesos]]) -> 0 | N14: =IF(TablaPreusOferta[[#This Row],[ProductId]]="",0,TablaPreusOferta[[#This Row],[Preu total ofert exclòs IVA]]*1.21) -> 0
A15: 14 | G15: =IF(TablaPreusOferta[[#This Row],[ProductId]]="","",SUMIFS('Preus Localret Juliol 2026'!$F$3:$F$1550,'Preus Localret Juliol 2026'!$A$3:$A$1550,TablaPreusOferta[[#This Row],[ProductId]],'Preus Localret Juliol 2026'!$B$3:$B$1550,TEXT(TablaPreusOferta[[#This Row],[SkuId]],"0000"),'Preus Localret Juliol 2026'!$D$3:$D$1550,TablaPreusOferta[[#This Row],[Pagament mensual/ anual]],'Preus Localret Juliol 2026'!$E$3:$E$1550,TEXT(TablaPreusOferta[[#This Row],[Durada contracte en mesos]],"0")&" mesos")) | J15: =IF(TablaPreusOferta[[#This Row],[ProductId]]="",0,TablaPreusOferta[[#This Row],[Preu (IVA exclòs) Juliol 2026]]*TablaPreusOferta[[#This Row],[Unitats]]*TablaPreusOferta[[#This Row],[Durada contracte en mesos]]) -> 0 | L15: =IF(TablaPreusOferta[[#This Row],[ProductId]]="",0,(100%-TablaPreusOferta[[#This Row],[% de Descompte a complimentar pel licitador]])*TablaPreusOferta[[#This Row],[Preu (IVA exclòs) Juliol 2026]]) -> 0 | M15: =IF(TablaPreusOferta[[#This Row],[ProductId]]="",0,TablaPreusOferta[[#This Row],[Preu unitari ofert exclòs IVA]]*TablaPreusOferta[[#This Row],[Unitats]]*TablaPreusOferta[[#This Row],[Durada contracte en mesos]]) -> 0 | N15: =IF(TablaPreusOferta[[#This Row],[ProductId]]="",0,TablaPreusOferta[[#This Row],[Preu total ofert exclòs IVA]]*1.21) -> 0
A16: 15 | G16: =IF(TablaPreusOferta[[#This Row],[ProductId]]="","",SUMIFS('Preus Localret Juliol 2026'!$F$3:$F$1550,'Preus Localret Juliol 2026'!$A$3:$A$1550,TablaPreusOferta[[#This Row],[ProductId]],'Preus Localret Juliol 2026'!$B$3:$B$1550,TEXT(TablaPreusOferta[[#This Row],[SkuId]],"0000"),'Preus Localret Juliol 2026'!$D$3:$D$1550,TablaPreusOferta[[#This Row],[Pagament mensual/ anual]],'Preus Localret Juliol 2026'!$E$3:$E$1550,TEXT(TablaPreusOferta[[#This Row],[Durada contracte en mesos]],"0")&" mesos")) | J16: =IF(TablaPreusOferta[[#This Row],[ProductId]]="",0,TablaPreusOferta[[#This Row],[Preu (IVA exclòs) Juliol 2026]]*TablaPreusOferta[[#This Row],[Unitats]]*TablaPreusOferta[[#This Row],[Durada contracte en mesos]]) -> 0 | L16: =IF(TablaPreusOferta[[#This Row],[ProductId]]="",0,(100%-TablaPreusOferta[[#This Row],[% de Descompte a complimentar pel licitador]])*TablaPreusOferta[[#This Row],[Preu (IVA exclòs) Juliol 2026]]) -> 0 | M16: =IF(TablaPreusOferta[[#This Row],[ProductId]]="",0,TablaPreusOferta[[#This Row],[Preu unitari ofert exclòs IVA]]*TablaPreusOferta[[#This Row],[Unitats]]*TablaPreusOferta[[#This Row],[Durada contracte en mesos]]) -> 0 | N16: =IF(TablaPreusOferta[[#This Row],[ProductId]]="",0,TablaPreusOferta[[#This Row],[Preu total ofert exclòs IVA]]*1.21) -> 0
A17: 16 | G17: =IF(TablaPreusOferta[[#This Row],[ProductId]]="","",SUMIFS('Preus Localret Juliol 2026'!$F$3:$F$1550,'Preus Localret Juliol 2026'!$A$3:$A$1550,TablaPreusOferta[[#This Row],[ProductId]],'Preus Localret Juliol 2026'!$B$3:$B$1550,TEXT(TablaPreusOferta[[#This Row],[SkuId]],"0000"),'Preus Localret Juliol 2026'!$D$3:$D$1550,TablaPreusOferta[[#This Row],[Pagament mensual/ anual]],'Preus Localret Juliol 2026'!$E$3:$E$1550,TEXT(TablaPreusOferta[[#This Row],[Durada contracte en mesos]],"0")&" mesos")) | J17: =IF(TablaPreusOferta[[#This Row],[ProductId]]="",0,TablaPreusOferta[[#This Row],[Preu (IVA exclòs) Juliol 2026]]*TablaPreusOferta[[#This Row],[Unitats]]*TablaPreusOferta[[#This Row],[Durada contracte en mesos]]) -> 0 | L17: =IF(TablaPreusOferta[[#This Row],[ProductId]]="",0,(100%-TablaPreusOferta[[#This Row],[% de Descompte a complimentar pel licitador]])*TablaPreusOferta[[#This Row],[Preu (IVA exclòs) Juliol 2026]]) -> 0 | M17: =IF(TablaPreusOferta[[#This Row],[ProductId]]="",0,TablaPreusOferta[[#This Row],[Preu unitari ofert exclòs IVA]]*TablaPreusOferta[[#This Row],[Unitats]]*TablaPreusOferta[[#This Row],[Durada contracte en mesos]]) -> 0 | N17: =IF(TablaPreusOferta[[#This Row],[ProductId]]="",0,TablaPreusOferta[[#This Row],[Preu total ofert exclòs IVA]]*1.21) -> 0
A18: 17 | G18: =IF(TablaPreusOferta[[#This Row],[ProductId]]="","",SUMIFS('Preus Localret Juliol 2026'!$F$3:$F$1550,'Preus Localret Juliol 2026'!$A$3:$A$1550,TablaPreusOferta[[#This Row],[ProductId]],'Preus Localret Juliol 2026'!$B$3:$B$1550,TEXT(TablaPreusOferta[[#This Row],[SkuId]],"0000"),'Preus Localret Juliol 2026'!$D$3:$D$1550,TablaPreusOferta[[#This Row],[Pagament mensual/ anual]],'Preus Localret Juliol 2026'!$E$3:$E$1550,TEXT(TablaPreusOferta[[#This Row],[Durada contracte en mesos]],"0")&" mesos")) | J18: =IF(TablaPreusOferta[[#This Row],[ProductId]]="",0,TablaPreusOferta[[#This Row],[Preu (IVA exclòs) Juliol 2026]]*TablaPreusOferta[[#This Row],[Unitats]]*TablaPreusOferta[[#This Row],[Durada contracte en mesos]]) -> 0 | L18: =IF(TablaPreusOferta[[#This Row],[ProductId]]="",0,(100%-TablaPreusOferta[[#This Row],[% de Descompte a complimentar pel licitador]])*TablaPreusOferta[[#This Row],[Preu (IVA exclòs) Juliol 2026]]) -> 0 | M18: =IF(TablaPreusOferta[[#This Row],[ProductId]]="",0,TablaPreusOferta[[#This Row],[Preu unitari ofert exclòs IVA]]*TablaPreusOferta[[#This Row],[Unitats]]*TablaPreusOferta[[#This Row],[Durada contracte en mesos]]) -> 0 | N18: =IF(TablaPreusOferta[[#This Row],[ProductId]]="",0,TablaPreusOferta[[#This Row],[Preu total ofert exclòs IVA]]*1.21) -> 0
A19: 18 | G19: =IF(TablaPreusOferta[[#This Row],[ProductId]]="","",SUMIFS('Preus Localret Juliol 2026'!$F$3:$F$1550,'Preus Localret Juliol 2026'!$A$3:$A$1550,TablaPreusOferta[[#This Row],[ProductId]],'Preus Localret Juliol 2026'!$B$3:$B$1550,TEXT(TablaPreusOferta[[#This Row],[SkuId]],"0000"),'Preus Localret Juliol 2026'!$D$3:$D$1550,TablaPreusOferta[[#This Row],[Pagament mensual/ anual]],'Preus Localret Juliol 2026'!$E$3:$E$1550,TEXT(TablaPreusOferta[[#This Row],[Durada contracte en mesos]],"0")&" mesos")) | J19: =IF(TablaPreusOferta[[#This Row],[ProductId]]="",0,TablaPreusOferta[[#This Row],[Preu (IVA exclòs) Juliol 2026]]*TablaPreusOferta[[#This Row],[Unitats]]*TablaPreusOferta[[#This Row],[Durada contracte en mesos]]) -> 0 | L19: =IF(TablaPreusOferta[[#This Row],[ProductId]]="",0,(100%-TablaPreusOferta[[#This Row],[% de Descompte a complimentar pel licitador]])*TablaPreusOferta[[#This Row],[Preu (IVA exclòs) Juliol 2026]]) -> 0 | M19: =IF(TablaPreusOferta[[#This Row],[ProductId]]="",0,TablaPreusOferta[[#This Row],[Preu unitari ofert exclòs IVA]]*TablaPreusOferta[[#This Row],[Unitats]]*TablaPreusOferta[[#This Row],[Durada contracte en mesos]]) -> 0 | N19: =IF(TablaPreusOferta[[#This Row],[ProductId]]="",0,TablaPreusOferta[[#This Row],[Preu total ofert exclòs IVA]]*1.21) -> 0
A20: 19 | G20: =IF(TablaPreusOferta[[#This Row],[ProductId]]="","",SUMIFS('Preus Localret Juliol 2026'!$F$3:$F$1550,'Preus Localret Juliol 2026'!$A$3:$A$1550,TablaPreusOferta[[#This Row],[ProductId]],'Preus Localret Juliol 2026'!$B$3:$B$1550,TEXT(TablaPreusOferta[[#This Row],[SkuId]],"0000"),'Preus Localret Juliol 2026'!$D$3:$D$1550,TablaPreusOferta[[#This Row],[Pagament mensual/ anual]],'Preus Localret Juliol 2026'!$E$3:$E$1550,TEXT(TablaPreusOferta[[#This Row],[Durada contracte en mesos]],"0")&" mesos")) | J20: =IF(TablaPreusOferta[[#This Row],[ProductId]]="",0,TablaPreusOferta[[#This Row],[Preu (IVA exclòs) Juliol 2026]]*TablaPreusOferta[[#This Row],[Unitats]]*TablaPreusOferta[[#This Row],[Durada contracte en mesos]]) -> 0 | L20: =IF(TablaPreusOferta[[#This Row],[ProductId]]="",0,(100%-TablaPreusOferta[[#This Row],[% de Descompte a complimentar pel licitador]])*TablaPreusOferta[[#This Row],[Preu (IVA exclòs) Juliol 2026]]) -> 0 | M20: =IF(TablaPreusOferta[[#This Row],[ProductId]]="",0,TablaPreusOferta[[#This Row],[Preu unitari ofert exclòs IVA]]*TablaPreusOferta[[#This Row],[Unitats]]*TablaPreusOferta[[#This Row],[Durada contracte en mesos]]) -> 0 | N20: =IF(TablaPreusOferta[[#This Row],[ProductId]]="",0,TablaPreusOferta[[#This Row],[Preu total ofert exclòs IVA]]*1.21) -> 0
A21: 20 | G21: =IF(TablaPreusOferta[[#This Row],[ProductId]]="","",SUMIFS('Preus Localret Juliol 2026'!$F$3:$F$1550,'Preus Localret Juliol 2026'!$A$3:$A$1550,TablaPreusOferta[[#This Row],[ProductId]],'Preus Localret Juliol 2026'!$B$3:$B$1550,TEXT(TablaPreusOferta[[#This Row],[SkuId]],"0000"),'Preus Localret Juliol 2026'!$D$3:$D$1550,TablaPreusOferta[[#This Row],[Pagament mensual/ anual]],'Preus Localret Juliol 2026'!$E$3:$E$1550,TEXT(TablaPreusOferta[[#This Row],[Durada contracte en mesos]],"0")&" mesos")) | J21: =IF(TablaPreusOferta[[#This Row],[ProductId]]="",0,TablaPreusOferta[[#This Row],[Preu (IVA exclòs) Juliol 2026]]*TablaPreusOferta[[#This Row],[Unitats]]*TablaPreusOferta[[#This Row],[Durada contracte en mesos]]) -> 0 | L21: =IF(TablaPreusOferta[[#This Row],[ProductId]]="",0,(100%-TablaPreusOferta[[#This Row],[% de Descompte a complimentar pel licitador]])*TablaPreusOferta[[#This Row],[Preu (IVA exclòs) Juliol 2026]]) -> 0 | M21: =IF(TablaPreusOferta[[#This Row],[ProductId]]="",0,TablaPreusOferta[[#This Row],[Preu unitari ofert exclòs IVA]]*TablaPreusOferta[[#This Row],[Unitats]]*TablaPreusOferta[[#This Row],[Durada contracte en mesos]]) -> 0 | N21: =IF(TablaPreusOferta[[#This Row],[ProductId]]="",0,TablaPreusOferta[[#This Row],[Preu total ofert exclòs IVA]]*1.21) -> 0
A22: Total | J22: =SUBTOTAL(109,TablaPreusOferta[Preu total exclòs IVA]) -> 130715.52 | K22: =100%-TablaPreusOferta[[#Totals],[Preu total ofert exclòs IVA]]/TablaPreusOferta[[#Totals],[Preu total exclòs IVA]] -> 0 | M22: =SUBTOTAL(109,TablaPreusOferta[Preu total ofert exclòs IVA]) -> 130715.52 | N22: =SUBTOTAL(109,TablaPreusOferta[Preu total ofert IVA inclòs]) -> 158165.78
C27: Copiar del Llistat de preus
C28: Omplir manualment
C29: Omplir pel licitador

Sheet Preus Localret Juliol 2026
A2: ProductId | B2: SkuId | C2: SkuTitle | D2: Modalitat pagament | E2: Subscripció | F2: Preu (IVA exclòs)
A3: CFQ7TTC0HL8Z | B3: 0001 | C3: 10-Year Audit Log Retention Add On | D3: Mensual | E3: 1 mes | F3: 2.08
A4: CFQ7TTC0HL8Z | B4: 0005 | C4: 10-Year Audit Log Retention Add On for FLW | D4: Mensual | E4: 1 mes | F4: 1.39
A5: CFQ7TTC0HL8Z | B5: 0001 | C5: 10-Year Audit Log Retention Add On | D5: Anual | E5: 12 mesos | F5: 20.76
A6: CFQ7TTC0HL8Z | B6: 0005 | C6: 10-Year Audit Log Retention Add On for FLW | D6: Anual | E6: 12 mesos | F6: 13.92
A7: CFQ7TTC0HL8Z | B7: 0001 | C7: 10-Year Audit Log Retention Add On | D7: Mensual | E7: 12 mesos | F7: 1.82
A8: CFQ7TTC0HL8Z | B8: 0005 | C8: 10-Year Audit Log Retention Add On for FLW | D8: Mensual | E8: 12 mesos | F8: 1.22
A9: CFQ7TTC0RN26 | B9: 0001 | C9: Advanced Data Residency | D9: Anual | E9: 12 mesos | F9: 20.76
A10: CFQ7TTC0RN26 | B10: 0001 | C10: Advanced Data Residency | D10: Trieni | E10: 36 mesos | F10: 62.28
A11: CFQ7TTC0RN26 | B11: 0001 | C11: Advanced Data Residency | D11: Mensual | E11: 12 mesos | F11: 1.82
A12: CFQ7TTC0RN26 | B12: 0001 | C12: Advanced Data Residency | D12: Anual | E12: 36 mesos | F12: 20.76
A13: CFQ7TTC0HDK0 | B13: 0001 | C13: Advanced Communications | D13: Anual | E13: 12 mesos | F13: 124.8
A14: CFQ7TTC0HDK0 | B14: 0001 | C14: Advanced Communications | D14: Mensual | E14: 12 mesos | F14: 10.92
... A1550: CFQ7TTC13M6X | B1550: 0001 | C1550: Windows 365 Reserve | D1550: Anual | E1550: 12 mesos | F1550: 18.72
