Workbook

Sheet LINIA_1
B2: CODI | C2: DESCRIPCIÓ | D2: AMIDAMENT | E2: AMIDAMENT | F2: PREU | G2: PREU TOTAL
B3: SIN-009 | C3: Subministrament, instal·lació, connexionat i posada en servei de central d'incendis modular amb referència NOTIFIER i model ID3000 de 4 llaços, microprocessada analògica i algorítmica per a la detecció i alarma d'incendi que monitoritza i controla individualment els elements del sistema. Amb certificat CPD EN54 part 2 i 4. Disposa de targetes de llaç microprocessades que permeten treballar en mode degradat, sobrepassant els requisits de la norma EN54, 4 circuits de sortida configurables i programables, 2 sortides de 24 Vcc per alimentar equips externs, 2 circuits d'entrada programables i 255 zones. Cada llaç pot controlar un màxim de 99 detectors analògics intel·ligents, més 99 mòduls monitors (entrada) o de control (sortida), fins a un total de 198 punts identificables individualment per llaç. Inclou aïlladors de llaç a l'entrada i sortida de cablejat de el llaç. Pot alimentar sirenes i detectors de raig a través del propi llaç SLC (segons especificacions). Disposa de pantalla gràfica de cristall líquid LCD de 240 x 64 píxels (6 línies de 40 caràcters alfanumèrics), teclat de membrana protegit amb clau d'accés a tecles de control i funcions i leds per a la visualització de l'estat de el sistema. Hi ha diferents formats i mides de cabines amb fonts d'alimentació de 3 a 7 A, per poder complir, en tot moment, els requisits de la norma EN54-14 quant a capacitat i autonomia de el sistema es refereix. Capacitat per albergar bateries segons cabina: ref 020-472-009, 2 x 12Vcc. 12Ah. i ref 020-474-009, 2 x 12Vcc. 26 Ah. Alimentació: 230V, 50Hz. Consum de corrent: 1,6A. Màxima corrent de sortida a alarma: 3A. Sortida de font auxiliar: 26 - 28Vcc / 150mA. Sortida de llaç analògic: 22,5 - 26,4Vcc / 0,5A (consulteu el programa de càlcul de bateries i de llaç). Contactes de relé: 30V / 1A. Dimensions en mm (cabina estàndard d): 500 (ample) x 400 (alt) x 153 (fons). Inclou el petit material auxiliars, qualsevol mitjà d'elevació necessari per a la instal·lació de l'element i la retirada del material sanejat. La central s'haurà de dotar de polsador d'evacuació. Totalment instal·lat i en servei. NOTA.- Si abans de l’execució d’aquesta partida NOTIFIER ha comercialitzat el model INSPIRE, substituta del model ID3000, s’haurà d’instal.lar aquesta. | D3: =SUM(#REF!) -> #REF! | E3: 12 | F3: 8883 | G3: =E3*F3 -> 106596
B4: SIN-010 | C4: Bateries de 12V i capacitat de 24Ah amb referència NOTIFIER i model PS-1224. Es requereixen 2 unitat per central. Inclou el petit material auxiliars, qualsevol mitjà d'elevació necessari per a la instal·lació de l'element i la retirada del material sanejat. Totalment instal·lat i en servei. | D4: =D3*2 -> #REF! | E4: 24 | F4: 139 | G4: =E4*F4 -> 3336
B5: SIN-011 | C5: Subministrament, instal·lació, connexionat i posada en servei d'ampliació a 4 llaços de central d'incendis modular amb referència NOTIFIER i model ID3000. Inclou el petit material auxiliars, qualsevol mitjà d'elevació necessari per a la instal·lació de l'element i la retirada del material sanejat. Totalment instal·lat i en servei. | D5: 3 | E5: 1 | F5: 969 | G5: =E5*F5 -> 969
B6: SIN-012 | C6: Subministrament, instal·lació, connexionat i posada en servei de passarel·la de comunicacions (Gateway) amb referència NOTIFIER i model IBOX-MBS-NID3K, que converteix el protocol de les centrals sèrie ID en l'estàndard Modbus Server per comunicar-se via RS232 o RS485 amb equips Modbus RTU o via Ethernet a través d'RJ45 a Modbus TCP. Permet monitoritzar una única central amb 8 llaços i 99 sensors + 99 mòduls i 255 zones. Inclou el petit material auxiliars, qualsevol mitjà d'elevació necessari per a la instal·lació de l'element i la retirada del material sanejat. Totalment instal·lat i en servei. | D6: =SUM(#REF!) -> #REF! | E6: 12 | F6: 2494 | G6: =E6*F6 -> 29928
B7: SIN-013 | C7: Subministrament, instal·lació, connexionat i posada en servei de detector òptic de fum amb aïllador incorporat, amb referència NOTIFIER i model NFXI-OPT. Detecció analògica amb algoritmes de processament de la senyals captats pel detector. Ideal per focs d'evolució lenta, amb partícules de fum visibles. Incorpora funcions de test manual i automàtic i adreçament manual (01-159). Disposa de dos leds per a la indicació d'alarma i sortida per a indicador remot. Inclou el petit material auxiliars, qualsevol mitjà d'elevació necessari per a la instal·lació de l'element i la retirada del material sanejat. Totalment instal·lat i en servei. | D7: =#REF! -> #REF! | E7: 239 | F7: 80 | G7: =E7*F7 -> 19120
B8: SIN-014 | C8: Subministrament, instal·lació, connexionat i posada en servei de detector tèrmic de temperatura fixa 58ºC analògic amb aïllador incorporat, amb referència NOTIFIER i model NFXI-TFIX58. Recomanat per a la detecció d'incendis en ambients on hi ha canvis bruscos de temperatura en certs períodes de temps. Incorpora funcions de test manual i automàtic i adreçament (01-159). Disposa de dos leds per a la indicació d'alarma i sortida per a indicador remot. Inclou el petit material auxiliars, qualsevol mitjà d'elevació necessari per a la instal·lació de l'element i la retirada del material sanejat. Totalment instal·lat i en servei. | D8: =#REF! -> #REF! | E8: 20 | F8: 86 | G8: =E8*F8 -> 1720
B9: SIN-015 | C9: Subministrament, instal·lació, connexionat i posada en servei de base estàndard de superfície per a detectors analògics de la sèrie NFX, inclou un terminal extra per connexionats dels sensors de la sèrie NFX amb aïllador referència NOTIFIER i model B501AP. Disposa d'automatisme de bloqueig i terminals de connexió per a cable de fins a 2,5 mm. Compatible amb sensors de la sèrie 500, 700 i NFX. Inclou el petit material auxiliars, qualsevol mitjà d'elevació necessari per a la instal·lació de l'element i la retirada del material sanejat. Totalment instal·lat i en servei. | D9: 543 | E9: 259 | F9: 15.8 | G9: =E9*F9 -> 4092.2
B10: SIN-016 | C10: Polsador d'alarma direccionable de 01 a 159, recarregable i amb aïllador de curtcircuits incorporat amb referència NOTIFIER i model M700KAC. Inclou led d'estat, tapa de protecció contra trencament accidental i clau per a proves manuals. Inclou base model PS031W. Inclou el petit material auxiliars, qualsevol mitjà d'elevació necessari per a la instal·lació de l'element i la retirada del material sanejat. Totalment instal·lat i en servei. | D10: =#REF! -> #REF! | E10: 53 | F10: 73 | G10: =E10*F10 -> 3869
B11: SIN-017 | C11: Subministrament, instal·lació, connexionat i posada en servei de mòdul de sortida de control direccionable amb referència NOTIFIER i model M701 per a l'activació de sistemes de senyalització, portes, comportes tallafoc, solenoides, etc. Disposa de 1 circuit de sortida configurable, mitjançant microinterruptor, com a sortida supervisada amb RFL o en forma relé amb contactes lliures de tensió. Inclou el petit material auxiliars, qualsevol mitjà d'elevació necessari per a la instal·lació de l'element i la retirada del material sanejat. Totalment instal·lat i en servei. | D11: =#REF! -> #REF! | E11: 67 | F11: 133.8 | G11: =E11*F11 -> 8964.6
B12: SIN-018 | C12: Subministrament, instal·lació, connexionat i posada en servei de mòdul monitor direccionable amb 1 circuit d’entrada supervisat per a la monitorització d’equips d’alarma o senyals tècniques que disposen de contacte lliure de tensió amb referència NOTIFIER i model M710. Inclou el petit material auxiliars, qualsevol mitjà d'elevació necessari per a la instal·lació de l'element i la retirada del material sanejat. Totalment instal·lat i en servei. | D12: =#REF! -> #REF! | E12: 41 | F12: 90.8 | G12: =E12*F12 -> 3722.8
B13: SIN-019 | C13: Subministrament, instal·lació, connexionat i posada en servei de sirena direccionable amb flash de transparent i aïllador incorporat amb referència NOTIFIER i model WRA-RC-I02. Inclou el petit material auxiliars, qualsevol mitjà d'elevació necessari per a la instal·lació de l'element i la retirada del material sanejat. Totalment instal·lat i en servei. | D13: =#REF! -> #REF! | E13: 22 | F13: 164 | G13: =E13*F13 -> 3608
B14: SIN-020 | C14: Zócal amb base alta vermella per a dispositius òptic-acústics amb referència NOTIFIER i model VRR. Inclou el petit material auxiliars, qualsevol mitjà d'elevació necessari per a la instal·lació de l'element i la retirada del material sanejat. Totalment instal·lat i en servei. | D14: =D13 -> #REF! | E14: 22 | F14: 21 | G14: =E14*F14 -> 462
B15: SIN-021 | C15: Subministrament, instal·lació, connexionat i posada en servei de sistema de detecció de fum per aspiració amb referència NOTIFIER i model FAAST FLEX - FLX 10 o refrència PROTECT i model PROPOINTPLUS. L'equip inclou 1 detector làser d'alta sensibilitat, un sensor de flux per ultrasò i electrònica protegida, filtre extern per a l'entrada del tub d'aspiració i dos mòduls d'entrada per a monitoritzar l'alarma i l'avaria del detector. Inclou el petit material auxiliars, qualsevol mitjà d'elevació necessari per a la instal·lació de l'element i la retirada del material sanejat. Totalment instal·lat i en servei. | D15: =#REF! -> #REF! | E15: 28 | F15: 2063 | G15: =E15*F15 -> 57764
B16: SIN-022 | C16: Subministrament, instal·lació, connexionat i posada en servei de font d'alimentació de 130W commutada de 24Vcc controlada per microprocessador amb referència NOTIFIER i model HLS PS50. Es compon de font d'alimentació, circuit de control / senyalització i cabina metàl·lica amb capacitat per a albergar bateries de fins a 17Ah. Inclou el petit material auxiliars, qualsevol mitjà d'elevació necessari per a la instal·lació de l'element i la retirada del material sanejat. Totalment instal·lat i en servei. | D16: =#REF! -> #REF! | E16: 24 | F16: 417 | G16: =E16*F16 -> 10008
B17: SIN-023 | C17: Subministrament, instal·lació, connexionat i posada en servei de bateria de 12V amb referència YUASA i model PS1217. Capacitat 18Ah. Connexió per terminal faston. Inclou el petit material auxiliars, qualsevol mitjà d'elevació necessari per a la instal·lació de l'element i la retirada del material sanejat. Totalment instal·lat i en servei. | D17: =D16*2 -> #REF! | E17: 48 | F17: 102 | G17: =E17*F17 -> 4896
B18: SIN-024 | C18: Subministrament i instal·lació de conductor tipus afumex o similar (RZ1K-AS), 0,6/1kv, 3g, 2'5mm2 per a la línia d'alimentació d'equips de PCI. La línia s'estendrà per interior de fals sostre existent i per canalització existent o sota tub corrugat en cas de no existència d'aquesta. S'inclou la connexió a la protecció de capçalera, en horari fora de l'horari laboral del dispensari i el petit material per tal de deixar-lo en funcionament, identificat i connectat amb les càrregues. Totalment instal·lat i en servei. | D18: =#REF! -> #REF! | E18: 1050 | F18: 7 | G18: =E18*F18 -> 7350
B19: SIN-025 | C19: Subministrament i instal·lació de cable 2 x 2,5 mm² amb pantalla d'alumini i coberta de poliolefina, format per dos conductors (vermell/negre) de coure polit rígid de 2,5mm², apantallat al conjunt en alumini / polièster i amb coberta exterior de poliolefina resistent al foc (UNE50200) no propagador del foc (UNE50265-1-2) y no propagador del incendi (UNE50266), amb baixa emissió de fums (ls) (>60%) y lliure d'halògens (hf) (<0,5%) de color vermell. Diàmetre exterior de ø 8,5 mm. Inclosos elements de subjecció i mitjans mecànics d'elevació. Tot segons memòria, plànols i normativa vigent, totalment instal·lat i funcionant. | D19: =#REF! -> #REF! | E19: 3090 | F19: 7.89 | G19: =E19*F19 -> 24380.1
B20: SIN-026 | C20: Subministrament i instal·lació de tub rígid d'acer galvanitzat, de 20 mm de diàmetre nominal, resistència a l'impacte de 20 j, resistència a compressió de 4000 n, amb unió endollada i muntat superficialment. inclosos muntatge, accessoris tals com ràcords de connexió i grapes amb tirafondo tipus apolo . Inclosos elements de subjecció i mitjans mecànics d'elevació. Tot segons memòria, plànols i normativa vigent, totalment instal·lat i funcionant. | D20: =#REF! -> #REF! | E20: 2390 | F20: 12 | G20: =E20*F20 -> 28680
B21: SIN-027 | C21: Subministrament i instal·lació de tub flexible corrugat de poliamida, de 20 mm de diàmetre nominal, lliure d'halògens i no propagador de flama, per fer passar cable de senyal per safata de cables de potència. Inclosos elements de subjecció i mitjans mecànics d'elevació., i petit material. Tot segons plànols, memòria i normativa vigent. | D21: 500 | E21: 500 | F21: 12 | G21: =E21*F21 -> 6000
B22: SIN-028 | C22: Subministrament i instal·lació de tub per a conducte d'aspiració amb diàmetre exterior de 25mm i interior de 21mm i material ABS (acrilonitril-butadiè-estirè), lliure d'halògens i de material ignífug. Totalment instal·lat i en servei. | D22: =#REF! -> #REF! | E22: 700 | F22: 18.7 | G22: =E22*F22 -> 13090
B23: SIN-029 | C23: Subministrament i instal·lació de caixa de derivació quadrada de planxa d'acer, de 130x130 mm, amb tapa amb grau de protecció normal, i mecanitzada amb bornes wago muntada superficialment en altura, inclosos mitjans mecànics d'elevació. tot segons memòria plànols i normativa vigent. Totalment instal·lat i en servei. | D23: =#REF! -> #REF! | E23: 87 | F23: 45 | G23: =E23*F23 -> 3915
B24: SIN-030 | C24: Integració del nous elements / instal•lacions al telecomandament de PCI. Consta de les següents intervencions: 1. Trabajos previos - Configuración centralita ZITON 2. Trabajos en entorno de desarrollo ("batidora") - Vigiplus: parametrización de elementos en sistema grafico en planimetría actual. - Validación de la integridad de la configuración de centralita y puesto central con las herramientas de gestión - Generación de protocolo de pruebas - Verificación de planos: verificar ubicación de elementos y plano de planta con Geoportal 3. Trabajos en entorno de producción Vigiplus - Realizar copia de seguridad del proyecto previa y posterior - Actualizar Vigiplus con la configuración validada en entorno de desarrollo - Volver a ejecutar las herramientas de verificación de la integridad en entorno de producción, de forma que la base de datos en producción quede actualizada. Pruebas y puesta en marcha sistema de detección de una sala tècnica - Se incluye 1/4 jornada para prueba con contratista y 1/4 jornada para entrega a TMB, SA - Vigiplus: prueba y puesta en marcha de elementos en sistema gráfico - Verificación de la documentación entregada por el instalador: planos, inventario de otros elementos (aisladores, fuentes…), protocolos de prueba firmados, certificado legal, configuración de centralita, isometricos y configuracón de aspiraciones. - Actualización de inventario para SAP | D24: 1 | E24: 442 | F24: 125 | G24: =E24*F24 -> 55250
B25: SIN-031 | C25: Subministrament i instal·lació de caixa per a carril DIN amb 1 punt de dades amb connector RJ45 CAT6, tipus DATWYLER IP20 o similar. Inclou totes les connexions de cablejat i tot el petit material necessària per a la seva instal·lació. Totalment instal·lat i en servei. | D25: 50 | E25: 12 | F25: 90 | G25: =E25*F25 -> 1080
B26: SIN-032 | C26: Subministrament i instal·lació de mòdul RJ45 KS-T Plus 1/8 CAT6 a instal·lar dins l’envolvent de la central d’incendis. . Inclou totes les connexions de cablejat i tot el petit material necessària per a la seva instal·lació. Totalment instal·lat i en servei. | D26: 50 | E26: 12 | F26: 10 | G26: =E26*F26 -> 120
B27: SIN-033 | C27: Subministrament i instal·lació en safata, tub o canal de cable de 4 parells fins a 90m de coure trenats 23AWG amb apantallament global i coberta lliure d’halògens, resistent al foc i baixa emissió de fums, tipus S/FTP i categoria 6A fins a 450MHz EIA/TIA 568, marca KERPEN i referència MEGALINE 623 o similar. Totalment instal·lat i connexionat amb finalització a caixa al lloc terminal i amb connectors RJ45. Inclou els 2 connectors dels extrems tipus KEYSTONE CAT6. Inclou el muntatge i desmuntatge de sostre fals en cas necessari. Totalment instal·lat i en servei. . Inclou totes les connexions de cablejat i tot el petit material necessària per a la seva instal·lació. Totalment instal·lat i en servei. | D27: 1000 | E27: 250 | F27: 5 | G27: =E27*F27 -> 1250
B28: SIN-034 | C28: Tirantet de cable S/FTP CAT6 per a connexió des de la IBOX de la central d’incendis fins al mòdul RJ45. Totalment instal·lat i en servei. | D28: 50 | E28: 12 | F28: 15 | G28: =E28*F28 -> 180
B29: SIN-035 | C29: Tirantet de cable S/FTP CAT6 per a connexió des del switch al patch panel dins les Cambres de Comunicacions. Totalment instal·lat i en servei. | D29: 50 | E29: 12 | F29: 10 | G29: =E29*F29 -> 120
B30: SIN-036 | C30: Certificació punt de xarxa des de roseta (final) fins port del patch panel (inici). | D30: 50 | E30: 12 | F30: 30 | G30: =E30*F30 -> 360
B31: SIN-037 | C31: Partida alçada no modificable a justificar pel desmuntatge d'elements i sanejament de les instal.lacions de les instal.lacions existents de Protecció Contra Incendis, per l'anul.lació d'aquests elements del Telecomandament de PCI (VIGIPLUS) i pel sanejament dels materials de les instal.lacions associades als elements desmuntats. | E31: 29 | F31: 300 | G31: =E31*F31 -> 8700
B32: SIN-038 | C32: Desmuntatge i posterior muntatge de qualsevol element de les escales mecàniques necessaria per a de poder facilitar els treballs de desmuntatge i sanejament de la instal.lació de detecció per aspiració existent i el posterior muntatge en fossars de detecció òptica puntual. | E32: 15 | F32: 650 | G32: =E32*F32 -> 9750
B33: SIN-039 | C33: Partida alçada a justificar de preu mínim no modificable per a la SEGURETAT i SALUT a l'obra, en base a l'Estudi Bàsic o Pla de Seguretat i Salut, per a la implantació i seguiment de les mesures de Seguretat i Salut a les obres abast del projecte. | D33: 1 | E33: 1 | F33: 1.5 | G33: =(SUM(G3:G30))*F33/100 -> 6012.4605
B34: SIN-040 | C34: Partida alçada a justificar per a CONTROL DE QUALITAT de qualsevol tipus i sobre qualsevol material d'obra de nova execució, a definir per la DO i FMB. | D34: 1 | E34: 1 | F34: 1 | G34: =(SUM(G3:G30))*(F34/100) -> 4008.307
B35: SIN-041 | C35: Partida alçada a justificar per a GESTIÓ DE RESIDUS de qualsevol tipus i sobre qualsevol material d'obra de nova execució, a definir per la DO i FMB. | D35: 1 | E35: 1 | F35: 0.5 | G35: =(SUM(G3:G30))*F35/100 -> 2004.1535
B36: SIN-042 | C36: Partida alçada no modificable d’abonament íntegre en concepte d'AS-BUILT. Inclou l'actualització de la documentació gràfica modificada; de la certificació dels punts xarxes de la connexió de les centrals; de les legalitzacions elèctriques davant l’administració i organisme competent que inclouen projecte visat, les inspeccions inicials, els certificats d’instal·lació i l’acreditació RASIC-RECI del instal·lador; els isomètrics del detectors d’aspiració; l’inventari d’equips de PCI desmuntats a les estacions afectades pel projecte; l’inventari dels equips muntats a les estacions afectades pel projecte; certificats d’instal·lació on ha de constar la informació de l’estació, l’abast de l’actuació, número del registre de la instal·lació (RITSIC), la relació d’equips instal·lats, la seva direcció a la central i el seu número de sèrie; els registres generats pel multímetre POL-200-TS i imatges dels valors mesurats i, qualsevol altra documentació tècnica final d’obra que es generi de les instal·lacions realitzades. Aquesta partida s’abonarà al disposar de tota la documentació sense dret a abonaments parcials. | D36: 1 | E36: 1 | F36: 3 | G36: =(SUM(G3:G30))*F36/100 -> 12024.921

Sheet LINIA_2
B2: CODI | C2: DESCRIPCIÓ | D2: AMIDAMENT | E2: AMIDAMENT | F2: PREU | G2: PREU TOTAL
B3: SIN-009 | C3: Subministrament, instal·lació, connexionat i posada en servei de central d'incendis modular amb referència NOTIFIER i model ID3000 de 4 llaços, microprocessada analògica i algorítmica per a la detecció i alarma d'incendi que monitoritza i controla individualment els elements del sistema. Amb certificat CPD EN54 part 2 i 4. Disposa de targetes de llaç microprocessades que permeten treballar en mode degradat, sobrepassant els requisits de la norma EN54, 4 circuits de sortida configurables i programables, 2 sortides de 24 Vcc per alimentar equips externs, 2 circuits d'entrada programables i 255 zones. Cada llaç pot controlar un màxim de 99 detectors analògics intel·ligents, més 99 mòduls monitors (entrada) o de control (sortida), fins a un total de 198 punts identificables individualment per llaç. Inclou aïlladors de llaç a l'entrada i sortida de cablejat de el llaç. Pot alimentar sirenes i detectors de raig a través del propi llaç SLC (segons especificacions). Disposa de pantalla gràfica de cristall líquid LCD de 240 x 64 píxels (6 línies de 40 caràcters alfanumèrics), teclat de membrana protegit amb clau d'accés a tecles de control i funcions i leds per a la visualització de l'estat de el sistema. Hi ha diferents formats i mides de cabines amb fonts d'alimentació de 3 a 7 A, per poder complir, en tot moment, els requisits de la norma EN54-14 quant a capacitat i autonomia de el sistema es refereix. Capacitat per albergar bateries segons cabina: ref 020-472-009, 2 x 12Vcc. 12Ah. i ref 020-474-009, 2 x 12Vcc. 26 Ah. Alimentació: 230V, 50Hz. Consum de corrent: 1,6A. Màxima corrent de sortida a alarma: 3A. Sortida de font auxiliar: 26 - 28Vcc / 150mA. Sortida de llaç analògic: 22,5 - 26,4Vcc / 0,5A (consulteu el programa de càlcul de bateries i de llaç). Contactes de relé: 30V / 1A. Dimensions en mm (cabina estàndard d): 500 (ample) x 400 (alt) x 153 (fons). Inclou el petit material auxiliars, qualsevol mitjà d'elevació necessari per a la instal·lació de l'element i la retirada del material sanejat. La central s'haurà de dotar de polsador d'evacuació. Totalment instal·lat i en servei. NOTA.- Si abans de l’execució d’aquesta partida NOTIFIER ha comercialitzat el model INSPIRE, substituta del model ID3000, s’haurà d’instal.lar aquesta. | D3: =SUM(#REF!) -> #REF! | E3: 0 | F3: 8883 | G3: =E3*F3 -> 0
B4: SIN-010 | C4: Bateries de 12V i capacitat de 24Ah amb referència NOTIFIER i model PS-1224. Es requereixen 2 unitat per central. Inclou el petit material auxiliars, qualsevol mitjà d'elevació necessari per a la instal·lació de l'element i la retirada del material sanejat. Totalment instal·lat i en servei. | D4: =D3*2 -> #REF! | E4: 0 | F4: 139 | G4: =E4*F4 -> 0
B5: SIN-011 | C5: Subministrament, instal·lació, connexionat i posada en servei d'ampliació a 4 llaços de central d'incendis modular amb referència NOTIFIER i model ID3000. Inclou el petit material auxiliars, qualsevol mitjà d'elevació necessari per a la instal·lació de l'element i la retirada del material sanejat. Totalment instal·lat i en servei. | D5: 3 | E5: 0 | F5: 969 | G5: =E5*F5 -> 0
B6: SIN-012 | C6: Subministrament, instal·lació, connexionat i posada en servei de passarel·la de comunicacions (Gateway) amb referència NOTIFIER i model IBOX-MBS-NID3K, que converteix el protocol de les centrals sèrie ID en l'estàndard Modbus Server per comunicar-se via RS232 o RS485 amb equips Modbus RTU o via Ethernet a través d'RJ45 a Modbus TCP. Permet monitoritzar una única central amb 8 llaços i 99 sensors + 99 mòduls i 255 zones. Inclou el petit material auxiliars, qualsevol mitjà d'elevació necessari per a la instal·lació de l'element i la retirada del material sanejat. Totalment instal·lat i en servei. | D6: =SUM(#REF!) -> #REF! | E6: 0 | F6: 2494 | G6: =E6*F6 -> 0
B7: SIN-013 | C7: Subministrament, instal·lació, connexionat i posada en servei de detector òptic de fum amb aïllador incorporat, amb referència NOTIFIER i model NFXI-OPT. Detecció analògica amb algoritmes de processament de la senyals captats pel detector. Ideal per focs d'evolució lenta, amb partícules de fum visibles. Incorpora funcions de test manual i automàtic i adreçament manual (01-159). Disposa de dos leds per a la indicació d'alarma i sortida per a indicador remot. Inclou el petit material auxiliars, qualsevol mitjà d'elevació necessari per a la instal·lació de l'element i la retirada del material sanejat. Totalment instal·lat i en servei. | D7: =#REF! -> #REF! | E7: 60 | F7: 80 | G7: =E7*F7 -> 4800
B8: SIN-014 | C8: Subministrament, instal·lació, connexionat i posada en servei de detector tèrmic de temperatura fixa 58ºC analògic amb aïllador incorporat, amb referència NOTIFIER i model NFXI-TFIX58. Recomanat per a la detecció d'incendis en ambients on hi ha canvis bruscos de temperatura en certs períodes de temps. Incorpora funcions de test manual i automàtic i adreçament (01-159). Disposa de dos leds per a la indicació d'alarma i sortida per a indicador remot. Inclou el petit material auxiliars, qualsevol mitjà d'elevació necessari per a la instal·lació de l'element i la retirada del material sanejat. Totalment instal·lat i en servei. | D8: =#REF! -> #REF! | E8: 0 | F8: 86 | G8: =E8*F8 -> 0
B9: SIN-015 | C9: Subministrament, instal·lació, connexionat i posada en servei de base estàndard de superfície per a detectors analògics de la sèrie NFX, inclou un terminal extra per connexionats dels sensors de la sèrie NFX amb aïllador referència NOTIFIER i model B501AP. Disposa d'automatisme de bloqueig i terminals de connexió per a cable de fins a 2,5 mm. Compatible amb sensors de la sèrie 500, 700 i NFX. Inclou el petit material auxiliars, qualsevol mitjà d'elevació necessari per a la instal·lació de l'element i la retirada del material sanejat. Totalment instal·lat i en servei. | D9: 543 | E9: 60 | F9: 15.8 | G9: =E9*F9 -> 948
B10: SIN-016 | C10: Polsador d'alarma direccionable de 01 a 159, recarregable i amb aïllador de curtcircuits incorporat amb referència NOTIFIER i model M700KAC. Inclou led d'estat, tapa de protecció contra trencament accidental i clau per a proves manuals. Inclou base model PS031W. Inclou el petit material auxiliars, qualsevol mitjà d'elevació necessari per a la instal·lació de l'element i la retirada del material sanejat. Totalment instal·lat i en servei. | D10: =#REF! -> #REF! | E10: 0 | F10: 73 | G10: =E10*F10 -> 0
B11: SIN-017 | C11: Subministrament, instal·lació, connexionat i posada en servei de mòdul de sortida de control direccionable amb referència NOTIFIER i model M701 per a l'activació de sistemes de senyalització, portes, comportes tallafoc, solenoides, etc. Disposa de 1 circuit de sortida configurable, mitjançant microinterruptor, com a sortida supervisada amb RFL o en forma relé amb contactes lliures de tensió. Inclou el petit material auxiliars, qualsevol mitjà d'elevació necessari per a la instal·lació de l'element i la retirada del material sanejat. Totalment instal·lat i en servei. | D11: =#REF! -> #REF! | E11: 0 | F11: 133.8 | G11: =E11*F11 -> 0
B12: SIN-018 | C12: Subministrament, instal·lació, connexionat i posada en servei de mòdul monitor direccionable amb 1 circuit d’entrada supervisat per a la monitorització d’equips d’alarma o senyals tècniques que disposen de contacte lliure de tensió amb referència NOTIFIER i model M710. Inclou el petit material auxiliars, qualsevol mitjà d'elevació necessari per a la instal·lació de l'element i la retirada del material sanejat. Totalment instal·lat i en servei. | D12: =#REF! -> #REF! | E12: 60 | F12: 90.8 | G12: =E12*F12 -> 5448
B13: SIN-019 | C13: Subministrament, instal·lació, connexionat i posada en servei de sirena direccionable amb flash de transparent i aïllador incorporat amb referència NOTIFIER i model WRA-RC-I02. Inclou el petit material auxiliars, qualsevol mitjà d'elevació necessari per a la instal·lació de l'element i la retirada del material sanejat. Totalment instal·lat i en servei. | D13: =#REF! -> #REF! | E13: 0 | F13: 164 | G13: =E13*F13 -> 0
B14: SIN-020 | C14: Zócal amb base alta vermella per a dispositius òptic-acústics amb referència NOTIFIER i model BRR. Inclou el petit material auxiliars, qualsevol mitjà d'elevació necessari per a la instal·lació de l'element i la retirada del material sanejat. Totalment instal·lat i en servei. | D14: =D13 -> #REF! | E14: 0 | F14: 21 | G14: =E14*F14 -> 0
B15: SIN-021 | C15: Subministrament, instal·lació, connexionat i posada en servei de sistema de detecció de fum per aspiració amb referència NOTIFIER i model FAAST FLEX - FLX 10 o refrència PROTECT i model PROPOINTPLUS. L'equip inclou 1 detector làser d'alta sensibilitat, un sensor de flux per ultrasò i electrònica protegida, filtre extern per a l'entrada del tub d'aspiració i dos mòduls d'entrada per a monitoritzar l'alarma i l'avaria del detector. Inclou el petit material auxiliars, qualsevol mitjà d'elevació necessari per a la instal·lació de l'element i la retirada del material sanejat. Totalment instal·lat i en servei. | D15: =#REF! -> #REF! | E15: 35 | F15: 2063 | G15: =E15*F15 -> 72205
B16: SIN-022 | C16: Subministrament, instal·lació, connexionat i posada en servei de font d'alimentació de 130W commutada de 24Vcc controlada per microprocessador amb referència NOTIFIER i model HLS PS50. Es compon de font d'alimentació, circuit de control / senyalització i cabina metàl·lica amb capacitat per a albergar bateries de fins a 17Ah. Inclou el petit material auxiliars, qualsevol mitjà d'elevació necessari per a la instal·lació de l'element i la retirada del material sanejat. Totalment instal·lat i en servei. | D16: =#REF! -> #REF! | E16: 9 | F16: 417 | G16: =E16*F16 -> 3753
B17: SIN-023 | C17: Subministrament, instal·lació, connexionat i posada en servei de bateria de 12V amb referència YUASA i model PS1217. Capacitat 18Ah. Connexió per terminal faston. Inclou el petit material auxiliars, qualsevol mitjà d'elevació necessari per a la instal·lació de l'element i la retirada del material sanejat. Totalment instal·lat i en servei. | D17: =D16*2 -> #REF! | E17: 18 | F17: 102 | G17: =E17*F17 -> 1836
B18: SIN-024 | C18: Subministrament i instal·lació de conductor tipus afumex o similar (RZ1K-AS), 0,6/1kv, 3g, 2'5mm2 per a la línia d'alimentació d'equips de PCI. La línia s'estendrà per interior de fals sostre existent i per canalització existent o sota tub corrugat en cas de no existència d'aquesta. S'inclou la connexió a la protecció de capçalera, en horari fora de l'horari laboral del dispensari i el petit material per tal de deixar-lo en funcionament, identificat i connectat amb les càrregues. Totalment instal·lat i en servei. | D18: =#REF! -> #REF! | E18: 900 | F18: 7 | G18: =E18*F18 -> 6300
B19: SIN-025 | C19: Subministrament i instal·lació de cable 2 x 2,5 mm² amb pantalla d'alumini i coberta de poliolefina, format per dos conductors (vermell/negre) de coure polit rígid de 2,5mm², apantallat al conjunt en alumini / polièster i amb coberta exterior de poliolefina resistent al foc (UNE50200) no propagador del foc (UNE50265-1-2) y no propagador del incendi (UNE50266), amb baixa emissió de fums (ls) (>60%) y lliure d'halògens (hf) (<0,5%) de color vermell. Diàmetre exterior de ø 8,5 mm. Inclosos elements de subjecció i mitjans mecànics d'elevació. Tot segons memòria, plànols i normativa vigent, totalment instal·lat i funcionant. | D19: =#REF! -> #REF! | E19: 1350 | F19: 7.89 | G19: =E19*F19 -> 10651.5
B20: SIN-026 | C20: Subministrament i instal·lació de tub rígid d'acer galvanitzat, de 20 mm de diàmetre nominal, resistència a l'impacte de 20 j, resistència a compressió de 4000 n, amb unió endollada i muntat superficialment. inclosos muntatge, accessoris tals com ràcords de connexió i grapes amb tirafondo tipus apolo . Inclosos elements de subjecció i mitjans mecànics d'elevació. Tot segons memòria, plànols i normativa vigent, totalment instal·lat i funcionant. | D20: =#REF! -> #REF! | E20: 900 | F20: 12 | G20: =E20*F20 -> 10800
B21: SIN-027 | C21: Subministrament i instal·lació de tub flexible corrugat de poliamida, de 20 mm de diàmetre nominal, lliure d'halògens i no propagador de flama, per fer passar cable de senyal per safata de cables de potència. Inclosos elements de subjecció i mitjans mecànics d'elevació., i petit material. Tot segons plànols, memòria i normativa vigent. | D21: 500 | E21: 0 | F21: 12 | G21: =E21*F21 -> 0
B22: SIN-028 | C22: Subministrament i instal·lació de tub per a conducte d'aspiració amb diàmetre exterior de 25mm i interior de 21mm i material ABS (acrilonitril-butadiè-estirè), lliure d'halògens i de material ignífug. Totalment instal·lat i en servei. | D22: =#REF! -> #REF! | E22: 700 | F22: 18.7 | G22: =E22*F22 -> 13090
B23: SIN-029 | C23: Subministrament i instal·lació de caixa de derivació quadrada de planxa d'acer, de 130x130 mm, amb tapa amb grau de protecció normal, i mecanitzada amb bornes wago muntada superficialment en altura, inclosos mitjans mecànics d'elevació. tot segons memòria plànols i normativa vigent. Totalment instal·lat i en servei. | D23: =#REF! -> #REF! | E23: 18 | F23: 45 | G23: =E23*F23 -> 810
B24: SIN-030 | C24: Integració del nous elements / instal•lacions al telecomandament de PCI. Consta de les següents intervencions: 1. Trabajos previos - Configuración centralita ZITON 2. Trabajos en entorno de desarrollo ("batidora") - Vigiplus: parametrización de elementos en sistema grafico en planimetría actual. - Validación de la integridad de la configuración de centralita y puesto central con las herramientas de gestión - Generación de protocolo de pruebas - Verificación de planos: verificar ubicación de elementos y plano de planta con Geoportal 3. Trabajos en entorno de producción Vigiplus - Realizar copia de seguridad del proyecto previa y posterior - Actualizar Vigiplus con la configuración validada en entorno de desarrollo - Volver a ejecutar las herramientas de verificación de la integridad en entorno de producción, de forma que la base de datos en producción quede actualizada. Pruebas y puesta en marcha sistema de detección de una sala tècnica - Se incluye 1/4 jornada para prueba con contratista y 1/4 jornada para entrega a TMB, SA - Vigiplus: prueba y puesta en marcha de elementos en sistema gráfico - Verificación de la documentación entregada por el instalador: planos, inventario de otros elementos (aisladores, fuentes…), protocolos de prueba firmados, certificado legal, configuración de centralita, isometricos y configuracón de aspiraciones. - Actualización de inventario para SAP | D24: 1 | E24: 120 | F24: 125 | G24: =E24*F24 -> 15000
B25: SIN-031 | C25: Subministrament i instal·lació de caixa per a carril DIN amb 1 punt de dades amb connector RJ45 CAT6, tipus DATWYLER IP20 o similar. Inclou totes les connexions de cablejat i tot el petit material necessària per a la seva instal·lació. Totalment instal·lat i en servei. | D25: 50 | E25: 0 | F25: 90 | G25: =E25*F25 -> 0
B26: SIN-032 | C26: Subministrament i instal·lació de mòdul RJ45 KS-T Plus 1/8 CAT6 a instal·lar dins l’envolvent de la central d’incendis. . Inclou totes les connexions de cablejat i tot el petit material necessària per a la seva instal·lació. Totalment instal·lat i en servei. | D26: 50 | E26: 0 | F26: 10 | G26: =E26*F26 -> 0
B27: SIN-033 | C27: Subministrament i instal·lació en safata, tub o canal de cable de 4 parells fins a 90m de coure trenats 23AWG amb apantallament global i coberta lliure d’halògens, resistent al foc i baixa emissió de fums, tipus S/FTP i categoria 6A fins a 450MHz EIA/TIA 568, marca KERPEN i referència MEGALINE 623 o similar. Totalment instal·lat i connexionat amb finalització a caixa al lloc terminal i amb connectors RJ45. Inclou els 2 connectors dels extrems tipus KEYSTONE CAT6. Inclou el muntatge i desmuntatge de sostre fals en cas necessari. Totalment instal·lat i en servei. . Inclou totes les connexions de cablejat i tot el petit material necessària per a la seva instal·lació. Totalment instal·lat i en servei. | D27: 1000 | E27: 0 | F27: 5 | G27: =E27*F27 -> 0
B28: SIN-034 | C28: Tirantet de cable S/FTP CAT6 per a connexió des de la IBOX de la central d’incendis fins al mòdul RJ45. Totalment instal·lat i en servei. | D28: 50 | E28: 0 | F28: 15 | G28: =E28*F28 -> 0
B29: SIN-035 | C29: Tirantet de cable S/FTP CAT6 per a connexió des del switch al patch panel dins les Cambres de Comunicacions. Totalment instal·lat i en servei. | D29: 50 | E29: 0 | F29: 10 | G29: =E29*F29 -> 0
B30: SIN-036 | C30: Certificació punt de xarxa des de roseta (final) fins port del patch panel (inici). | D30: 50 | E30: 0 | F30: 30 | G30: =E30*F30 -> 0
B31: SIN-037 | C31: Partida alçada no modificable a justificar pel desmuntatge d'elements i sanejament de les instal.lacions de les instal.lacions existents de Protecció Contra Incendis, per l'anul.lació d'aquests elements del Telecomandament de PCI (VIGIPLUS) i pel sanejament dels materials de les instal.lacions associades als elements desmuntats. | E31: 0 | F31: 300 | G31: =E31*F31 -> 0
B32: SIN-038 | C32: Desmuntatge i posterior muntatge de qualsevol element de les escales mecàniques necessaria per a de poder facilitar els treballs de desmuntatge i sanejament de la instal.lació de detecció per aspiració existent i el posterior muntatge en fossars de detecció òptica puntual. | E32: 30 | F32: 650 | G32: =E32*F32 -> 19500
B33: SIN-039 | C33: Partida alçada a justificar de preu mínim no modificable per a la SEGURETAT i SALUT a l'obra, en base a l'Estudi Bàsic o Pla de Seguretat i Salut, per a la implantació i seguiment de les mesures de Seguretat i Salut a les obres abast del projecte. | D33: 1 | E33: 1 | F33: 1.5 | G33: =(SUM(G3:G30))*F33/100 -> 2184.6225
B34: SIN-040 | C34: Partida alçada a justificar per a CONTROL DE QUALITAT de qualsevol tipus i sobre qualsevol material d'obra de nova execució, a definir per la DO i FMB. | D34: 1 | E34: 1 | F34: 1 | G34: =(SUM(G3:G30))*F34/100 -> 1456.415
B35: SIN-041 | C35: Partida alçada a justificar per a GESTIÓ DE RESIDUS de qualsevol tipus i sobre qualsevol material d'obra de nova execució, a definir per la DO i FMB. | D35: 1 | E35: 1 | F35: 0.5 | G35: =(SUM(G3:G30))*F35/100 -> 728.2075
B36: SIN-042 | C36: Partida alçada no modificable d’abonament íntegre en concepte d'AS-BUILT. Inclou l'actualització de la documentació gràfica modificada; de la certificació dels punts xarxes de la connexió de les centrals; de les legalitzacions elèctriques davant l’administració i organisme competent que inclouen projecte visat, les inspeccions inicials, els certificats d’instal·lació i l’acreditació RASIC-RECI del instal·lador; els isomètrics del detectors d’aspiració; l’inventari d’equips de PCI desmuntats a les estacions afectades pel projecte; l’inventari dels equips muntats a les estacions afectades pel projecte; certificats d’instal·lació on ha de constar la informació de l’estació, l’abast de l’actuació, número del registre de la instal·lació (RITSIC), la relació d’equips instal·lats, la seva direcció a la central i el seu número de sèrie; els registres generats pel multímetre POL-200-TS i imatges dels valors mesurats i, qualsevol altra documentació tècnica final d’obra que es generi de les instal·lacions realitzades. Aquesta partida s’abonarà al disposar de tota la documentació sense dret a abonaments parcials. | D36: 1 | E36: 1 | F36: 3 | G36: =(SUM(G3:G30))*F36/100 -> 4369.245

Sheet LINIA_3
B2: CODI | C2: DESCRIPCIÓ | D2: AMIDAMENT | E2: AMIDAMENT | F2: PREU | G2: PREU TOTAL
B3: SIN-009 | C3: Subministrament, instal·lació, connexionat i posada en servei de central d'incendis modular amb referència NOTIFIER i model ID3000 de 4 llaços, microprocessada analògica i algorítmica per a la detecció i alarma d'incendi que monitoritza i controla individualment els elements del sistema. Amb certificat CPD EN54 part 2 i 4. Disposa de targetes de llaç microprocessades que permeten treballar en mode degradat, sobrepassant els requisits de la norma EN54, 4 circuits de sortida configurables i programables, 2 sortides de 24 Vcc per alimentar equips externs, 2 circuits d'entrada programables i 255 zones. Cada llaç pot controlar un màxim de 99 detectors analògics intel·ligents, més 99 mòduls monitors (entrada) o de control (sortida), fins a un total de 198 punts identificables individualment per llaç. Inclou aïlladors de llaç a l'entrada i sortida de cablejat de el llaç. Pot alimentar sirenes i detectors de raig a través del propi llaç SLC (segons especificacions). Disposa de pantalla gràfica de cristall líquid LCD de 240 x 64 píxels (6 línies de 40 caràcters alfanumèrics), teclat de membrana protegit amb clau d'accés a tecles de control i funcions i leds per a la visualització de l'estat de el sistema. Hi ha diferents formats i mides de cabines amb fonts d'alimentació de 3 a 7 A, per poder complir, en tot moment, els requisits de la norma EN54-14 quant a capacitat i autonomia de el sistema es refereix. Capacitat per albergar bateries segons cabina: ref 020-472-009, 2 x 12Vcc. 12Ah. i ref 020-474-009, 2 x 12Vcc. 26 Ah. Alimentació: 230V, 50Hz. Consum de corrent: 1,6A. Màxima corrent de sortida a alarma: 3A. Sortida de font auxiliar: 26 - 28Vcc / 150mA. Sortida de llaç analògic: 22,5 - 26,4Vcc / 0,5A (consulteu el programa de càlcul de bateries i de llaç). Contactes de relé: 30V / 1A. Dimensions en mm (cabina estàndard d): 500 (ample) x 400 (alt) x 153 (fons). Inclou el petit material auxiliars, qualsevol mitjà d'elevació necessari per a la instal·lació de l'element i la retirada del material sanejat. La central s'haurà de dotar de polsador d'evacuació. Totalment instal·lat i en servei. NOTA.- Si abans de l’execució d’aquesta partida NOTIFIER ha comercialitzat el model INSPIRE, substituta del model ID3000, s’haurà d’instal.lar aquesta. | D3: =SUM(#REF!) -> #REF! | E3: 13 | F3: 8883 | G3: =E3*F3 -> 115479
B4: SIN-010 | C4: Bateries de 12V i capacitat de 24Ah amb referència NOTIFIER i model PS-1224. Es requereixen 2 unitat per central. Inclou el petit material auxiliars, qualsevol mitjà d'elevació necessari per a la instal·lació de l'element i la retirada del material sanejat. Totalment instal·lat i en servei. | D4: =D3*2 -> #REF! | E4: 26 | F4: 139 | G4: =E4*F4 -> 3614
B5: SIN-011 | C5: Subministrament, instal·lació, connexionat i posada en servei d'ampliació a 4 llaços de central d'incendis modular amb referència NOTIFIER i model ID3000. Inclou el petit material auxiliars, qualsevol mitjà d'elevació necessari per a la instal·lació de l'element i la retirada del material sanejat. Totalment instal·lat i en servei. | D5: 3 | E5: 2 | F5: 969 | G5: =E5*F5 -> 1938
B6: SIN-012 | C6: Subministrament, instal·lació, connexionat i posada en servei de passarel·la de comunicacions (Gateway) amb referència NOTIFIER i model IBOX-MBS-NID3K, que converteix el protocol de les centrals sèrie ID en l'estàndard Modbus Server per comunicar-se via RS232 o RS485 amb equips Modbus RTU o via Ethernet a través d'RJ45 a Modbus TCP. Permet monitoritzar una única central amb 8 llaços i 99 sensors + 99 mòduls i 255 zones. Inclou el petit material auxiliars, qualsevol mitjà d'elevació necessari per a la instal·lació de l'element i la retirada del material sanejat. Totalment instal·lat i en servei. | D6: =SUM(#REF!) -> #REF! | E6: 13 | F6: 2494 | G6: =E6*F6 -> 32422
B7: SIN-013 | C7: Subministrament, instal·lació, connexionat i posada en servei de detector òptic de fum amb aïllador incorporat, amb referència NOTIFIER i model NFXI-OPT. Detecció analògica amb algoritmes de processament de la senyals captats pel detector. Ideal per focs d'evolució lenta, amb partícules de fum visibles. Incorpora funcions de test manual i automàtic i adreçament manual (01-159). Disposa de dos leds per a la indicació d'alarma i sortida per a indicador remot. Inclou el petit material auxiliars, qualsevol mitjà d'elevació necessari per a la instal·lació de l'element i la retirada del material sanejat. Totalment instal·lat i en servei. | D7: =#REF! -> #REF! | E7: 354 | F7: 80 | G7: =E7*F7 -> 28320
B8: SIN-014 | C8: Subministrament, instal·lació, connexionat i posada en servei de detector tèrmic de temperatura fixa 58ºC analògic amb aïllador incorporat, amb referència NOTIFIER i model NFXI-TFIX58. Recomanat per a la detecció d'incendis en ambients on hi ha canvis bruscos de temperatura en certs períodes de temps. Incorpora funcions de test manual i automàtic i adreçament (01-159). Disposa de dos leds per a la indicació d'alarma i sortida per a indicador remot. Inclou el petit material auxiliars, qualsevol mitjà d'elevació necessari per a la instal·lació de l'element i la retirada del material sanejat. Totalment instal·lat i en servei. | D8: =#REF! -> #REF! | E8: 28 | F8: 86 | G8: =E8*F8 -> 2408
B9: SIN-015 | C9: Subministrament, instal·lació, connexionat i posada en servei de base estàndard de superfície per a detectors analògics de la sèrie NFX, inclou un terminal extra per connexionats dels sensors de la sèrie NFX amb aïllador referència NOTIFIER i model B501AP. Disposa d'automatisme de bloqueig i terminals de connexió per a cable de fins a 2,5 mm. Compatible amb sensors de la sèrie 500, 700 i NFX. Inclou el petit material auxiliars, qualsevol mitjà d'elevació necessari per a la instal·lació de l'element i la retirada del material sanejat. Totalment instal·lat i en servei. | D9: 543 | E9: 382 | F9: 15.8 | G9: =E9*F9 -> 6035.6
B10: SIN-016 | C10: Polsador d'alarma direccionable de 01 a 159, recarregable i amb aïllador de curtcircuits incorporat amb referència NOTIFIER i model M700KAC. Inclou led d'estat, tapa de protecció contra trencament accidental i clau per a proves manuals. Inclou base model PS031W. Inclou el petit material auxiliars, qualsevol mitjà d'elevació necessari per a la instal·lació de l'element i la retirada del material sanejat. Totalment instal·lat i en servei. | D10: =#REF! -> #REF! | E10: 107 | F10: 73 | G10: =E10*F10 -> 7811
B11: SIN-017 | C11: Subministrament, instal·lació, connexionat i posada en servei de mòdul de sortida de control direccionable amb referència NOTIFIER i model M701 per a l'activació de sistemes de senyalització, portes, comportes tallafoc, solenoides, etc. Disposa de 1 circuit de sortida configurable, mitjançant microinterruptor, com a sortida supervisada amb RFL o en forma relé amb contactes lliures de tensió. Inclou el petit material auxiliars, qualsevol mitjà d'elevació necessari per a la instal·lació de l'element i la retirada del material sanejat. Totalment instal·lat i en servei. | D11: =#REF! -> #REF! | E11: 97 | F11: 133.8 | G11: =E11*F11 -> 12978.6
B12: SIN-018 | C12: Subministrament, instal·lació, connexionat i posada en servei de mòdul monitor direccionable amb 1 circuit d’entrada supervisat per a la monitorització d’equips d’alarma o senyals tècniques que disposen de contacte lliure de tensió amb referència NOTIFIER i model M710. Inclou el petit material auxiliars, qualsevol mitjà d'elevació necessari per a la instal·lació de l'element i la retirada del material sanejat. Totalment instal·lat i en servei. | D12: =#REF! -> #REF! | E12: 97 | F12: 90.8 | G12: =E12*F12 -> 8807.6
B13: SIN-019 | C13: Subministrament, instal·lació, connexionat i posada en servei de sirena direccionable amb flash de transparent i aïllador incorporat amb referència NOTIFIER i model WRA-RC-I02. Inclou el petit material auxiliars, qualsevol mitjà d'elevació necessari per a la instal·lació de l'element i la retirada del material sanejat. Totalment instal·lat i en servei. | D13: =#REF! -> #REF! | E13: 24 | F13: 164 | G13: =E13*F13 -> 3936
B14: SIN-020 | C14: Zócal amb base alta vermella per a dispositius òptic-acústics amb referència NOTIFIER i model BRR. Inclou el petit material auxiliars, qualsevol mitjà d'elevació necessari per a la instal·lació de l'element i la retirada del material sanejat. Totalment instal·lat i en servei. | D14: =D13 -> #REF! | E14: 24 | F14: 21 | G14: =E14*F14 -> 504
B15: SIN-021 | C15: Subministrament, instal·lació, connexionat i posada en servei de sistema de detecció de fum per aspiració amb referència NOTIFIER i model FAAST FLEX - FLX 10 o refrència PROTECT i model PROPOINTPLUS. L'equip inclou 1 detector làser d'alta sensibilitat, un sensor de flux per ultrasò i electrònica protegida, filtre extern per a l'entrada del tub d'aspiració i dos mòduls d'entrada per a monitoritzar l'alarma i l'avaria del detector. Inclou el petit material auxiliars, qualsevol mitjà d'elevació necessari per a la instal·lació de l'element i la retirada del material sanejat. Totalment instal·lat i en servei. | D15: =#REF! -> #REF! | E15: 55 | F15: 2063 | G15: =E15*F15 -> 113465
B16: SIN-022 | C16: Subministrament, instal·lació, connexionat i posada en servei de font d'alimentació de 130W commutada de 24Vcc controlada per microprocessador amb referència NOTIFIER i model HLS PS50. Es compon de font d'alimentació, circuit de control / senyalització i cabina metàl·lica amb capacitat per a albergar bateries de fins a 17Ah. Inclou el petit material auxiliars, qualsevol mitjà d'elevació necessari per a la instal·lació de l'element i la retirada del material sanejat. Totalment instal·lat i en servei. | D16: =#REF! -> #REF! | E16: 20 | F16: 417 | G16: =E16*F16 -> 8340
B17: SIN-023 | C17: Subministrament, instal·lació, connexionat i posada en servei de bateria de 12V amb referència YUASA i model PS1217. Capacitat 18Ah. Connexió per terminal faston. Inclou el petit material auxiliars, qualsevol mitjà d'elevació necessari per a la instal·lació de l'element i la retirada del material sanejat. Totalment instal·lat i en servei. | D17: =D16*2 -> #REF! | E17: 40 | F17: 102 | G17: =E17*F17 -> 4080
B18: SIN-024 | C18: Subministrament i instal·lació de conductor tipus afumex o similar (RZ1K-AS), 0,6/1kv, 3g, 2'5mm2 per a la línia d'alimentació d'equips de PCI. La línia s'estendrà per interior de fals sostre existent i per canalització existent o sota tub corrugat en cas de no existència d'aquesta. S'inclou la connexió a la protecció de capçalera, en horari fora de l'horari laboral del dispensari i el petit material per tal de deixar-lo en funcionament, identificat i connectat amb les càrregues. Totalment instal·lat i en servei. | D18: =#REF! -> #REF! | E18: 1500 | F18: 7 | G18: =E18*F18 -> 10500
B19: SIN-025 | C19: Subministrament i instal·lació de cable 2 x 2,5 mm² amb pantalla d'alumini i coberta de poliolefina, format per dos conductors (vermell/negre) de coure polit rígid de 2,5mm², apantallat al conjunt en alumini / polièster i amb coberta exterior de poliolefina resistent al foc (UNE50200) no propagador del foc (UNE50265-1-2) y no propagador del incendi (UNE50266), amb baixa emissió de fums (ls) (>60%) y lliure d'halògens (hf) (<0,5%) de color vermell. Diàmetre exterior de ø 8,5 mm. Inclosos elements de subjecció i mitjans mecànics d'elevació. Tot segons memòria, plànols i normativa vigent, totalment instal·lat i funcionant. | D19: =#REF! -> #REF! | E19: 4335 | F19: 7.89 | G19: =E19*F19 -> 34203.15
B20: SIN-026 | C20: Subministrament i instal·lació de tub rígid d'acer galvanitzat, de 20 mm de diàmetre nominal, resistència a l'impacte de 20 j, resistència a compressió de 4000 n, amb unió endollada i muntat superficialment. inclosos muntatge, accessoris tals com ràcords de connexió i grapes amb tirafondo tipus apolo . Inclosos elements de subjecció i mitjans mecànics d'elevació. Tot segons memòria, plànols i normativa vigent, totalment instal·lat i funcionant. | D20: =#REF! -> #REF! | E20: 3320 | F20: 12 | G20: =E20*F20 -> 39840
B21: SIN-027 | C21: Subministrament i instal·lació de tub flexible corrugat de poliamida, de 20 mm de diàmetre nominal, lliure d'halògens i no propagador de flama, per fer passar cable de senyal per safata de cables de potència. Inclosos elements de subjecció i mitjans mecànics d'elevació., i petit material. Tot segons plànols, memòria i normativa vigent. | D21: 500 | E21: 500 | F21: 12 | G21: =E21*F21 -> 6000
B22: SIN-028 | C22: Subministrament i instal·lació de tub per a conducte d'aspiració amb diàmetre exterior de 25mm i interior de 21mm i material ABS (acrilonitril-butadiè-estirè), lliure d'halògens i de material ignífug. Totalment instal·lat i en servei. | D22: =#REF! -> #REF! | E22: 1057 | F22: 18.7 | G22: =E22*F22 -> 19765.9
B23: SIN-029 | C23: Subministrament i instal·lació de caixa de derivació quadrada de planxa d'acer, de 130x130 mm, amb tapa amb grau de protecció normal, i mecanitzada amb bornes wago muntada superficialment en altura, inclosos mitjans mecànics d'elevació. tot segons memòria plànols i normativa vigent. Totalment instal·lat i en servei. | D23: =#REF! -> #REF! | E23: 141 | F23: 45 | G23: =E23*F23 -> 6345
B24: SIN-030 | C24: Integració del nous elements / instal•lacions al telecomandament de PCI. Consta de les següents intervencions: 1. Trabajos previos - Configuración centralita ZITON 2. Trabajos en entorno de desarrollo ("batidora") - Vigiplus: parametrización de elementos en sistema grafico en planimetría actual. - Validación de la integridad de la configuración de centralita y puesto central con las herramientas de gestión - Generación de protocolo de pruebas - Verificación de planos: verificar ubicación de elementos y plano de planta con Geoportal 3. Trabajos en entorno de producción Vigiplus - Realizar copia de seguridad del proyecto previa y posterior - Actualizar Vigiplus con la configuración validada en entorno de desarrollo - Volver a ejecutar las herramientas de verificación de la integridad en entorno de producción, de forma que la base de datos en producción quede actualizada. Pruebas y puesta en marcha sistema de detección de una sala tècnica - Se incluye 1/4 jornada para prueba con contratista y 1/4 jornada para entrega a TMB, SA - Vigiplus: prueba y puesta en marcha de elementos en sistema gráfico - Verificación de la documentación entregada por el instalador: planos, inventario de otros elementos (aisladores, fuentes…), protocolos de prueba firmados, certificado legal, configuración de centralita, isometricos y configuracón de aspiraciones. - Actualización de inventario para SAP | D24: 1 | E24: 707 | F24: 125 | G24: =E24*F24 -> 88375
B25: SIN-031 | C25: Subministrament i instal·lació de caixa per a carril DIN amb 1 punt de dades amb connector RJ45 CAT6, tipus DATWYLER IP20 o similar. Inclou totes les connexions de cablejat i tot el petit material necessària per a la seva instal·lació. Totalment instal·lat i en servei. | D25: 50 | E25: 13 | F25: 90 | G25: =E25*F25 -> 1170
B26: SIN-032 | C26: Subministrament i instal·lació de mòdul RJ45 KS-T Plus 1/8 CAT6 a instal·lar dins l’envolvent de la central d’incendis. . Inclou totes les connexions de cablejat i tot el petit material necessària per a la seva instal·lació. Totalment instal·lat i en servei. | D26: 50 | E26: 13 | F26: 10 | G26: =E26*F26 -> 130
B27: SIN-033 | C27: Subministrament i instal·lació en safata, tub o canal de cable de 4 parells fins a 90m de coure trenats 23AWG amb apantallament global i coberta lliure d’halògens, resistent al foc i baixa emissió de fums, tipus S/FTP i categoria 6A fins a 450MHz EIA/TIA 568, marca KERPEN i referència MEGALINE 623 o similar. Totalment instal·lat i connexionat amb finalització a caixa al lloc terminal i amb connectors RJ45. Inclou els 2 connectors dels extrems tipus KEYSTONE CAT6. Inclou el muntatge i desmuntatge de sostre fals en cas necessari. Totalment instal·lat i en servei. . Inclou totes les connexions de cablejat i tot el petit material necessària per a la seva instal·lació. Totalment instal·lat i en servei. | D27: 1000 | E27: 250 | F27: 5 | G27: =E27*F27 -> 1250
B28: SIN-034 | C28: Tirantet de cable S/FTP CAT6 per a connexió des de la IBOX de la central d’incendis fins al mòdul RJ45. Totalment instal·lat i en servei. | D28: 50 | E28: 13 | F28: 15 | G28: =E28*F28 -> 195
B29: SIN-035 | C29: Tirantet de cable S/FTP CAT6 per a connexió des del switch al patch panel dins les Cambres de Comunicacions. Totalment instal·lat i en servei. | D29: 50 | E29: 13 | F29: 10 | G29: =E29*F29 -> 130
B30: SIN-036 | C30: Certificació punt de xarxa des de roseta (final) fins port del patch panel (inici). | D30: 50 | E30: 13 | F30: 30 | G30: =E30*F30 -> 390
B31: SIN-037 | C31: Partida alçada no modificable a justificar pel desmuntatge d'elements i sanejament de les instal.lacions de les instal.lacions existents de Protecció Contra Incendis, per l'anul.lació d'aquests elements del Telecomandament de PCI (VIGIPLUS) i pel sanejament dels materials de les instal.lacions associades als elements desmuntats. | E31: 44 | F31: 300 | G31: =E31*F31 -> 13200
B32: SIN-038 | C32: Desmuntatge i posterior muntatge de qualsevol element de les escales mecàniques necessaria per a de poder facilitar els treballs de desmuntatge i sanejament de la instal.lació de detecció per aspiració existent i el posterior muntatge en fossars de detecció òptica puntual. | E32: 39 | F32: 650 | G32: =E32*F32 -> 25350
B33: SIN-039 | C33: Partida alçada a justificar de preu mínim no modificable per a la SEGURETAT i SALUT a l'obra, en base a l'Estudi Bàsic o Pla de Seguretat i Salut, per a la implantació i seguiment de les mesures de Seguretat i Salut a les obres abast del projecte. | D33: 1 | E33: 1 | F33: 1.5 | G33: =(SUM(G3:G30))*F33/100 -> 8376.4928
B34: SIN-040 | C34: Partida alçada a justificar per a CONTROL DE QUALITAT de qualsevol tipus i sobre qualsevol material d'obra de nova execució, a definir per la DO i FMB. | D34: 1 | E34: 1 | F34: 1 | G34: =(SUM(G3:G30))*F34/100 -> 5584.3285
B35: SIN-041 | C35: Partida alçada a justificar per a GESTIÓ DE RESIDUS de qualsevol tipus i sobre qualsevol material d'obra de nova execució, a definir per la DO i FMB. | D35: 1 | E35: 1 | F35: 0.5 | G35: =(SUM(G3:G30))*F35/100 -> 2792.1643
B36: SIN-042 | C36: Partida alçada no modificable d’abonament íntegre en concepte d'AS-BUILT. Inclou l'actualització de la documentació gràfica modificada; de la certificació dels punts xarxes de la connexió de les centrals; de les legalitzacions elèctriques davant l’administració i organisme competent que inclouen projecte visat, les inspeccions inicials, els certificats d’instal·lació i l’acreditació RASIC-RECI del instal·lador; els isomètrics del detectors d’aspiració; l’inventari d’equips de PCI desmuntats a les estacions afectades pel projecte; l’inventari dels equips muntats a les estacions afectades pel projecte; certificats d’instal·lació on ha de constar la informació de l’estació, l’abast de l’actuació, número del registre de la instal·lació (RITSIC), la relació d’equips instal·lats, la seva direcció a la central i el seu número de sèrie; els registres generats pel multímetre POL-200-TS i imatges dels valors mesurats i, qualsevol altra documentació tècnica final d’obra que es generi de les instal·lacions realitzades. Aquesta partida s’abonarà al disposar de tota la documentació sense dret a abonaments parcials. | D36: 1 | E36: 1 | F36: 3 | G36: =(SUM(G3:G30))*F36/100 -> 16752.986

Sheet LINIA_4
B2: CODI | C2: DESCRIPCIÓ | D2: AMIDAMENT | E2: AMIDAMENT | F2: PREU | G2: PREU TOTAL
