Workbook

Sheet Introducció
B1: ANNEX II PRESENTACIÓ OFERTA CRITERIS AUTOMÀTICS CATEGORIA E
D3: Versió 4.0
E20: Llegenda
F21: En blanc | G21: Valors/dades indicades pel CTTI
F22: En blau | G22: Quadres d'introducció de dades a omplir pel licitador

Sheet 0.Dades del licitador
C5: Número expedient
C6: Categoria | D6: E
C7: Subcategoria | D7: No aplica
C8: Franja | D8: E2 (>300.000)
C9: Nom licitador
C10: CIF licitador

Sheet 1. Certificacions licitador ass
C7: Nom licitador | D7: ='0.Dades del licitador'!D9 -> 0
B10: 1. Certificacions licitador en assegurament de la qualitat
B13: Nº | C13: Certificacions | D13: Sí/No | E13: Qui l'expedeix | F13: URL de validació del certificat
B14: 1 | C14: ISO 9001
B15: 2 | C15: ISO20000

Sheet 2. Grau de partneship
C7: Nom licitador | D7: ='0.Dades del licitador'!D9 -> 0
B9: 2. Certificacions de Partnership amb els fabricants implicats.
C10: [Es cerca la importància que el licitador a nivell empresa li dona a la relació amb els fabricants per impulsar la formació dels seus empleats i enfortir la solvència dels projectes.] Es valorarà que l’empresa adjudicatària disposi de partnership vigent durant la durada del contracte amb els fabricants implicats en les solucions implantades al servei. S'haurà d'acreditar les certificacions que ho acreditin.
B12: Nº | C12: Fabricant | D12: SÍ / NO
B13: 1 | C13: Microsoft
B14: 2 | C14: BMC

Sheet 3. Certificacions equip treball
C6: Nom licitador | D6: ='0.Dades del licitador'!D9 -> 0
B8: 3. Certificacions de l’equip de treball en assegurament de la qualitat
C11: [Es cerca les certificacions individuals de l’equip de treball en àmbits de qualitat i de gestió de projectes] Es valorarà les certificacions individuals de l’equip de treball adscrit a l'execució del servei i no incloses en la solvència tècnica, fins a un màxim de 8 certificacions en total
B15: Nº | C15: Nom recurs adscrit al contracte (únicament inicials) | D15: Tipus de Certificació | E15: Quantitat de certificacions | F15: Qui l'expedeix | G15: URL de validació del certificat
B16: 1 | D16: AGILE
B17: 2 | D17: SCRUM
B18: 3 | D18: PMP
B19: 4 | D19: PRINCE 2
B20: 1 | D20: AGILE
B21: 2 | D21: SCRUM
B22: 3 | D22: PMP
B23: 4 | D23: PRINCE 2
B24: 1 | D24: AGILE
B25: 2 | D25: SCRUM
B26: 3 | D26: PMP
B27: 4 | D27: PRINCE 2
... B47: 4 | D47: PRINCE 2
D49: Sumatori | E49: =SUM(E16:E47) -> 0 | F49: =IF(E49>8,"Límit de certificacions superat"," ")
D50: TOTAL | E50: =MIN(E49,8) -> 0 | F50: Núm certificacions a incorporar a la valoració

Sheet 4. Certificacions equip adscrit
C7: Nom licitador | D7: ='0.Dades del licitador'!D9 -> 0
B9: 4. Certificacions tècniques equip adscrit al servei
C11: [Es cerca el grau de coneixements i especialització dels membres de l’equip tècnic en les tecnologies implicades a la licitació] Es valorarà les certificacions individuals de l’equip adscrit i no incloses en la solvència tècnica.fins a un màxim de 10 certificacions en total
B15: Nº | C15: Nom recurs adscrit al contracte (únicament inicials) | D15: Certificació | E15: Quantitat de certificacions | F15: Qui l'expedeix | G15: URL de validació del certificat
B16: 1 | D16: Microsoft Certified: Dynamics 365 Customer Experience Analyst Associate)
B17: 2 | D17: ITIL 4 Practitioner: Service Level Management (qualsevol versió)
B18: 3 | D18: Databricks o Azure Databricks del tipus Data Engineer (qualsevol versió)
B19: 4 | D19: BMC Certified: Helix ITSM 22.x for Administrators
B20: 5 | D20: BMC Certified: Helix Digital Workplace 23.x for Catalog Administrators
B21: 1 | D21: Microsoft Certified: Dynamics 365 Customer Experience Analyst Associate)
B22: 2 | D22: ITIL 4 Practitioner: Service Level Management (qualsevol versió)
B23: 3 | D23: Databricks o Azure Databricks del tipus Data Engineer (qualsevol versió)
B24: 4 | D24: BMC Certified: Helix ITSM 22.x for Administrators
B25: 5 | D25: BMC Certified: Helix Digital Workplace 23.x for Catalog Administrators
B26: 1 | D26: Microsoft Certified: Dynamics 365 Customer Experience Analyst Associate)
B27: 2 | D27: ITIL 4 Practitioner: Service Level Management (qualsevol versió)
... B45: 5 | D45: BMC Certified: Helix Digital Workplace 23.x for Catalog Administrators
D47: Sumatori | E47: =SUM(E16:E45) -> 0 | F47: =IF(E47>10,"Límit de certificacions superat"," ")
D48: TOTAL | E48: =MIN(E47,10) -> 0 | F48: Núm certificacions a incorporar a la valoració

Sheet 5. Formació de l'equip de treba
C6: Nom licitador | D6: ='0.Dades del licitador'!D9 -> 0
B8: 5. Formació de l'equip de treball
C10: [Es cerca la formació dels membres de l’equip tècnic en els àmbits necessaris per la licitació] Es valorarà la formació individual de l’equip de treball i no inclòs en la solvència tècnica. 500 hores en total
B12: Nº | C12: Nom recurs adscrit al contracte (únicament inicials) | D12: Formacions | E12: Hores | F12: Qui l'expedeix
B13: 1 | D13: PMP
B14: 2 | D14: Agile
B15: 3 | D15: BMC Helix
B16: 4 | D16: Microsoft Dynamics 365
B17: 5 | D17: ITIL 4 Specialist
B18: 1 | D18: PMP
B19: 2 | D19: Agile
B20: 3 | D20: BMC Helix
B21: 4 | D21: Microsoft Dynamics 365
B22: 5 | D22: ITIL 4 Specialist
B23: 1 | D23: PMP
B24: 2 | D24: Agile
... B52: 5 | D52: ITIL 4 Specialist
E55: Sumatori | F55: =SUM(E13:E52) -> 0 | G55: =IF(F55>500,"Límit hores superat"," ")
E56: TOTAL | F56: =MIN(F55,500) -> 0 | G56: Hores totals a incorporar valoració

Sheet 6. Suport de fabricants
B6: 7. Suport de fabricants
B7: Detall equip adscrit al contracte
C9: Nom licitador | D9: ='0.Dades del licitador'!D9 -> 0
C10: [Es cerca la millor qualitat de la solució lliurada per haver estat dissenyada amb la participació del propi fabricant.] Es valorarà la quantitat de jornades anual de suport de fabricatn qu tingui el licitador l i no inclòs en la solvència tècnica. 40 hores en total
B12: Nº | C12: Fabricant | D12: Jornades Anuals de 8 hores. (màxim 40 jornades en total)
B13: 1 | C13: BMC
B14: 2 | C14: Microsoft
C15: Sumatori | D15: =D13+D14 -> 0 | E15: =IF(D15>40,"Límit jornades superat"," ")
C16: TOTAL | D16: =MIN(D15,40) -> 0 | E16: Jornades totals a incorporar

Sheet 7. Nivell C de català
D8: Nom licitador | E8: ='0.Dades del licitador'!D9 -> 0
B9: 7.Nivell C de català Es valorarà el percentatge de certificacions de nivell C1 de català dels professionals adscrits al servei durant la vigència del contracte.
D10: Nivell C1 català | E10: Percentatge de certificacions
B11: S’atorgarà 2 punts si el percentatge de certificacions de nivell C1 de les persones assignades a l’execució del contracte és igual o superior al 75%. Altrament 0 punts | D11: Percentatge de certificacions

Sheet 8. Contractació Indefinida
D8: Nom licitador | E8: ='0.Dades del licitador'!D9 -> 0
B9: 8. Barem de contractació indefinida Es valorarà el percentatge de contractació indefinida dels professionals adscrits a l’equip de treball.
D10: Contractació indefinida | E10: Percentatge Recursos contractació indefinida
B11: S’atorgaran 2 punts si el percentatge de contractació indefinida de les persones assignades a l’execució del contracte és igual o superior al 70%. Altrament 0 punts | D11: Percentatge Contractació indefinida

Sheet 9. Mesures Igualtat de Gènere
D7: Nom licitador | E7: ='0.Dades del licitador'!D9 -> 0
B9: 9. Mesures d'igualtat de gènere Es valorarà el percentatge de dones adscrites a l’execució del contracte.
D10: Mesures d'igualtat de gènere | E10: Percentatge dones
B11: S’atorgaran 2 punts si el percentatge de dones de l’equip assignat a l’execució del contracte és igual o superior al 33%. | D11: Percentatge de dones adscrites a l’execució del contracte

Sheet 10. Oferta Econòmica
D7: Nom licitador | E7: ='0.Dades del licitador'!D9 -> 0
B9: 12. Oferta econòmica
D11: Preu màxim sense IVA | E11: Preu ofert sense IVA
B12: Servei de gestió operativa eines i projectes | D12: 4195704

Sheet Llistes
F2: 0 | H2: 0
B3: Sí | D3: Sí | F3: 0.05 | H3: 0.01
B4: No | D4: No | F4: 0.1 | H4: 0.02
F5: 0.15 | H5: 0.03
F6: 0.2 | H6: 0.04
F7: 0.25 | H7: 0.05
F8: 0.3 | H8: 0.06
F9: 0.35 | H9: 0.07
F10: 0.4 | H10: 0.08
F11: 0.45 | H11: 0.09
F12: 0.5 | H12: 0.1
F13: 0.55 | H13: 0.11
F14: 0.6 | H14: 0.12
F15: 0.65 | H15: 0.13
F16: 0.7 | H16: 0.14
... F22: 1 | H22: 0.2
H23: 0.21
H24: 0.22
H25: 0.23
H26: 0.24
H27: 0.25
H28: 0.26
H29: 0.27
H30: 0.28
H31: 0.29
H32: 0.3
H33: 0.31
H34: 0.32
... H102: 1
